BEGIN:VCALENDAR
VERSION:2.0
PRODID:-//Blue Marlin Seafood - ECPv6.15.11//NONSGML v1.0//EN
CALSCALE:GREGORIAN
METHOD:PUBLISH
X-WR-CALNAME:Blue Marlin Seafood
X-ORIGINAL-URL:https://bluemarlinami.com
X-WR-CALDESC:Events for Blue Marlin Seafood
REFRESH-INTERVAL;VALUE=DURATION:PT1H
X-Robots-Tag:noindex
X-PUBLISHED-TTL:PT1H
BEGIN:VTIMEZONE
TZID:America/New_York
BEGIN:DAYLIGHT
TZOFFSETFROM:-0500
TZOFFSETTO:-0400
TZNAME:EDT
DTSTART:20240310T070000
END:DAYLIGHT
BEGIN:STANDARD
TZOFFSETFROM:-0400
TZOFFSETTO:-0500
TZNAME:EST
DTSTART:20241103T060000
END:STANDARD
BEGIN:DAYLIGHT
TZOFFSETFROM:-0500
TZOFFSETTO:-0400
TZNAME:EDT
DTSTART:20250309T070000
END:DAYLIGHT
BEGIN:STANDARD
TZOFFSETFROM:-0400
TZOFFSETTO:-0500
TZNAME:EST
DTSTART:20251102T060000
END:STANDARD
BEGIN:DAYLIGHT
TZOFFSETFROM:-0500
TZOFFSETTO:-0400
TZNAME:EDT
DTSTART:20260308T070000
END:DAYLIGHT
BEGIN:STANDARD
TZOFFSETFROM:-0400
TZOFFSETTO:-0500
TZNAME:EST
DTSTART:20261101T060000
END:STANDARD
BEGIN:DAYLIGHT
TZOFFSETFROM:-0500
TZOFFSETTO:-0400
TZNAME:EDT
DTSTART:20270314T070000
END:DAYLIGHT
BEGIN:STANDARD
TZOFFSETFROM:-0400
TZOFFSETTO:-0500
TZNAME:EST
DTSTART:20271107T060000
END:STANDARD
END:VTIMEZONE
BEGIN:VEVENT
DTSTART;TZID=America/New_York:20260418T190000
DTEND;TZID=America/New_York:20260418T220000
DTSTAMP:20260419T150407
CREATED:20260401T210724Z
LAST-MODIFIED:20260401T210724Z
UID:3091-1776538800-1776549600@bluemarlinami.com
SUMMARY:TREVOR BYSTROM
DESCRIPTION:
URL:https://bluemarlinami.com/live-music/trevor-bystrom-48/
CATEGORIES:Live Music
ATTACH;FMTTYPE=image/jpeg:https://bluemarlinami.com/wp-content/uploads/2019/08/TREVOR.jpg
END:VEVENT
BEGIN:VEVENT
DTSTART;TZID=America/New_York:20260411T183000
DTEND;TZID=America/New_York:20260411T213000
DTSTAMP:20260419T150407
CREATED:20260401T210445Z
LAST-MODIFIED:20260401T210445Z
UID:3085-1775932200-1775943000@bluemarlinami.com
SUMMARY:SCOTT MAC
DESCRIPTION:
URL:https://bluemarlinami.com/live-music/scott-mac-3/
CATEGORIES:Live Music
END:VEVENT
BEGIN:VEVENT
DTSTART;TZID=America/New_York:20260410T183000
DTEND;TZID=America/New_York:20260410T213000
DTSTAMP:20260419T150407
CREATED:20260401T210640Z
LAST-MODIFIED:20260401T210640Z
UID:3089-1775845800-1775856600@bluemarlinami.com
SUMMARY:ALBERT DONADI
DESCRIPTION:ROCK
URL:https://bluemarlinami.com/live-music/albert-donadi-44/
CATEGORIES:Live Music
ATTACH;FMTTYPE=image/jpeg:https://bluemarlinami.com/wp-content/uploads/2019/08/donati.jpg
END:VEVENT
BEGIN:VEVENT
DTSTART;TZID=America/New_York:20260409T183000
DTEND;TZID=America/New_York:20260409T213000
DTSTAMP:20260419T150407
CREATED:20260401T205403Z
LAST-MODIFIED:20260401T210001Z
UID:3074-1775759400-1775770200@bluemarlinami.com
SUMMARY:NORTH TRAIL TRIO
DESCRIPTION:Traditional and Contemporary Jazz
URL:https://bluemarlinami.com/live-music/north-trail-trio-4/
CATEGORIES:Live Music
ATTACH;FMTTYPE=image/jpeg:https://bluemarlinami.com/wp-content/uploads/2026/04/IMG_9105.jpg
END:VEVENT
BEGIN:VEVENT
DTSTART;TZID=America/New_York:20260404T183000
DTEND;TZID=America/New_York:20260404T213000
DTSTAMP:20260419T150407
CREATED:20260401T210400Z
LAST-MODIFIED:20260401T210400Z
UID:3083-1775327400-1775338200@bluemarlinami.com
SUMMARY:SCOTT MAC
DESCRIPTION:
URL:https://bluemarlinami.com/live-music/scott-mac-2/
CATEGORIES:Live Music
END:VEVENT
BEGIN:VEVENT
DTSTART;TZID=America/New_York:20260403T183000
DTEND;TZID=America/New_York:20260403T213000
DTSTAMP:20260419T150407
CREATED:20260401T205803Z
LAST-MODIFIED:20260401T205803Z
UID:3080-1775241000-1775251800@bluemarlinami.com
SUMMARY:BLUEGRASS
DESCRIPTION:BLUEGRASS
URL:https://bluemarlinami.com/live-music/bluegrass/
CATEGORIES:Live Music
END:VEVENT
BEGIN:VEVENT
DTSTART;TZID=America/New_York:20260402T183000
DTEND;TZID=America/New_York:20260402T213000
DTSTAMP:20260419T150407
CREATED:20260401T205254Z
LAST-MODIFIED:20260401T210028Z
UID:3072-1775154600-1775165400@bluemarlinami.com
SUMMARY:NORTH TRAIL TRIO
DESCRIPTION:Traditional and Contemporary Jazz
URL:https://bluemarlinami.com/live-music/north-trail-trio-3/
CATEGORIES:Live Music
ATTACH;FMTTYPE=image/jpeg:https://bluemarlinami.com/wp-content/uploads/2026/04/IMG_9105.jpg
END:VEVENT
BEGIN:VEVENT
DTSTART;TZID=America/New_York:20260328T173000
DTEND;TZID=America/New_York:20260328T203000
DTSTAMP:20260419T150407
CREATED:20260108T212605Z
LAST-MODIFIED:20260108T212605Z
UID:3040-1774719000-1774729800@bluemarlinami.com
SUMMARY:MATT FROST
DESCRIPTION:
URL:https://bluemarlinami.com/live-music/matt-frost-9/
LOCATION:Blue Marlin\, 121 Historic Bridge Street\, Bradenton Beach\, FL\, 34217
CATEGORIES:Live Music
ATTACH;FMTTYPE=image/webp:https://bluemarlinami.com/wp-content/uploads/2024/03/matt-frost.webp
END:VEVENT
BEGIN:VEVENT
DTSTART;TZID=America/New_York:20260320T173000
DTEND;TZID=America/New_York:20260320T203000
DTSTAMP:20260419T150407
CREATED:20260108T213411Z
LAST-MODIFIED:20260108T213500Z
UID:3049-1774027800-1774038600@bluemarlinami.com
SUMMARY:RJ HOWSON
DESCRIPTION:BLUESMAN\, SINGER\, GUITARIST\, SONGWRITER & RECORDING ARTIST
URL:https://bluemarlinami.com/live-music/rj-howson-2/
LOCATION:Blue Marlin\, 121 Historic Bridge Street\, Bradenton Beach\, FL\, 34217
CATEGORIES:Live Music
ATTACH;FMTTYPE=image/png:https://bluemarlinami.com/wp-content/uploads/2026/01/Screenshot-2026-01-08-at-4.31.32-PM.png
END:VEVENT
BEGIN:VEVENT
DTSTART;TZID=America/New_York:20260314T173000
DTEND;TZID=America/New_York:20260314T203000
DTSTAMP:20260419T150407
CREATED:20260108T212537Z
LAST-MODIFIED:20260108T212537Z
UID:3038-1773509400-1773520200@bluemarlinami.com
SUMMARY:MATT FROST
DESCRIPTION:
URL:https://bluemarlinami.com/live-music/matt-frost-8/
LOCATION:Blue Marlin\, 121 Historic Bridge Street\, Bradenton Beach\, FL\, 34217
CATEGORIES:Live Music
ATTACH;FMTTYPE=image/webp:https://bluemarlinami.com/wp-content/uploads/2024/03/matt-frost.webp
END:VEVENT
BEGIN:VEVENT
DTSTART;TZID=America/New_York:20260306T183000
DTEND;TZID=America/New_York:20260306T213000
DTSTAMP:20260419T150407
CREATED:20260108T211409Z
LAST-MODIFIED:20260108T211409Z
UID:3020-1772821800-1772832600@bluemarlinami.com
SUMMARY:SYCAMORE SHADE
DESCRIPTION:BLUEGRASS
URL:https://bluemarlinami.com/live-music/sycamore-shade-33/
CATEGORIES:Live Music
ATTACH;FMTTYPE=image/jpeg:https://bluemarlinami.com/wp-content/uploads/2021/02/SYCAMORE-SHADE.jpg
END:VEVENT
BEGIN:VEVENT
DTSTART;TZID=America/New_York:20260228T173000
DTEND;TZID=America/New_York:20260228T203000
DTSTAMP:20260419T150407
CREATED:20260108T212443Z
LAST-MODIFIED:20260108T212443Z
UID:3036-1772299800-1772310600@bluemarlinami.com
SUMMARY:MATT FROST
DESCRIPTION:
URL:https://bluemarlinami.com/live-music/matt-frost-7/
LOCATION:Blue Marlin\, 121 Historic Bridge Street\, Bradenton Beach\, FL\, 34217
CATEGORIES:Live Music
ATTACH;FMTTYPE=image/webp:https://bluemarlinami.com/wp-content/uploads/2024/03/matt-frost.webp
END:VEVENT
BEGIN:VEVENT
DTSTART;TZID=America/New_York:20260221T190000
DTEND;TZID=America/New_York:20260221T220000
DTSTAMP:20260419T150407
CREATED:20260205T201307Z
LAST-MODIFIED:20260205T201307Z
UID:3054-1771700400-1771711200@bluemarlinami.com
SUMMARY:TREVOR BYSTROM
DESCRIPTION:
URL:https://bluemarlinami.com/live-music/trevor-bystrom-47/
CATEGORIES:Live Music
ATTACH;FMTTYPE=image/jpeg:https://bluemarlinami.com/wp-content/uploads/2019/08/TREVOR.jpg
END:VEVENT
BEGIN:VEVENT
DTSTART;TZID=America/New_York:20260220T173000
DTEND;TZID=America/New_York:20260220T203000
DTSTAMP:20260419T150407
CREATED:20260108T213328Z
LAST-MODIFIED:20260108T213328Z
UID:3046-1771608600-1771619400@bluemarlinami.com
SUMMARY:RJ HOWSON
DESCRIPTION:BLUESMAN\, SINGER\, GUITARIST\, SONGWRITER & RECORDING ARTIST
URL:https://bluemarlinami.com/live-music/rj-howson/
LOCATION:Blue Marlin\, 121 Historic Bridge Street\, Bradenton Beach\, FL\, 34217
CATEGORIES:Live Music
ATTACH;FMTTYPE=image/png:https://bluemarlinami.com/wp-content/uploads/2026/01/Screenshot-2026-01-08-at-4.31.32-PM.png
END:VEVENT
BEGIN:VEVENT
DTSTART;TZID=America/New_York:20260219T183000
DTEND;TZID=America/New_York:20260219T213000
DTSTAMP:20260419T150407
CREATED:20260108T213015Z
LAST-MODIFIED:20260108T213015Z
UID:3044-1771525800-1771536600@bluemarlinami.com
SUMMARY:NORTH TRAIL TRIO
DESCRIPTION:BLUEGRASS
URL:https://bluemarlinami.com/live-music/north-trail-trio-2/
CATEGORIES:Live Music
END:VEVENT
BEGIN:VEVENT
DTSTART;TZID=America/New_York:20260214T190000
DTEND;TZID=America/New_York:20260214T220000
DTSTAMP:20260419T150407
CREATED:20260205T201235Z
LAST-MODIFIED:20260205T201235Z
UID:3052-1771095600-1771106400@bluemarlinami.com
SUMMARY:TREVOR BYSTROM
DESCRIPTION:
URL:https://bluemarlinami.com/live-music/trevor-bystrom-46/
CATEGORIES:Live Music
ATTACH;FMTTYPE=image/jpeg:https://bluemarlinami.com/wp-content/uploads/2019/08/TREVOR.jpg
END:VEVENT
BEGIN:VEVENT
DTSTART;TZID=America/New_York:20260213T173000
DTEND;TZID=America/New_York:20260213T203000
DTSTAMP:20260419T150407
CREATED:20260108T212406Z
LAST-MODIFIED:20260108T212406Z
UID:3034-1771003800-1771014600@bluemarlinami.com
SUMMARY:MATT FROST
DESCRIPTION:
URL:https://bluemarlinami.com/live-music/matt-frost-6/
LOCATION:Blue Marlin\, 121 Historic Bridge Street\, Bradenton Beach\, FL\, 34217
CATEGORIES:Live Music
ATTACH;FMTTYPE=image/webp:https://bluemarlinami.com/wp-content/uploads/2024/03/matt-frost.webp
END:VEVENT
BEGIN:VEVENT
DTSTART;TZID=America/New_York:20260206T183000
DTEND;TZID=America/New_York:20260206T213000
DTSTAMP:20260419T150407
CREATED:20260108T211329Z
LAST-MODIFIED:20260108T211329Z
UID:3018-1770402600-1770413400@bluemarlinami.com
SUMMARY:SYCAMORE SHADE
DESCRIPTION:BLUEGRASS
URL:https://bluemarlinami.com/live-music/sycamore-shade-32/
CATEGORIES:Live Music
ATTACH;FMTTYPE=image/jpeg:https://bluemarlinami.com/wp-content/uploads/2021/02/SYCAMORE-SHADE.jpg
END:VEVENT
BEGIN:VEVENT
DTSTART;TZID=America/New_York:20260131T173000
DTEND;TZID=America/New_York:20260131T203000
DTSTAMP:20260419T150407
CREATED:20260108T212246Z
LAST-MODIFIED:20260108T212246Z
UID:3032-1769880600-1769891400@bluemarlinami.com
SUMMARY:MATT FROST
DESCRIPTION:
URL:https://bluemarlinami.com/live-music/matt-frost-5/
LOCATION:Blue Marlin\, 121 Historic Bridge Street\, Bradenton Beach\, FL\, 34217
CATEGORIES:Live Music
ATTACH;FMTTYPE=image/webp:https://bluemarlinami.com/wp-content/uploads/2024/03/matt-frost.webp
END:VEVENT
BEGIN:VEVENT
DTSTART;TZID=America/New_York:20260130T170000
DTEND;TZID=America/New_York:20260130T200000
DTSTAMP:20260419T150407
CREATED:20260108T212859Z
LAST-MODIFIED:20260108T212923Z
UID:3042-1769792400-1769803200@bluemarlinami.com
SUMMARY:BRIAN BROMAN
DESCRIPTION:
URL:https://bluemarlinami.com/live-music/brian-broman/
LOCATION:Blue Marlin\, 121 Historic Bridge Street\, Bradenton Beach\, FL\, 34217
CATEGORIES:Live Music
END:VEVENT
BEGIN:VEVENT
DTSTART;TZID=America/New_York:20260123T190000
DTEND;TZID=America/New_York:20260123T220000
DTSTAMP:20260419T150407
CREATED:20260108T211549Z
LAST-MODIFIED:20260108T211549Z
UID:3024-1769194800-1769205600@bluemarlinami.com
SUMMARY:TREVOR BYSTROM
DESCRIPTION:
URL:https://bluemarlinami.com/live-music/trevor-bystrom-45/
CATEGORIES:Live Music
ATTACH;FMTTYPE=image/jpeg:https://bluemarlinami.com/wp-content/uploads/2019/08/TREVOR.jpg
END:VEVENT
BEGIN:VEVENT
DTSTART;TZID=America/New_York:20260117T133000
DTEND;TZID=America/New_York:20260117T163000
DTSTAMP:20260419T150407
CREATED:20260108T212109Z
LAST-MODIFIED:20260108T212109Z
UID:3030-1768656600-1768667400@bluemarlinami.com
SUMMARY:MATT FROST
DESCRIPTION:
URL:https://bluemarlinami.com/live-music/matt-frost-4/
LOCATION:Blue Marlin\, 121 Historic Bridge Street\, Bradenton Beach\, FL\, 34217
CATEGORIES:Live Music
ATTACH;FMTTYPE=image/webp:https://bluemarlinami.com/wp-content/uploads/2024/03/matt-frost.webp
END:VEVENT
BEGIN:VEVENT
DTSTART;TZID=America/New_York:20260116T183000
DTEND;TZID=America/New_York:20260116T213000
DTSTAMP:20260419T150407
CREATED:20260108T212008Z
LAST-MODIFIED:20260108T212008Z
UID:3028-1768588200-1768599000@bluemarlinami.com
SUMMARY:NORTH TRAIL TRIO
DESCRIPTION:BLUEGRASS
URL:https://bluemarlinami.com/live-music/north-trail-trio/
CATEGORIES:Live Music
END:VEVENT
BEGIN:VEVENT
DTSTART;TZID=America/New_York:20260110T183000
DTEND;TZID=America/New_York:20260110T213000
DTSTAMP:20260419T150407
CREATED:20260108T211813Z
LAST-MODIFIED:20260108T211813Z
UID:3026-1768069800-1768080600@bluemarlinami.com
SUMMARY:SCOTT MAC
DESCRIPTION:
URL:https://bluemarlinami.com/live-music/scott-mac/
CATEGORIES:Live Music
END:VEVENT
BEGIN:VEVENT
DTSTART;TZID=America/New_York:20260109T190000
DTEND;TZID=America/New_York:20260109T220000
DTSTAMP:20260419T150407
CREATED:20260108T211507Z
LAST-MODIFIED:20260108T211507Z
UID:3022-1767985200-1767996000@bluemarlinami.com
SUMMARY:TREVOR BYSTROM
DESCRIPTION:
URL:https://bluemarlinami.com/live-music/trevor-bystrom-44/
CATEGORIES:Live Music
ATTACH;FMTTYPE=image/jpeg:https://bluemarlinami.com/wp-content/uploads/2019/08/TREVOR.jpg
END:VEVENT
BEGIN:VEVENT
DTSTART;TZID=America/New_York:20251205T183000
DTEND;TZID=America/New_York:20251205T213000
DTSTAMP:20260419T150407
CREATED:20251009T121126Z
LAST-MODIFIED:20251009T121126Z
UID:2984-1764959400-1764970200@bluemarlinami.com
SUMMARY:SYCAMORE SHADE
DESCRIPTION:BLUEGRASS
URL:https://bluemarlinami.com/live-music/sycamore-shade-31/
CATEGORIES:Live Music
ATTACH;FMTTYPE=image/jpeg:https://bluemarlinami.com/wp-content/uploads/2021/02/SYCAMORE-SHADE.jpg
END:VEVENT
BEGIN:VEVENT
DTSTART;TZID=America/New_York:20251107T183000
DTEND;TZID=America/New_York:20251107T213000
DTSTAMP:20260419T150407
CREATED:20251009T121102Z
LAST-MODIFIED:20251009T121102Z
UID:2982-1762540200-1762551000@bluemarlinami.com
SUMMARY:SYCAMORE SHADE
DESCRIPTION:BLUEGRASS
URL:https://bluemarlinami.com/live-music/sycamore-shade-30/
CATEGORIES:Live Music
ATTACH;FMTTYPE=image/jpeg:https://bluemarlinami.com/wp-content/uploads/2021/02/SYCAMORE-SHADE.jpg
END:VEVENT
BEGIN:VEVENT
DTSTART;TZID=America/New_York:20251018T183000
DTEND;TZID=America/New_York:20251018T213000
DTSTAMP:20260419T150407
CREATED:20251014T155031Z
LAST-MODIFIED:20251014T155031Z
UID:2990-1760812200-1760823000@bluemarlinami.com
SUMMARY:LUKE ANDREWS
DESCRIPTION:
URL:https://bluemarlinami.com/live-music/luke-andrews-9/
CATEGORIES:Live Music
ATTACH;FMTTYPE=image/jpeg:https://bluemarlinami.com/wp-content/uploads/2023/08/luke.jpg
END:VEVENT
BEGIN:VEVENT
DTSTART;TZID=America/New_York:20251017T183000
DTEND;TZID=America/New_York:20251017T213000
DTSTAMP:20260419T150407
CREATED:20251014T155230Z
LAST-MODIFIED:20251014T155230Z
UID:2992-1760725800-1760736600@bluemarlinami.com
SUMMARY:EDSEL
DESCRIPTION:
URL:https://bluemarlinami.com/live-music/edsel/
CATEGORIES:Live Music
END:VEVENT
BEGIN:VEVENT
DTSTART;TZID=America/New_York:20251011T190000
DTEND;TZID=America/New_York:20251011T220000
DTSTAMP:20260419T150407
CREATED:20251009T121309Z
LAST-MODIFIED:20251009T121309Z
UID:2988-1760209200-1760220000@bluemarlinami.com
SUMMARY:LUKE ANDREWS
DESCRIPTION:
URL:https://bluemarlinami.com/live-music/luke-andrews-8/
CATEGORIES:Live Music
ATTACH;FMTTYPE=image/jpeg:https://bluemarlinami.com/wp-content/uploads/2023/08/luke.jpg
END:VEVENT
END:VCALENDAR