BEGIN:VCALENDAR
VERSION:2.0
PRODID:-//Blue Marlin Seafood - ECPv6.15.11//NONSGML v1.0//EN
CALSCALE:GREGORIAN
METHOD:PUBLISH
X-WR-CALNAME:Blue Marlin Seafood
X-ORIGINAL-URL:https://bluemarlinami.com
X-WR-CALDESC:Events for Blue Marlin Seafood
REFRESH-INTERVAL;VALUE=DURATION:PT1H
X-Robots-Tag:noindex
X-PUBLISHED-TTL:PT1H
BEGIN:VTIMEZONE
TZID:America/New_York
BEGIN:DAYLIGHT
TZOFFSETFROM:-0500
TZOFFSETTO:-0400
TZNAME:EDT
DTSTART:20200308T070000
END:DAYLIGHT
BEGIN:STANDARD
TZOFFSETFROM:-0400
TZOFFSETTO:-0500
TZNAME:EST
DTSTART:20201101T060000
END:STANDARD
BEGIN:DAYLIGHT
TZOFFSETFROM:-0500
TZOFFSETTO:-0400
TZNAME:EDT
DTSTART:20210314T070000
END:DAYLIGHT
BEGIN:STANDARD
TZOFFSETFROM:-0400
TZOFFSETTO:-0500
TZNAME:EST
DTSTART:20211107T060000
END:STANDARD
BEGIN:DAYLIGHT
TZOFFSETFROM:-0500
TZOFFSETTO:-0400
TZNAME:EDT
DTSTART:20220313T070000
END:DAYLIGHT
BEGIN:STANDARD
TZOFFSETFROM:-0400
TZOFFSETTO:-0500
TZNAME:EST
DTSTART:20221106T060000
END:STANDARD
END:VTIMEZONE
BEGIN:VEVENT
DTSTART;TZID=America/New_York:20210807T190000
DTEND;TZID=America/New_York:20210807T220000
DTSTAMP:20260421T010108
CREATED:20210722T182228Z
LAST-MODIFIED:20210722T182253Z
UID:1907-1628362800-1628373600@bluemarlinami.com
SUMMARY:TREVOR BYSTROM
DESCRIPTION:
URL:https://bluemarlinami.com/live-music/trevor-bystrom-8-2-2-2-2-2-2-2-2-2-3-2-2-2-2-2-2-2-9-2-2-3-3-4-4-4-2-2-2-4-2-2/
CATEGORIES:Live Music
ATTACH;FMTTYPE=image/jpeg:https://bluemarlinami.com/wp-content/uploads/2019/08/TREVOR.jpg
END:VEVENT
BEGIN:VEVENT
DTSTART;TZID=America/New_York:20210806T190000
DTEND;TZID=America/New_York:20210806T220000
DTSTAMP:20260421T010108
CREATED:20210722T181906Z
LAST-MODIFIED:20210722T181906Z
UID:1905-1628276400-1628287200@bluemarlinami.com
SUMMARY:SYCAMORE SHADE
DESCRIPTION:BLUEGRASS
URL:https://bluemarlinami.com/live-music/sycamore-shade-7-2-3-2-3-2-2/
CATEGORIES:Live Music
ATTACH;FMTTYPE=image/jpeg:https://bluemarlinami.com/wp-content/uploads/2021/02/SYCAMORE-SHADE.jpg
END:VEVENT
BEGIN:VEVENT
DTSTART;TZID=America/New_York:20210731T190000
DTEND;TZID=America/New_York:20210731T220000
DTSTAMP:20260421T010108
CREATED:20210528T195749Z
LAST-MODIFIED:20210528T195749Z
UID:1870-1627758000-1627768800@bluemarlinami.com
SUMMARY:TREVOR BYSTROM
DESCRIPTION:
URL:https://bluemarlinami.com/live-music/trevor-bystrom-8-2-2-2-2-2-2-2-2-2-3-2-2-2-2-2-2-2-9-2-2-3-3-4-4-4-2-2-2-4-2/
CATEGORIES:Live Music
ATTACH;FMTTYPE=image/jpeg:https://bluemarlinami.com/wp-content/uploads/2019/08/TREVOR.jpg
END:VEVENT
BEGIN:VEVENT
DTSTART;TZID=America/New_York:20210730T190000
DTEND;TZID=America/New_York:20210730T220000
DTSTAMP:20260421T010108
CREATED:20210614T185802Z
LAST-MODIFIED:20210614T192945Z
UID:1892-1627671600-1627682400@bluemarlinami.com
SUMMARY:TAYLOR OPIE TRIO
DESCRIPTION:
URL:https://bluemarlinami.com/live-music/tom-sandy-doyle-2/
CATEGORIES:Live Music
END:VEVENT
BEGIN:VEVENT
DTSTART;TZID=America/New_York:20210724T080000
DTEND;TZID=America/New_York:20210724T170000
DTSTAMP:20260421T010108
CREATED:20210614T185908Z
LAST-MODIFIED:20210722T181317Z
UID:1894-1627113600-1627146000@bluemarlinami.com
SUMMARY:PANAMA DRIVE
DESCRIPTION:JAZZ
URL:https://bluemarlinami.com/live-music/keith-james/
CATEGORIES:Live Music
END:VEVENT
BEGIN:VEVENT
DTSTART;TZID=America/New_York:20210723T190000
DTEND;TZID=America/New_York:20210723T220000
DTSTAMP:20260421T010108
CREATED:20210614T185559Z
LAST-MODIFIED:20210614T185559Z
UID:1887-1627066800-1627077600@bluemarlinami.com
SUMMARY:THE DIVEBOMBERS
DESCRIPTION:
URL:https://bluemarlinami.com/live-music/the-divebombers-3-2-3-3-3-2-3-3/
CATEGORIES:Live Music
ATTACH;FMTTYPE=image/jpeg:https://bluemarlinami.com/wp-content/uploads/2019/12/DIVEBOMBERS.jpg
END:VEVENT
BEGIN:VEVENT
DTSTART;TZID=America/New_York:20210717T190000
DTEND;TZID=America/New_York:20210717T220000
DTSTAMP:20260421T010108
CREATED:20210528T200021Z
LAST-MODIFIED:20210528T200021Z
UID:1874-1626548400-1626559200@bluemarlinami.com
SUMMARY:TAYLOR OPIE
DESCRIPTION:
URL:https://bluemarlinami.com/live-music/taylor-opie-2-3-2-2-2-2-3-2-4-3/
CATEGORIES:Live Music
ATTACH;FMTTYPE=image/jpeg:https://bluemarlinami.com/wp-content/uploads/2019/08/IMG_0099-e1598644293175.jpg
END:VEVENT
BEGIN:VEVENT
DTSTART;TZID=America/New_York:20210716T190000
DTEND;TZID=America/New_York:20210716T220000
DTSTAMP:20260421T010108
CREATED:20210614T185703Z
LAST-MODIFIED:20210707T185723Z
UID:1890-1626462000-1626472800@bluemarlinami.com
SUMMARY:AL FULLER
DESCRIPTION:
URL:https://bluemarlinami.com/live-music/tom-sandy-doyle/
CATEGORIES:Live Music
END:VEVENT
BEGIN:VEVENT
DTSTART;TZID=America/New_York:20210710T190000
DTEND;TZID=America/New_York:20210710T220000
DTSTAMP:20260421T010108
CREATED:20210528T195716Z
LAST-MODIFIED:20210528T195716Z
UID:1867-1625943600-1625954400@bluemarlinami.com
SUMMARY:TREVOR BYSTROM
DESCRIPTION:
URL:https://bluemarlinami.com/live-music/trevor-bystrom-8-2-2-2-2-2-2-2-2-2-3-2-2-2-2-2-2-2-9-2-2-3-3-4-4-4-2-2-2-4/
CATEGORIES:Live Music
ATTACH;FMTTYPE=image/jpeg:https://bluemarlinami.com/wp-content/uploads/2019/08/TREVOR.jpg
END:VEVENT
BEGIN:VEVENT
DTSTART;TZID=America/New_York:20210709T190000
DTEND;TZID=America/New_York:20210709T220000
DTSTAMP:20260421T010108
CREATED:20210614T185534Z
LAST-MODIFIED:20210614T185534Z
UID:1886-1625857200-1625868000@bluemarlinami.com
SUMMARY:THE DIVEBOMBERS
DESCRIPTION:
URL:https://bluemarlinami.com/live-music/the-divebombers-3-2-3-3-3-2-3-2/
CATEGORIES:Live Music
ATTACH;FMTTYPE=image/jpeg:https://bluemarlinami.com/wp-content/uploads/2019/12/DIVEBOMBERS.jpg
END:VEVENT
BEGIN:VEVENT
DTSTART;TZID=America/New_York:20210708T190000
DTEND;TZID=America/New_York:20210708T220000
DTSTAMP:20260421T010108
CREATED:20210707T185755Z
LAST-MODIFIED:20210707T185755Z
UID:1898-1625770800-1625781600@bluemarlinami.com
SUMMARY:AL FULLER
DESCRIPTION:
URL:https://bluemarlinami.com/live-music/tom-sandy-doyle-3/
CATEGORIES:Live Music
END:VEVENT
BEGIN:VEVENT
DTSTART;TZID=America/New_York:20210703T190000
DTEND;TZID=America/New_York:20210703T220000
DTSTAMP:20260421T010108
CREATED:20210528T195651Z
LAST-MODIFIED:20210528T195651Z
UID:1866-1625338800-1625349600@bluemarlinami.com
SUMMARY:TREVOR BYSTROM
DESCRIPTION:
URL:https://bluemarlinami.com/live-music/trevor-bystrom-8-2-2-2-2-2-2-2-2-2-3-2-2-2-2-2-2-2-9-2-2-3-3-4-4-4-2-2-2-3/
CATEGORIES:Live Music
ATTACH;FMTTYPE=image/jpeg:https://bluemarlinami.com/wp-content/uploads/2019/08/TREVOR.jpg
END:VEVENT
BEGIN:VEVENT
DTSTART;TZID=America/New_York:20210702T190000
DTEND;TZID=America/New_York:20210702T220000
DTSTAMP:20260421T010108
CREATED:20210528T195527Z
LAST-MODIFIED:20210528T195527Z
UID:1864-1625252400-1625263200@bluemarlinami.com
SUMMARY:PAUL & IEVA CATALDO
DESCRIPTION:
URL:https://bluemarlinami.com/live-music/trevor-bystrom-8-2-2-2-2-2-2-2-2-2-3-2-2-2-2-2-2-2-5-2-3-2/
CATEGORIES:Live Music
END:VEVENT
BEGIN:VEVENT
DTSTART;TZID=America/New_York:20210626T190000
DTEND;TZID=America/New_York:20210626T220000
DTSTAMP:20260421T010108
CREATED:20210503T194201Z
LAST-MODIFIED:20210503T194201Z
UID:1802-1624734000-1624744800@bluemarlinami.com
SUMMARY:TREVOR BYSTROM
DESCRIPTION:
URL:https://bluemarlinami.com/live-music/trevor-bystrom-8-2-2-2-2-2-2-2-2-2-3-2-2-2-2-2-2-2-9-2-2-3-3-4-4-4-2-2-2/
CATEGORIES:Live Music
ATTACH;FMTTYPE=image/jpeg:https://bluemarlinami.com/wp-content/uploads/2019/08/TREVOR.jpg
END:VEVENT
BEGIN:VEVENT
DTSTART;TZID=America/New_York:20210625T190000
DTEND;TZID=America/New_York:20210625T220000
DTSTAMP:20260421T010108
CREATED:20210503T193927Z
LAST-MODIFIED:20210503T193927Z
UID:1792-1624647600-1624658400@bluemarlinami.com
SUMMARY:THE DIVEBOMBERS
DESCRIPTION:
URL:https://bluemarlinami.com/live-music/the-divebombers-3-2-3-3-3-2-3/
CATEGORIES:Live Music
ATTACH;FMTTYPE=image/jpeg:https://bluemarlinami.com/wp-content/uploads/2019/12/DIVEBOMBERS.jpg
END:VEVENT
BEGIN:VEVENT
DTSTART;TZID=America/New_York:20210619T190000
DTEND;TZID=America/New_York:20210619T220000
DTSTAMP:20260421T010108
CREATED:20210601T192549Z
LAST-MODIFIED:20210601T192550Z
UID:1880-1624129200-1624140000@bluemarlinami.com
SUMMARY:AL FULLER
DESCRIPTION:
URL:https://bluemarlinami.com/live-music/al-fuller-2/
CATEGORIES:Live Music
END:VEVENT
BEGIN:VEVENT
DTSTART;TZID=America/New_York:20210618T190000
DTEND;TZID=America/New_York:20210618T220000
DTSTAMP:20260421T010108
CREATED:20210609T200728Z
LAST-MODIFIED:20210609T200728Z
UID:1882-1624042800-1624053600@bluemarlinami.com
SUMMARY:PANAMA DRIVE
DESCRIPTION:JAZZ
URL:https://bluemarlinami.com/live-music/panama-drive-2-2-2/
CATEGORIES:Live Music
END:VEVENT
BEGIN:VEVENT
DTSTART;TZID=America/New_York:20210612T190000
DTEND;TZID=America/New_York:20210612T220000
DTSTAMP:20260421T010108
CREATED:20210503T194132Z
LAST-MODIFIED:20210503T194132Z
UID:1800-1623524400-1623535200@bluemarlinami.com
SUMMARY:TREVOR BYSTROM
DESCRIPTION:
URL:https://bluemarlinami.com/live-music/trevor-bystrom-8-2-2-2-2-2-2-2-2-2-3-2-2-2-2-2-2-2-9-2-2-3-3-4-4-4-2-2/
CATEGORIES:Live Music
ATTACH;FMTTYPE=image/jpeg:https://bluemarlinami.com/wp-content/uploads/2019/08/TREVOR.jpg
END:VEVENT
BEGIN:VEVENT
DTSTART;TZID=America/New_York:20210611T190000
DTEND;TZID=America/New_York:20210611T220000
DTSTAMP:20260421T010108
CREATED:20210503T193906Z
LAST-MODIFIED:20210503T193906Z
UID:1793-1623438000-1623448800@bluemarlinami.com
SUMMARY:THE DIVEBOMBERS
DESCRIPTION:
URL:https://bluemarlinami.com/live-music/the-divebombers-3-2-3-3-3-2-2/
CATEGORIES:Live Music
ATTACH;FMTTYPE=image/jpeg:https://bluemarlinami.com/wp-content/uploads/2019/12/DIVEBOMBERS.jpg
END:VEVENT
BEGIN:VEVENT
DTSTART;TZID=America/New_York:20210604T190000
DTEND;TZID=America/New_York:20210604T220000
DTSTAMP:20260421T010108
CREATED:20210503T193754Z
LAST-MODIFIED:20210503T193754Z
UID:1789-1622833200-1622844000@bluemarlinami.com
SUMMARY:SYCAMORE SHADE
DESCRIPTION:BLUEGRASS
URL:https://bluemarlinami.com/live-music/sycamore-shade-7-2-3-2-3-2/
CATEGORIES:Live Music
ATTACH;FMTTYPE=image/jpeg:https://bluemarlinami.com/wp-content/uploads/2021/02/SYCAMORE-SHADE.jpg
END:VEVENT
BEGIN:VEVENT
DTSTART;TZID=America/New_York:20210603T190000
DTEND;TZID=America/New_York:20210603T220000
DTSTAMP:20260421T010108
CREATED:20210503T193620Z
LAST-MODIFIED:20210503T193620Z
UID:1784-1622746800-1622757600@bluemarlinami.com
SUMMARY:TAYLOR OPIE
DESCRIPTION:
URL:https://bluemarlinami.com/live-music/taylor-opie-2-3-2-2-2-2-3-2-2/
CATEGORIES:Live Music
ATTACH;FMTTYPE=image/jpeg:https://bluemarlinami.com/wp-content/uploads/2019/08/IMG_0099-e1598644293175.jpg
END:VEVENT
BEGIN:VEVENT
DTSTART;TZID=America/New_York:20210602T180000
DTEND;TZID=America/New_York:20210602T210000
DTSTAMP:20260421T010108
CREATED:20210503T193450Z
LAST-MODIFIED:20210503T193450Z
UID:1778-1622656800-1622667600@bluemarlinami.com
SUMMARY:SAM WRIGHT
DESCRIPTION:
URL:https://bluemarlinami.com/live-music/sam-wright-2/
CATEGORIES:Live Music
END:VEVENT
BEGIN:VEVENT
DTSTART;TZID=America/New_York:20210601T190000
DTEND;TZID=America/New_York:20210601T220000
DTSTAMP:20260421T010108
CREATED:20210503T195808Z
LAST-MODIFIED:20210503T195808Z
UID:1815-1622574000-1622584800@bluemarlinami.com
SUMMARY:PANAMA DRIVE
DESCRIPTION:JAZZ
URL:https://bluemarlinami.com/live-music/panama-drive-2-2/
CATEGORIES:Live Music
END:VEVENT
BEGIN:VEVENT
DTSTART;TZID=America/New_York:20210529T190000
DTEND;TZID=America/New_York:20210529T220000
DTSTAMP:20260421T010108
CREATED:20210420T190147Z
LAST-MODIFIED:20210420T190147Z
UID:1763-1622314800-1622325600@bluemarlinami.com
SUMMARY:PANAMA DRIVE
DESCRIPTION:JAZZ
URL:https://bluemarlinami.com/live-music/panama-drive-2/
CATEGORIES:Live Music
END:VEVENT
BEGIN:VEVENT
DTSTART;TZID=America/New_York:20210528T190000
DTEND;TZID=America/New_York:20210528T220000
DTSTAMP:20260421T010108
CREATED:20210420T190518Z
LAST-MODIFIED:20210420T190518Z
UID:1768-1622228400-1622239200@bluemarlinami.com
SUMMARY:THE DIVEBOMBERS
DESCRIPTION:
URL:https://bluemarlinami.com/live-music/the-divebombers-3-2-3-3-3-3/
CATEGORIES:Live Music
ATTACH;FMTTYPE=image/jpeg:https://bluemarlinami.com/wp-content/uploads/2019/12/DIVEBOMBERS.jpg
END:VEVENT
BEGIN:VEVENT
DTSTART;TZID=America/New_York:20210527T190000
DTEND;TZID=America/New_York:20210527T220000
DTSTAMP:20260421T010108
CREATED:20210420T202936Z
LAST-MODIFIED:20210420T202936Z
UID:1775-1622142000-1622152800@bluemarlinami.com
SUMMARY:TREVOR BYSTROM
DESCRIPTION:
URL:https://bluemarlinami.com/live-music/trevor-bystrom-8-2-2-2-2-2-2-2-2-2-3-2-2-2-2-2-2-2-9-2-2-3-3-4-4-4-2/
CATEGORIES:Live Music
ATTACH;FMTTYPE=image/jpeg:https://bluemarlinami.com/wp-content/uploads/2019/08/TREVOR.jpg
END:VEVENT
BEGIN:VEVENT
DTSTART;TZID=America/New_York:20210526T190000
DTEND;TZID=America/New_York:20210526T220000
DTSTAMP:20260421T010108
CREATED:20210503T200145Z
LAST-MODIFIED:20210503T200146Z
UID:1823-1622055600-1622066400@bluemarlinami.com
SUMMARY:JUNA SERITA
DESCRIPTION:
URL:https://bluemarlinami.com/live-music/juna-serita/
CATEGORIES:Live Music
ATTACH;FMTTYPE=image/jpeg:https://bluemarlinami.com/wp-content/uploads/2021/05/JUNA-SERITA.jpg
END:VEVENT
BEGIN:VEVENT
DTSTART;TZID=America/New_York:20210522T190000
DTEND;TZID=America/New_York:20210522T220000
DTSTAMP:20260421T010108
CREATED:20210420T190743Z
LAST-MODIFIED:20210420T190744Z
UID:1773-1621710000-1621720800@bluemarlinami.com
SUMMARY:SAM WRIGHT
DESCRIPTION:
URL:https://bluemarlinami.com/live-music/sam-wright/
CATEGORIES:Live Music
END:VEVENT
BEGIN:VEVENT
DTSTART;TZID=America/New_York:20210521T190000
DTEND;TZID=America/New_York:20210521T220000
DTSTAMP:20260421T010108
CREATED:20210420T174330Z
LAST-MODIFIED:20210420T174330Z
UID:1758-1621623600-1621634400@bluemarlinami.com
SUMMARY:SYCAMORE SHADE
DESCRIPTION:BLUEGRASS
URL:https://bluemarlinami.com/live-music/sycamore-shade-7-2-3-2-3/
CATEGORIES:Live Music
ATTACH;FMTTYPE=image/jpeg:https://bluemarlinami.com/wp-content/uploads/2021/02/SYCAMORE-SHADE.jpg
END:VEVENT
BEGIN:VEVENT
DTSTART;TZID=America/New_York:20210520T190000
DTEND;TZID=America/New_York:20210520T220000
DTSTAMP:20260421T010108
CREATED:20210420T174113Z
LAST-MODIFIED:20210420T174113Z
UID:1754-1621537200-1621548000@bluemarlinami.com
SUMMARY:STOCKTON BROTHERS
DESCRIPTION:
URL:https://bluemarlinami.com/live-music/stockton-brothers-2-2-3-3/
CATEGORIES:Live Music
ATTACH;FMTTYPE=image/jpeg:https://bluemarlinami.com/wp-content/uploads/2021/02/STOCKTON-BROS.jpg
END:VEVENT
END:VCALENDAR