BEGIN:VCALENDAR
VERSION:2.0
PRODID:-//Blue Marlin Seafood - ECPv6.15.11//NONSGML v1.0//EN
CALSCALE:GREGORIAN
METHOD:PUBLISH
X-WR-CALNAME:Blue Marlin Seafood
X-ORIGINAL-URL:https://bluemarlinami.com
X-WR-CALDESC:Events for Blue Marlin Seafood
REFRESH-INTERVAL;VALUE=DURATION:PT1H
X-Robots-Tag:noindex
X-PUBLISHED-TTL:PT1H
BEGIN:VTIMEZONE
TZID:America/New_York
BEGIN:DAYLIGHT
TZOFFSETFROM:-0500
TZOFFSETTO:-0400
TZNAME:EDT
DTSTART:20220313T070000
END:DAYLIGHT
BEGIN:STANDARD
TZOFFSETFROM:-0400
TZOFFSETTO:-0500
TZNAME:EST
DTSTART:20221106T060000
END:STANDARD
BEGIN:DAYLIGHT
TZOFFSETFROM:-0500
TZOFFSETTO:-0400
TZNAME:EDT
DTSTART:20230312T070000
END:DAYLIGHT
BEGIN:STANDARD
TZOFFSETFROM:-0400
TZOFFSETTO:-0500
TZNAME:EST
DTSTART:20231105T060000
END:STANDARD
BEGIN:DAYLIGHT
TZOFFSETFROM:-0500
TZOFFSETTO:-0400
TZNAME:EDT
DTSTART:20240310T070000
END:DAYLIGHT
BEGIN:STANDARD
TZOFFSETFROM:-0400
TZOFFSETTO:-0500
TZNAME:EST
DTSTART:20241103T060000
END:STANDARD
END:VTIMEZONE
BEGIN:VEVENT
DTSTART;TZID=America/New_York:20230317T190000
DTEND;TZID=America/New_York:20230317T220000
DTSTAMP:20260419T184501
CREATED:20230314T193812Z
LAST-MODIFIED:20230314T193812Z
UID:2401-1679079600-1679090400@bluemarlinami.com
SUMMARY:TREVOR BYSTROM W/ ZION
DESCRIPTION:
URL:https://bluemarlinami.com/live-music/trevor-bystrom-w-zion/
CATEGORIES:Live Music
ATTACH;FMTTYPE=image/jpeg:https://bluemarlinami.com/wp-content/uploads/2019/08/TREVOR.jpg
END:VEVENT
BEGIN:VEVENT
DTSTART;TZID=America/New_York:20230316T190000
DTEND;TZID=America/New_York:20230316T220000
DTSTAMP:20260419T184501
CREATED:20230207T012110Z
LAST-MODIFIED:20230207T012110Z
UID:2348-1678993200-1679004000@bluemarlinami.com
SUMMARY:TREVOR BYSTROM
DESCRIPTION:
URL:https://bluemarlinami.com/live-music/trevor-bystrom-19/
CATEGORIES:Live Music
ATTACH;FMTTYPE=image/jpeg:https://bluemarlinami.com/wp-content/uploads/2019/08/TREVOR.jpg
END:VEVENT
BEGIN:VEVENT
DTSTART;TZID=America/New_York:20230311T190000
DTEND;TZID=America/New_York:20230311T220000
DTSTAMP:20260419T184501
CREATED:20230207T013010Z
LAST-MODIFIED:20230207T013010Z
UID:2361-1678561200-1678572000@bluemarlinami.com
SUMMARY:PANAMA DRIVE
DESCRIPTION:JAZZ
URL:https://bluemarlinami.com/live-music/panama-drive-9/
CATEGORIES:Live Music
ATTACH;FMTTYPE=image/jpeg:https://bluemarlinami.com/wp-content/uploads/2021/12/panama.jpg
END:VEVENT
BEGIN:VEVENT
DTSTART;TZID=America/New_York:20230310T190000
DTEND;TZID=America/New_York:20230310T220000
DTSTAMP:20260419T184501
CREATED:20230207T012814Z
LAST-MODIFIED:20230207T012814Z
UID:2358-1678474800-1678485600@bluemarlinami.com
SUMMARY:ALBERT DONADI
DESCRIPTION:ROCK
URL:https://bluemarlinami.com/live-music/albert-donadi-21/
CATEGORIES:Live Music
ATTACH;FMTTYPE=image/jpeg:https://bluemarlinami.com/wp-content/uploads/2019/08/donati.jpg
END:VEVENT
BEGIN:VEVENT
DTSTART;TZID=America/New_York:20230309T190000
DTEND;TZID=America/New_York:20230309T220000
DTSTAMP:20260419T184501
CREATED:20230207T011923Z
LAST-MODIFIED:20230207T011923Z
UID:2343-1678388400-1678399200@bluemarlinami.com
SUMMARY:TAYLOR OPIE
DESCRIPTION: 
URL:https://bluemarlinami.com/live-music/taylor-opie-8/
CATEGORIES:Live Music
ATTACH;FMTTYPE=image/webp:https://bluemarlinami.com/wp-content/uploads/2022/11/opie.webp
END:VEVENT
BEGIN:VEVENT
DTSTART;TZID=America/New_York:20230304T190000
DTEND;TZID=America/New_York:20230304T220000
DTSTAMP:20260419T184501
CREATED:20230207T012210Z
LAST-MODIFIED:20230207T012210Z
UID:2351-1677956400-1677967200@bluemarlinami.com
SUMMARY:ROYALE DUO
DESCRIPTION:
URL:https://bluemarlinami.com/live-music/royale-duo-8/
CATEGORIES:Live Music
ATTACH;FMTTYPE=image/jpeg:https://bluemarlinami.com/wp-content/uploads/2022/11/duo.jpg
END:VEVENT
BEGIN:VEVENT
DTSTART;TZID=America/New_York:20230303T190000
DTEND;TZID=America/New_York:20230303T220000
DTSTAMP:20260419T184501
CREATED:20230207T012311Z
LAST-MODIFIED:20230207T012311Z
UID:2353-1677870000-1677880800@bluemarlinami.com
SUMMARY:SYCAMORE SHADE
DESCRIPTION:BLUEGRASS
URL:https://bluemarlinami.com/live-music/sycamore-shade-12/
CATEGORIES:Live Music
ATTACH;FMTTYPE=image/jpeg:https://bluemarlinami.com/wp-content/uploads/2022/12/20230106_180839.jpg
END:VEVENT
BEGIN:VEVENT
DTSTART;TZID=America/New_York:20230302T190000
DTEND;TZID=America/New_York:20230302T220000
DTSTAMP:20260419T184501
CREATED:20230207T012035Z
LAST-MODIFIED:20230207T012035Z
UID:2347-1677783600-1677794400@bluemarlinami.com
SUMMARY:TREVOR BYSTROM
DESCRIPTION:
URL:https://bluemarlinami.com/live-music/trevor-bystrom-18/
CATEGORIES:Live Music
ATTACH;FMTTYPE=image/jpeg:https://bluemarlinami.com/wp-content/uploads/2019/08/TREVOR.jpg
END:VEVENT
BEGIN:VEVENT
DTSTART;TZID=America/New_York:20230225T190000
DTEND;TZID=America/New_York:20230225T220000
DTSTAMP:20260419T184501
CREATED:20221221T221934Z
LAST-MODIFIED:20221221T221934Z
UID:2324-1677351600-1677362400@bluemarlinami.com
SUMMARY:PANAMA DRIVE
DESCRIPTION:JAZZ
URL:https://bluemarlinami.com/live-music/panama-drive-6/
CATEGORIES:Live Music
ATTACH;FMTTYPE=image/jpeg:https://bluemarlinami.com/wp-content/uploads/2021/12/panama.jpg
END:VEVENT
BEGIN:VEVENT
DTSTART;TZID=America/New_York:20230224T190000
DTEND;TZID=America/New_York:20230224T220000
DTSTAMP:20260419T184501
CREATED:20221221T221255Z
LAST-MODIFIED:20230206T211123Z
UID:2320-1677265200-1677276000@bluemarlinami.com
SUMMARY:ALBERT DONADI
DESCRIPTION:ROCK
URL:https://bluemarlinami.com/live-music/albert-donadi-20/
CATEGORIES:Live Music
ATTACH;FMTTYPE=image/jpeg:https://bluemarlinami.com/wp-content/uploads/2019/08/donati.jpg
END:VEVENT
BEGIN:VEVENT
DTSTART;TZID=America/New_York:20230223T190000
DTEND;TZID=America/New_York:20230223T220000
DTSTAMP:20260419T184501
CREATED:20221221T221137Z
LAST-MODIFIED:20221221T221137Z
UID:2316-1677178800-1677189600@bluemarlinami.com
SUMMARY:TAYLOR OPIE
DESCRIPTION:
URL:https://bluemarlinami.com/live-music/taylor-opie-12/
CATEGORIES:Live Music
ATTACH;FMTTYPE=image/webp:https://bluemarlinami.com/wp-content/uploads/2022/11/opie.webp
END:VEVENT
BEGIN:VEVENT
DTSTART;TZID=America/New_York:20230218T190000
DTEND;TZID=America/New_York:20230218T220000
DTSTAMP:20260419T184501
CREATED:20221221T221027Z
LAST-MODIFIED:20221221T221027Z
UID:2311-1676746800-1676757600@bluemarlinami.com
SUMMARY:ROYALE DUO
DESCRIPTION:
URL:https://bluemarlinami.com/live-music/royale-duo-7/
CATEGORIES:Live Music
ATTACH;FMTTYPE=image/jpeg:https://bluemarlinami.com/wp-content/uploads/2022/11/duo.jpg
END:VEVENT
BEGIN:VEVENT
DTSTART;TZID=America/New_York:20230217T190000
DTEND;TZID=America/New_York:20230217T220000
DTSTAMP:20260419T184501
CREATED:20230206T211056Z
LAST-MODIFIED:20230206T211056Z
UID:2341-1676660400-1676671200@bluemarlinami.com
SUMMARY:ALBERT DONADI
DESCRIPTION:ROCK
URL:https://bluemarlinami.com/live-music/albert-donadi-19/
CATEGORIES:Live Music
ATTACH;FMTTYPE=image/jpeg:https://bluemarlinami.com/wp-content/uploads/2019/08/donati.jpg
END:VEVENT
BEGIN:VEVENT
DTSTART;TZID=America/New_York:20230216T190000
DTEND;TZID=America/New_York:20230216T220000
DTSTAMP:20260419T184501
CREATED:20221221T222026Z
LAST-MODIFIED:20221221T222026Z
UID:2327-1676574000-1676584800@bluemarlinami.com
SUMMARY:TREVOR BYSTROM
DESCRIPTION:
URL:https://bluemarlinami.com/live-music/trevor-bystrom-17/
CATEGORIES:Live Music
ATTACH;FMTTYPE=image/jpeg:https://bluemarlinami.com/wp-content/uploads/2019/08/TREVOR.jpg
END:VEVENT
BEGIN:VEVENT
DTSTART;TZID=America/New_York:20230211T190000
DTEND;TZID=America/New_York:20230211T220000
DTSTAMP:20260419T184501
CREATED:20221221T221900Z
LAST-MODIFIED:20230211T221626Z
UID:2323-1676142000-1676152800@bluemarlinami.com
SUMMARY:CANCELLED
DESCRIPTION:JAZZ
URL:https://bluemarlinami.com/live-music/panama-drive-5/
CATEGORIES:Live Music
ATTACH;FMTTYPE=image/jpeg:https://bluemarlinami.com/wp-content/uploads/2021/12/panama.jpg
END:VEVENT
BEGIN:VEVENT
DTSTART;TZID=America/New_York:20230210T190000
DTEND;TZID=America/New_York:20230210T220000
DTSTAMP:20260419T184501
CREATED:20230206T211002Z
LAST-MODIFIED:20230206T211002Z
UID:2339-1676055600-1676066400@bluemarlinami.com
SUMMARY:PANAMA DRIVE
DESCRIPTION:JAZZ
URL:https://bluemarlinami.com/live-music/panama-drive-8/
CATEGORIES:Live Music
ATTACH;FMTTYPE=image/jpeg:https://bluemarlinami.com/wp-content/uploads/2021/12/panama.jpg
END:VEVENT
BEGIN:VEVENT
DTSTART;TZID=America/New_York:20230209T190000
DTEND;TZID=America/New_York:20230209T220000
DTSTAMP:20260419T184501
CREATED:20221221T221111Z
LAST-MODIFIED:20221221T221111Z
UID:2315-1675969200-1675980000@bluemarlinami.com
SUMMARY:TAYLOR OPIE
DESCRIPTION:
URL:https://bluemarlinami.com/live-music/taylor-opie-11/
CATEGORIES:Live Music
ATTACH;FMTTYPE=image/webp:https://bluemarlinami.com/wp-content/uploads/2022/11/opie.webp
END:VEVENT
BEGIN:VEVENT
DTSTART;TZID=America/New_York:20230204T190000
DTEND;TZID=America/New_York:20230204T220000
DTSTAMP:20260419T184501
CREATED:20221221T220929Z
LAST-MODIFIED:20221221T220929Z
UID:2312-1675537200-1675548000@bluemarlinami.com
SUMMARY:ROYALE DUO
DESCRIPTION:
URL:https://bluemarlinami.com/live-music/royale-duo-6/
CATEGORIES:Live Music
ATTACH;FMTTYPE=image/jpeg:https://bluemarlinami.com/wp-content/uploads/2022/11/duo.jpg
END:VEVENT
BEGIN:VEVENT
DTSTART;TZID=America/New_York:20230203T190000
DTEND;TZID=America/New_York:20230203T220000
DTSTAMP:20260419T184501
CREATED:20230131T030047Z
LAST-MODIFIED:20230131T030047Z
UID:2337-1675450800-1675461600@bluemarlinami.com
SUMMARY:PANAMA DRIVE
DESCRIPTION:JAZZ
URL:https://bluemarlinami.com/live-music/panama-drive-7/
CATEGORIES:Live Music
ATTACH;FMTTYPE=image/jpeg:https://bluemarlinami.com/wp-content/uploads/2021/12/panama.jpg
END:VEVENT
BEGIN:VEVENT
DTSTART;TZID=America/New_York:20230202T190000
DTEND;TZID=America/New_York:20230202T220000
DTSTAMP:20260419T184501
CREATED:20221221T220629Z
LAST-MODIFIED:20221221T220629Z
UID:2303-1675364400-1675375200@bluemarlinami.com
SUMMARY:TREVOR BYSTROM
DESCRIPTION:
URL:https://bluemarlinami.com/live-music/trevor-bystrom-16/
CATEGORIES:Live Music
ATTACH;FMTTYPE=image/jpeg:https://bluemarlinami.com/wp-content/uploads/2019/08/TREVOR.jpg
END:VEVENT
BEGIN:VEVENT
DTSTART;TZID=America/New_York:20230127T190000
DTEND;TZID=America/New_York:20230127T220000
DTSTAMP:20260419T184501
CREATED:20221201T225506Z
LAST-MODIFIED:20221201T232807Z
UID:2288-1674846000-1674856800@bluemarlinami.com
SUMMARY:TOMARDO
DESCRIPTION:
URL:https://bluemarlinami.com/live-music/brandi-sparks-2/
CATEGORIES:Live Music
ATTACH;FMTTYPE=image/webp:https://bluemarlinami.com/wp-content/uploads/2022/12/tomardo.webp
END:VEVENT
BEGIN:VEVENT
DTSTART;TZID=America/New_York:20230121T190000
DTEND;TZID=America/New_York:20230121T220000
DTSTAMP:20260419T184501
CREATED:20221201T224525Z
LAST-MODIFIED:20221201T224525Z
UID:2277-1674327600-1674338400@bluemarlinami.com
SUMMARY:ROYALE DUO
DESCRIPTION:
URL:https://bluemarlinami.com/live-music/royale-duo-4/
CATEGORIES:Live Music
ATTACH;FMTTYPE=image/jpeg:https://bluemarlinami.com/wp-content/uploads/2022/11/duo.jpg
END:VEVENT
BEGIN:VEVENT
DTSTART;TZID=America/New_York:20230120T190000
DTEND;TZID=America/New_York:20230120T220000
DTSTAMP:20260419T184501
CREATED:20221201T223944Z
LAST-MODIFIED:20230112T233521Z
UID:2273-1674241200-1674252000@bluemarlinami.com
SUMMARY:SYCAMORE SHADE
DESCRIPTION:BLUEGRASS
URL:https://bluemarlinami.com/live-music/sycamore-shade-13/
CATEGORIES:Live Music
ATTACH;FMTTYPE=image/jpeg:https://bluemarlinami.com/wp-content/uploads/2022/12/20230106_180839.jpg
END:VEVENT
BEGIN:VEVENT
DTSTART;TZID=America/New_York:20230119T190000
DTEND;TZID=America/New_York:20230119T220000
DTSTAMP:20260419T184501
CREATED:20221201T223805Z
LAST-MODIFIED:20221201T223805Z
UID:2268-1674154800-1674165600@bluemarlinami.com
SUMMARY:TREVOR BYSTROM
DESCRIPTION:
URL:https://bluemarlinami.com/live-music/trevor-bystrom-15/
CATEGORIES:Live Music
ATTACH;FMTTYPE=image/jpeg:https://bluemarlinami.com/wp-content/uploads/2019/08/TREVOR.jpg
END:VEVENT
BEGIN:VEVENT
DTSTART;TZID=America/New_York:20230114T190000
DTEND;TZID=America/New_York:20230114T220000
DTSTAMP:20260419T184501
CREATED:20221201T233109Z
LAST-MODIFIED:20230113T200841Z
UID:2293-1673722800-1673733600@bluemarlinami.com
SUMMARY:NO MUSIC
DESCRIPTION:
URL:https://bluemarlinami.com/live-music/brandi-sparks-3/
CATEGORIES:Live Music
END:VEVENT
BEGIN:VEVENT
DTSTART;TZID=America/New_York:20230113T200000
DTEND;TZID=America/New_York:20230113T233000
DTSTAMP:20260419T184501
CREATED:20221201T224955Z
LAST-MODIFIED:20221201T224955Z
UID:2284-1673640000-1673652600@bluemarlinami.com
SUMMARY:ALBERT DONADI
DESCRIPTION:ROCK
URL:https://bluemarlinami.com/live-music/albert-donadi-18/
CATEGORIES:Live Music
ATTACH;FMTTYPE=image/jpeg:https://bluemarlinami.com/wp-content/uploads/2019/08/donati.jpg
END:VEVENT
BEGIN:VEVENT
DTSTART;TZID=America/New_York:20230112T190000
DTEND;TZID=America/New_York:20230112T220000
DTSTAMP:20260419T184501
CREATED:20221201T224830Z
LAST-MODIFIED:20221201T224830Z
UID:2280-1673550000-1673560800@bluemarlinami.com
SUMMARY:TAYLOR OPIE
DESCRIPTION:
URL:https://bluemarlinami.com/live-music/taylor-opie-7/
CATEGORIES:Live Music
ATTACH;FMTTYPE=image/webp:https://bluemarlinami.com/wp-content/uploads/2022/11/opie.webp
END:VEVENT
BEGIN:VEVENT
DTSTART;TZID=America/New_York:20230107T190000
DTEND;TZID=America/New_York:20230107T220000
DTSTAMP:20260419T184501
CREATED:20221201T224444Z
LAST-MODIFIED:20221201T224444Z
UID:2276-1673118000-1673128800@bluemarlinami.com
SUMMARY:ROYALE DUO
DESCRIPTION:
URL:https://bluemarlinami.com/live-music/royale-duo-3/
CATEGORIES:Live Music
ATTACH;FMTTYPE=image/jpeg:https://bluemarlinami.com/wp-content/uploads/2022/11/duo.jpg
END:VEVENT
BEGIN:VEVENT
DTSTART;TZID=America/New_York:20230106T190000
DTEND;TZID=America/New_York:20230106T220000
DTSTAMP:20260419T184501
CREATED:20221221T220718Z
LAST-MODIFIED:20221221T220718Z
UID:2305-1673031600-1673042400@bluemarlinami.com
SUMMARY:TAYLOR OPIE
DESCRIPTION:
URL:https://bluemarlinami.com/live-music/taylor-opie-10/
CATEGORIES:Live Music
ATTACH;FMTTYPE=image/webp:https://bluemarlinami.com/wp-content/uploads/2022/11/opie.webp
END:VEVENT
BEGIN:VEVENT
DTSTART;TZID=America/New_York:20230105T190000
DTEND;TZID=America/New_York:20230105T220000
DTSTAMP:20260419T184501
CREATED:20221201T223739Z
LAST-MODIFIED:20221201T223739Z
UID:2269-1672945200-1672956000@bluemarlinami.com
SUMMARY:TREVOR BYSTROM
DESCRIPTION:
URL:https://bluemarlinami.com/live-music/trevor-bystrom-14/
CATEGORIES:Live Music
ATTACH;FMTTYPE=image/jpeg:https://bluemarlinami.com/wp-content/uploads/2019/08/TREVOR.jpg
END:VEVENT
END:VCALENDAR