BEGIN:VCALENDAR
VERSION:2.0
PRODID:-//Blue Marlin Seafood - ECPv6.15.11//NONSGML v1.0//EN
CALSCALE:GREGORIAN
METHOD:PUBLISH
X-WR-CALNAME:Blue Marlin Seafood
X-ORIGINAL-URL:https://bluemarlinami.com
X-WR-CALDESC:Events for Blue Marlin Seafood
REFRESH-INTERVAL;VALUE=DURATION:PT1H
X-Robots-Tag:noindex
X-PUBLISHED-TTL:PT1H
BEGIN:VTIMEZONE
TZID:America/New_York
BEGIN:DAYLIGHT
TZOFFSETFROM:-0500
TZOFFSETTO:-0400
TZNAME:EDT
DTSTART:20190310T070000
END:DAYLIGHT
BEGIN:STANDARD
TZOFFSETFROM:-0400
TZOFFSETTO:-0500
TZNAME:EST
DTSTART:20191103T060000
END:STANDARD
BEGIN:DAYLIGHT
TZOFFSETFROM:-0500
TZOFFSETTO:-0400
TZNAME:EDT
DTSTART:20200308T070000
END:DAYLIGHT
BEGIN:STANDARD
TZOFFSETFROM:-0400
TZOFFSETTO:-0500
TZNAME:EST
DTSTART:20201101T060000
END:STANDARD
BEGIN:DAYLIGHT
TZOFFSETFROM:-0500
TZOFFSETTO:-0400
TZNAME:EDT
DTSTART:20210314T070000
END:DAYLIGHT
BEGIN:STANDARD
TZOFFSETFROM:-0400
TZOFFSETTO:-0500
TZNAME:EST
DTSTART:20211107T060000
END:STANDARD
END:VTIMEZONE
BEGIN:VEVENT
DTSTART;TZID=America/New_York:20201024T190000
DTEND;TZID=America/New_York:20201024T220000
DTSTAMP:20260421T152442
CREATED:20200925T194934Z
LAST-MODIFIED:20200925T194934Z
UID:1550-1603566000-1603576800@bluemarlinami.com
SUMMARY:ALBERT DONADI
DESCRIPTION:
URL:https://bluemarlinami.com/live-music/albert-donadi-11-2-2-2-2-2-2-3-2-2-2-2-2-2-3/
CATEGORIES:Live Music
ATTACH;FMTTYPE=image/jpeg:https://bluemarlinami.com/wp-content/uploads/2019/08/donati.jpg
END:VEVENT
BEGIN:VEVENT
DTSTART;TZID=America/New_York:20201023T190000
DTEND;TZID=America/New_York:20201023T220000
DTSTAMP:20260421T152442
CREATED:20200925T194348Z
LAST-MODIFIED:20200925T194348Z
UID:1541-1603479600-1603490400@bluemarlinami.com
SUMMARY:TREVOR BYSTROM
DESCRIPTION:
URL:https://bluemarlinami.com/live-music/trevor-bystrom-8-2-2-2-2-2-2-2-2-2-3-2-2-2-2-2-2/
CATEGORIES:Live Music
ATTACH;FMTTYPE=image/jpeg:https://bluemarlinami.com/wp-content/uploads/2019/08/TREVOR.jpg
END:VEVENT
BEGIN:VEVENT
DTSTART;TZID=America/New_York:20201022T190000
DTEND;TZID=America/New_York:20201022T220000
DTSTAMP:20260421T152442
CREATED:20200925T200212Z
LAST-MODIFIED:20200925T200212Z
UID:1567-1603393200-1603404000@bluemarlinami.com
SUMMARY:TAYLOR OPIE
DESCRIPTION:
URL:https://bluemarlinami.com/live-music/taylor-opie-2-3/
CATEGORIES:Live Music
ATTACH;FMTTYPE=image/jpeg:https://bluemarlinami.com/wp-content/uploads/2019/08/IMG_0099-e1598644293175.jpg
END:VEVENT
BEGIN:VEVENT
DTSTART;TZID=America/New_York:20201017T190000
DTEND;TZID=America/New_York:20201017T220000
DTSTAMP:20260421T152442
CREATED:20200925T194833Z
LAST-MODIFIED:20200925T194833Z
UID:1549-1602961200-1602972000@bluemarlinami.com
SUMMARY:ALBERT DONADI
DESCRIPTION:
URL:https://bluemarlinami.com/live-music/albert-donadi-11-2-2-2-2-2-2-3-2-2-2-2-2-2-2/
CATEGORIES:Live Music
ATTACH;FMTTYPE=image/jpeg:https://bluemarlinami.com/wp-content/uploads/2019/08/donati.jpg
END:VEVENT
BEGIN:VEVENT
DTSTART;TZID=America/New_York:20201016T190000
DTEND;TZID=America/New_York:20201016T220000
DTSTAMP:20260421T152442
CREATED:20200925T195356Z
LAST-MODIFIED:20200925T195356Z
UID:1559-1602874800-1602885600@bluemarlinami.com
SUMMARY:PEDRO & ZOOEY
DESCRIPTION:
URL:https://bluemarlinami.com/live-music/trevor-bystrom-8-2-2-2-2-2-2-2-2-2-3-2-2-2-2-2-2-2-3-2/
CATEGORIES:Live Music
ATTACH;FMTTYPE=image/jpeg:https://bluemarlinami.com/wp-content/uploads/2019/08/PEDRO.jpg
END:VEVENT
BEGIN:VEVENT
DTSTART;TZID=America/New_York:20201015T190000
DTEND;TZID=America/New_York:20201015T220000
DTSTAMP:20260421T152442
CREATED:20200925T195645Z
LAST-MODIFIED:20200925T195645Z
UID:1563-1602788400-1602799200@bluemarlinami.com
SUMMARY:STEVEN PARADIS
DESCRIPTION:
URL:https://bluemarlinami.com/live-music/trevor-bystrom-8-2-2-2-2-2-2-2-2-2-3-2-2-2-2-2-2-2-4-2/
CATEGORIES:Live Music
END:VEVENT
BEGIN:VEVENT
DTSTART;TZID=America/New_York:20201010T190000
DTEND;TZID=America/New_York:20201010T220000
DTSTAMP:20260421T152442
CREATED:20200925T194726Z
LAST-MODIFIED:20200925T194726Z
UID:1547-1602356400-1602367200@bluemarlinami.com
SUMMARY:ALBERT DONADI
DESCRIPTION:
URL:https://bluemarlinami.com/live-music/albert-donadi-11-2-2-2-2-2-2-3-2-2-2-2-2-2/
CATEGORIES:Live Music
ATTACH;FMTTYPE=image/jpeg:https://bluemarlinami.com/wp-content/uploads/2019/08/donati.jpg
END:VEVENT
BEGIN:VEVENT
DTSTART;TZID=America/New_York:20201009T190000
DTEND;TZID=America/New_York:20201009T220000
DTSTAMP:20260421T152442
CREATED:20200925T195605Z
LAST-MODIFIED:20200925T195605Z
UID:1561-1602270000-1602280800@bluemarlinami.com
SUMMARY:STEVEN PARADIS
DESCRIPTION:
URL:https://bluemarlinami.com/live-music/trevor-bystrom-8-2-2-2-2-2-2-2-2-2-3-2-2-2-2-2-2-2-4/
CATEGORIES:Live Music
END:VEVENT
BEGIN:VEVENT
DTSTART;TZID=America/New_York:20201008T190000
DTEND;TZID=America/New_York:20201008T220000
DTSTAMP:20260421T152442
CREATED:20200925T194311Z
LAST-MODIFIED:20200925T194311Z
UID:1539-1602183600-1602194400@bluemarlinami.com
SUMMARY:TREVOR BYSTROM
DESCRIPTION:
URL:https://bluemarlinami.com/live-music/trevor-bystrom-8-2-2-2-2-2-2-2-2-2-3-2-2-2-2-2/
CATEGORIES:Live Music
ATTACH;FMTTYPE=image/jpeg:https://bluemarlinami.com/wp-content/uploads/2019/08/TREVOR.jpg
END:VEVENT
BEGIN:VEVENT
DTSTART;TZID=America/New_York:20201003T190000
DTEND;TZID=America/New_York:20201003T220000
DTSTAMP:20260421T152442
CREATED:20200925T195320Z
LAST-MODIFIED:20200925T195320Z
UID:1557-1601751600-1601762400@bluemarlinami.com
SUMMARY:PEDRO & ZOOEY
DESCRIPTION:
URL:https://bluemarlinami.com/live-music/trevor-bystrom-8-2-2-2-2-2-2-2-2-2-3-2-2-2-2-2-2-2-3/
CATEGORIES:Live Music
ATTACH;FMTTYPE=image/jpeg:https://bluemarlinami.com/wp-content/uploads/2019/08/PEDRO.jpg
END:VEVENT
BEGIN:VEVENT
DTSTART;TZID=America/New_York:20201001T190000
DTEND;TZID=America/New_York:20201001T220000
DTSTAMP:20260421T152442
CREATED:20200828T185633Z
LAST-MODIFIED:20200925T194236Z
UID:1521-1601578800-1601589600@bluemarlinami.com
SUMMARY:TREVOR BYSTROM
DESCRIPTION:
URL:https://bluemarlinami.com/live-music/trevor-bystrom-8-2-2-2-2-2-2-2-2-2-3-2-2-2-2/
CATEGORIES:Live Music
ATTACH;FMTTYPE=image/jpeg:https://bluemarlinami.com/wp-content/uploads/2019/08/TREVOR.jpg
END:VEVENT
BEGIN:VEVENT
DTSTART;TZID=America/New_York:20200926T190000
DTEND;TZID=America/New_York:20200926T220000
DTSTAMP:20260421T152442
CREATED:20200828T190613Z
LAST-MODIFIED:20200828T190613Z
UID:1532-1601146800-1601157600@bluemarlinami.com
SUMMARY:ALBERT DONADI
DESCRIPTION:
URL:https://bluemarlinami.com/live-music/albert-donadi-11-2-2-2-2-2-2-3-2-2-2-2-2/
CATEGORIES:Live Music
ATTACH;FMTTYPE=image/jpeg:https://bluemarlinami.com/wp-content/uploads/2019/08/donati.jpg
END:VEVENT
BEGIN:VEVENT
DTSTART;TZID=America/New_York:20200925T190000
DTEND;TZID=America/New_York:20200925T220000
DTSTAMP:20260421T152442
CREATED:20200828T195158Z
LAST-MODIFIED:20200828T195309Z
UID:1534-1601060400-1601071200@bluemarlinami.com
SUMMARY:TAYLOR OPIE
DESCRIPTION:
URL:https://bluemarlinami.com/live-music/taylor-opie-2/
CATEGORIES:Live Music
ATTACH;FMTTYPE=image/jpeg:https://bluemarlinami.com/wp-content/uploads/2019/08/IMG_0099-e1598644293175.jpg
END:VEVENT
BEGIN:VEVENT
DTSTART;TZID=America/New_York:20200924T190000
DTEND;TZID=America/New_York:20200924T220000
DTSTAMP:20260421T152442
CREATED:20200828T185543Z
LAST-MODIFIED:20200828T185543Z
UID:1519-1600974000-1600984800@bluemarlinami.com
SUMMARY:TREVOR BYSTROM
DESCRIPTION:
URL:https://bluemarlinami.com/live-music/trevor-bystrom-8-2-2-2-2-2-2-2-2-2-3-2-2-2/
CATEGORIES:Live Music
ATTACH;FMTTYPE=image/jpeg:https://bluemarlinami.com/wp-content/uploads/2019/08/TREVOR.jpg
END:VEVENT
BEGIN:VEVENT
DTSTART;TZID=America/New_York:20200922T190000
DTEND;TZID=America/New_York:20200922T220000
DTSTAMP:20260421T152442
CREATED:20200925T195029Z
LAST-MODIFIED:20200925T195029Z
UID:1553-1600801200-1600812000@bluemarlinami.com
SUMMARY:TAYLOR OPIE
DESCRIPTION:
URL:https://bluemarlinami.com/live-music/taylor-opie-2-2/
CATEGORIES:Live Music
ATTACH;FMTTYPE=image/jpeg:https://bluemarlinami.com/wp-content/uploads/2019/08/IMG_0099-e1598644293175.jpg
END:VEVENT
BEGIN:VEVENT
DTSTART;TZID=America/New_York:20200919T190000
DTEND;TZID=America/New_York:20200919T220000
DTSTAMP:20260421T152442
CREATED:20200828T190536Z
LAST-MODIFIED:20200828T190536Z
UID:1530-1600542000-1600552800@bluemarlinami.com
SUMMARY:ALBERT DONADI
DESCRIPTION:
URL:https://bluemarlinami.com/live-music/albert-donadi-11-2-2-2-2-2-2-3-2-2-2-2/
CATEGORIES:Live Music
ATTACH;FMTTYPE=image/jpeg:https://bluemarlinami.com/wp-content/uploads/2019/08/donati.jpg
END:VEVENT
BEGIN:VEVENT
DTSTART;TZID=America/New_York:20200918T190000
DTEND;TZID=America/New_York:20200918T220000
DTSTAMP:20260421T152442
CREATED:20200828T185458Z
LAST-MODIFIED:20200828T185458Z
UID:1517-1600455600-1600466400@bluemarlinami.com
SUMMARY:TREVOR BYSTROM
DESCRIPTION:
URL:https://bluemarlinami.com/live-music/trevor-bystrom-8-2-2-2-2-2-2-2-2-2-3-2-2/
CATEGORIES:Live Music
ATTACH;FMTTYPE=image/jpeg:https://bluemarlinami.com/wp-content/uploads/2019/08/TREVOR.jpg
END:VEVENT
BEGIN:VEVENT
DTSTART;TZID=America/New_York:20200917T190000
DTEND;TZID=America/New_York:20200917T220000
DTSTAMP:20260421T152442
CREATED:20200828T185426Z
LAST-MODIFIED:20200828T185426Z
UID:1515-1600369200-1600380000@bluemarlinami.com
SUMMARY:TREVOR BYSTROM
DESCRIPTION:
URL:https://bluemarlinami.com/live-music/trevor-bystrom-8-2-2-2-2-2-2-2-2-2-3-2/
CATEGORIES:Live Music
ATTACH;FMTTYPE=image/jpeg:https://bluemarlinami.com/wp-content/uploads/2019/08/TREVOR.jpg
END:VEVENT
BEGIN:VEVENT
DTSTART;TZID=America/New_York:20200911T190000
DTEND;TZID=America/New_York:20200911T220000
DTSTAMP:20260421T152442
CREATED:20200828T185356Z
LAST-MODIFIED:20200828T185356Z
UID:1513-1599850800-1599861600@bluemarlinami.com
SUMMARY:TREVOR BYSTROM
DESCRIPTION:
URL:https://bluemarlinami.com/live-music/trevor-bystrom-8-2-2-2-2-2-2-2-2-2-3/
CATEGORIES:Live Music
ATTACH;FMTTYPE=image/jpeg:https://bluemarlinami.com/wp-content/uploads/2019/08/TREVOR.jpg
END:VEVENT
BEGIN:VEVENT
DTSTART;TZID=America/New_York:20200910T190000
DTEND;TZID=America/New_York:20200910T220000
DTSTAMP:20260421T152442
CREATED:20200828T185211Z
LAST-MODIFIED:20200828T185232Z
UID:1509-1599764400-1599775200@bluemarlinami.com
SUMMARY:TREVOR BYSTROM
DESCRIPTION:
URL:https://bluemarlinami.com/live-music/trevor-bystrom-8-2-2-2-2-2-2-2-2-2/
CATEGORIES:Live Music
ATTACH;FMTTYPE=image/jpeg:https://bluemarlinami.com/wp-content/uploads/2019/08/TREVOR.jpg
END:VEVENT
BEGIN:VEVENT
DTSTART;TZID=America/New_York:20200906T190000
DTEND;TZID=America/New_York:20200906T220000
DTSTAMP:20260421T152442
CREATED:20200902T193058Z
LAST-MODIFIED:20200902T193058Z
UID:1536-1599418800-1599429600@bluemarlinami.com
SUMMARY:ALBERT DONADI
DESCRIPTION:
URL:https://bluemarlinami.com/live-music/albert-donadi-11-2-2-2-2-2-2-3-2-2-3/
CATEGORIES:Live Music
ATTACH;FMTTYPE=image/jpeg:https://bluemarlinami.com/wp-content/uploads/2019/08/donati.jpg
END:VEVENT
BEGIN:VEVENT
DTSTART;TZID=America/New_York:20200905T190000
DTEND;TZID=America/New_York:20200905T220000
DTSTAMP:20260421T152442
CREATED:20200828T190423Z
LAST-MODIFIED:20200902T193251Z
UID:1526-1599332400-1599343200@bluemarlinami.com
SUMMARY:TREVOR BYSTROM
DESCRIPTION:
URL:https://bluemarlinami.com/live-music/albert-donadi-11-2-2-2-2-2-2-3-2-2/
CATEGORIES:Live Music
END:VEVENT
BEGIN:VEVENT
DTSTART;TZID=America/New_York:20200904T190000
DTEND;TZID=America/New_York:20200904T220000
DTSTAMP:20260421T152442
CREATED:20200828T190309Z
LAST-MODIFIED:20200828T190325Z
UID:1523-1599246000-1599256800@bluemarlinami.com
SUMMARY:SYCAMORE SHADE
DESCRIPTION:TRIO
URL:https://bluemarlinami.com/live-music/sycamore-shade-6-3-2-2-2-2-2/
CATEGORIES:Live Music
ATTACH;FMTTYPE=image/jpeg:https://bluemarlinami.com/wp-content/uploads/2019/12/BLUEGRASS.jpg
END:VEVENT
BEGIN:VEVENT
DTSTART;TZID=America/New_York:20200903T190000
DTEND;TZID=America/New_York:20200903T220000
DTSTAMP:20260421T152442
CREATED:20200828T185321Z
LAST-MODIFIED:20200828T185321Z
UID:1511-1599159600-1599170400@bluemarlinami.com
SUMMARY:TREVOR BYSTROM
DESCRIPTION:
URL:https://bluemarlinami.com/live-music/trevor-bystrom-8-2-2-2-2-2-2-2-2-2-2/
CATEGORIES:Live Music
ATTACH;FMTTYPE=image/jpeg:https://bluemarlinami.com/wp-content/uploads/2019/08/TREVOR.jpg
END:VEVENT
BEGIN:VEVENT
DTSTART;TZID=America/New_York:20200605T190000
DTEND;TZID=America/New_York:20200605T220000
DTSTAMP:20260421T152442
CREATED:20200601T185353Z
LAST-MODIFIED:20200601T185353Z
UID:1465-1591383600-1591394400@bluemarlinami.com
SUMMARY:SYCAMORE SHADE
DESCRIPTION:
URL:https://bluemarlinami.com/live-music/sycamore-shade-6-3-2-2-2-2/
CATEGORIES:Live Music
ATTACH;FMTTYPE=image/jpeg:https://bluemarlinami.com/wp-content/uploads/2019/12/BLUEGRASS.jpg
END:VEVENT
BEGIN:VEVENT
DTSTART;TZID=America/New_York:20200530T190000
DTEND;TZID=America/New_York:20200530T220000
DTSTAMP:20260421T152442
CREATED:20200512T212103Z
LAST-MODIFIED:20200512T212103Z
UID:1450-1590865200-1590876000@bluemarlinami.com
SUMMARY:TREVOR BYSTROM
DESCRIPTION:
URL:https://bluemarlinami.com/live-music/trevor-bystrom-8-2-2-2-2-2-2-2-2/
CATEGORIES:Live Music
ATTACH;FMTTYPE=image/jpeg:https://bluemarlinami.com/wp-content/uploads/2019/08/TREVOR.jpg
END:VEVENT
BEGIN:VEVENT
DTSTART;TZID=America/New_York:20200529T190000
DTEND;TZID=America/New_York:20200529T220000
DTSTAMP:20260421T152442
CREATED:20200512T203305Z
LAST-MODIFIED:20200512T203305Z
UID:1444-1590778800-1590789600@bluemarlinami.com
SUMMARY:ALBERT DONADI
DESCRIPTION:
URL:https://bluemarlinami.com/live-music/albert-donadi-11-2-2-2-2-2-2-3-2/
CATEGORIES:Live Music
ATTACH;FMTTYPE=image/jpeg:https://bluemarlinami.com/wp-content/uploads/2019/08/donati.jpg
END:VEVENT
BEGIN:VEVENT
DTSTART;TZID=America/New_York:20200523T190000
DTEND;TZID=America/New_York:20200523T220000
DTSTAMP:20260421T152442
CREATED:20200512T212153Z
LAST-MODIFIED:20200512T212153Z
UID:1452-1590260400-1590271200@bluemarlinami.com
SUMMARY:SYCAMORE SHADE
DESCRIPTION:
URL:https://bluemarlinami.com/live-music/sycamore-shade-6-3-2-2-2/
CATEGORIES:Live Music
ATTACH;FMTTYPE=image/jpeg:https://bluemarlinami.com/wp-content/uploads/2019/12/BLUEGRASS.jpg
END:VEVENT
BEGIN:VEVENT
DTSTART;TZID=America/New_York:20200522T190000
DTEND;TZID=America/New_York:20200522T220000
DTSTAMP:20260421T152442
CREATED:20200512T211940Z
LAST-MODIFIED:20200512T211940Z
UID:1448-1590174000-1590184800@bluemarlinami.com
SUMMARY:TREVOR BYSTROM
DESCRIPTION:
URL:https://bluemarlinami.com/live-music/trevor-bystrom-8-2-2-2-2-2-2-2/
CATEGORIES:Live Music
ATTACH;FMTTYPE=image/jpeg:https://bluemarlinami.com/wp-content/uploads/2019/08/TREVOR.jpg
END:VEVENT
BEGIN:VEVENT
DTSTART;TZID=America/New_York:20200516T190000
DTEND;TZID=America/New_York:20200516T220000
DTSTAMP:20260421T152442
CREATED:20200512T211847Z
LAST-MODIFIED:20200512T211847Z
UID:1446-1589655600-1589666400@bluemarlinami.com
SUMMARY:TREVOR BYSTROM
DESCRIPTION:
URL:https://bluemarlinami.com/live-music/trevor-bystrom-8-2-2-2-2-2-2/
CATEGORIES:Live Music
ATTACH;FMTTYPE=image/jpeg:https://bluemarlinami.com/wp-content/uploads/2019/08/TREVOR.jpg
END:VEVENT
END:VCALENDAR