BEGIN:VCALENDAR
VERSION:2.0
PRODID:-//Blue Marlin Seafood - ECPv6.15.11//NONSGML v1.0//EN
CALSCALE:GREGORIAN
METHOD:PUBLISH
X-WR-CALNAME:Blue Marlin Seafood
X-ORIGINAL-URL:https://bluemarlinami.com
X-WR-CALDESC:Events for Blue Marlin Seafood
REFRESH-INTERVAL;VALUE=DURATION:PT1H
X-Robots-Tag:noindex
X-PUBLISHED-TTL:PT1H
BEGIN:VTIMEZONE
TZID:America/New_York
BEGIN:DAYLIGHT
TZOFFSETFROM:-0500
TZOFFSETTO:-0400
TZNAME:EDT
DTSTART:20190310T070000
END:DAYLIGHT
BEGIN:STANDARD
TZOFFSETFROM:-0400
TZOFFSETTO:-0500
TZNAME:EST
DTSTART:20191103T060000
END:STANDARD
BEGIN:DAYLIGHT
TZOFFSETFROM:-0500
TZOFFSETTO:-0400
TZNAME:EDT
DTSTART:20200308T070000
END:DAYLIGHT
BEGIN:STANDARD
TZOFFSETFROM:-0400
TZOFFSETTO:-0500
TZNAME:EST
DTSTART:20201101T060000
END:STANDARD
BEGIN:DAYLIGHT
TZOFFSETFROM:-0500
TZOFFSETTO:-0400
TZNAME:EDT
DTSTART:20210314T070000
END:DAYLIGHT
BEGIN:STANDARD
TZOFFSETFROM:-0400
TZOFFSETTO:-0500
TZNAME:EST
DTSTART:20211107T060000
END:STANDARD
END:VTIMEZONE
BEGIN:VEVENT
DTSTART;TZID=America/New_York:20200917T190000
DTEND;TZID=America/New_York:20200917T220000
DTSTAMP:20260421T193050
CREATED:20200828T185426Z
LAST-MODIFIED:20200828T185426Z
UID:1515-1600369200-1600380000@bluemarlinami.com
SUMMARY:TREVOR BYSTROM
DESCRIPTION:
URL:https://bluemarlinami.com/live-music/trevor-bystrom-8-2-2-2-2-2-2-2-2-2-3-2/
CATEGORIES:Live Music
ATTACH;FMTTYPE=image/jpeg:https://bluemarlinami.com/wp-content/uploads/2019/08/TREVOR.jpg
END:VEVENT
BEGIN:VEVENT
DTSTART;TZID=America/New_York:20200911T190000
DTEND;TZID=America/New_York:20200911T220000
DTSTAMP:20260421T193050
CREATED:20200828T185356Z
LAST-MODIFIED:20200828T185356Z
UID:1513-1599850800-1599861600@bluemarlinami.com
SUMMARY:TREVOR BYSTROM
DESCRIPTION:
URL:https://bluemarlinami.com/live-music/trevor-bystrom-8-2-2-2-2-2-2-2-2-2-3/
CATEGORIES:Live Music
ATTACH;FMTTYPE=image/jpeg:https://bluemarlinami.com/wp-content/uploads/2019/08/TREVOR.jpg
END:VEVENT
BEGIN:VEVENT
DTSTART;TZID=America/New_York:20200910T190000
DTEND;TZID=America/New_York:20200910T220000
DTSTAMP:20260421T193050
CREATED:20200828T185211Z
LAST-MODIFIED:20200828T185232Z
UID:1509-1599764400-1599775200@bluemarlinami.com
SUMMARY:TREVOR BYSTROM
DESCRIPTION:
URL:https://bluemarlinami.com/live-music/trevor-bystrom-8-2-2-2-2-2-2-2-2-2/
CATEGORIES:Live Music
ATTACH;FMTTYPE=image/jpeg:https://bluemarlinami.com/wp-content/uploads/2019/08/TREVOR.jpg
END:VEVENT
BEGIN:VEVENT
DTSTART;TZID=America/New_York:20200906T190000
DTEND;TZID=America/New_York:20200906T220000
DTSTAMP:20260421T193050
CREATED:20200902T193058Z
LAST-MODIFIED:20200902T193058Z
UID:1536-1599418800-1599429600@bluemarlinami.com
SUMMARY:ALBERT DONADI
DESCRIPTION:
URL:https://bluemarlinami.com/live-music/albert-donadi-11-2-2-2-2-2-2-3-2-2-3/
CATEGORIES:Live Music
ATTACH;FMTTYPE=image/jpeg:https://bluemarlinami.com/wp-content/uploads/2019/08/donati.jpg
END:VEVENT
BEGIN:VEVENT
DTSTART;TZID=America/New_York:20200905T190000
DTEND;TZID=America/New_York:20200905T220000
DTSTAMP:20260421T193050
CREATED:20200828T190423Z
LAST-MODIFIED:20200902T193251Z
UID:1526-1599332400-1599343200@bluemarlinami.com
SUMMARY:TREVOR BYSTROM
DESCRIPTION:
URL:https://bluemarlinami.com/live-music/albert-donadi-11-2-2-2-2-2-2-3-2-2/
CATEGORIES:Live Music
END:VEVENT
BEGIN:VEVENT
DTSTART;TZID=America/New_York:20200904T190000
DTEND;TZID=America/New_York:20200904T220000
DTSTAMP:20260421T193050
CREATED:20200828T190309Z
LAST-MODIFIED:20200828T190325Z
UID:1523-1599246000-1599256800@bluemarlinami.com
SUMMARY:SYCAMORE SHADE
DESCRIPTION:TRIO
URL:https://bluemarlinami.com/live-music/sycamore-shade-6-3-2-2-2-2-2/
CATEGORIES:Live Music
ATTACH;FMTTYPE=image/jpeg:https://bluemarlinami.com/wp-content/uploads/2019/12/BLUEGRASS.jpg
END:VEVENT
BEGIN:VEVENT
DTSTART;TZID=America/New_York:20200903T190000
DTEND;TZID=America/New_York:20200903T220000
DTSTAMP:20260421T193050
CREATED:20200828T185321Z
LAST-MODIFIED:20200828T185321Z
UID:1511-1599159600-1599170400@bluemarlinami.com
SUMMARY:TREVOR BYSTROM
DESCRIPTION:
URL:https://bluemarlinami.com/live-music/trevor-bystrom-8-2-2-2-2-2-2-2-2-2-2/
CATEGORIES:Live Music
ATTACH;FMTTYPE=image/jpeg:https://bluemarlinami.com/wp-content/uploads/2019/08/TREVOR.jpg
END:VEVENT
BEGIN:VEVENT
DTSTART;TZID=America/New_York:20200605T190000
DTEND;TZID=America/New_York:20200605T220000
DTSTAMP:20260421T193050
CREATED:20200601T185353Z
LAST-MODIFIED:20200601T185353Z
UID:1465-1591383600-1591394400@bluemarlinami.com
SUMMARY:SYCAMORE SHADE
DESCRIPTION:
URL:https://bluemarlinami.com/live-music/sycamore-shade-6-3-2-2-2-2/
CATEGORIES:Live Music
ATTACH;FMTTYPE=image/jpeg:https://bluemarlinami.com/wp-content/uploads/2019/12/BLUEGRASS.jpg
END:VEVENT
BEGIN:VEVENT
DTSTART;TZID=America/New_York:20200530T190000
DTEND;TZID=America/New_York:20200530T220000
DTSTAMP:20260421T193050
CREATED:20200512T212103Z
LAST-MODIFIED:20200512T212103Z
UID:1450-1590865200-1590876000@bluemarlinami.com
SUMMARY:TREVOR BYSTROM
DESCRIPTION:
URL:https://bluemarlinami.com/live-music/trevor-bystrom-8-2-2-2-2-2-2-2-2/
CATEGORIES:Live Music
ATTACH;FMTTYPE=image/jpeg:https://bluemarlinami.com/wp-content/uploads/2019/08/TREVOR.jpg
END:VEVENT
BEGIN:VEVENT
DTSTART;TZID=America/New_York:20200529T190000
DTEND;TZID=America/New_York:20200529T220000
DTSTAMP:20260421T193050
CREATED:20200512T203305Z
LAST-MODIFIED:20200512T203305Z
UID:1444-1590778800-1590789600@bluemarlinami.com
SUMMARY:ALBERT DONADI
DESCRIPTION:
URL:https://bluemarlinami.com/live-music/albert-donadi-11-2-2-2-2-2-2-3-2/
CATEGORIES:Live Music
ATTACH;FMTTYPE=image/jpeg:https://bluemarlinami.com/wp-content/uploads/2019/08/donati.jpg
END:VEVENT
BEGIN:VEVENT
DTSTART;TZID=America/New_York:20200523T190000
DTEND;TZID=America/New_York:20200523T220000
DTSTAMP:20260421T193050
CREATED:20200512T212153Z
LAST-MODIFIED:20200512T212153Z
UID:1452-1590260400-1590271200@bluemarlinami.com
SUMMARY:SYCAMORE SHADE
DESCRIPTION:
URL:https://bluemarlinami.com/live-music/sycamore-shade-6-3-2-2-2/
CATEGORIES:Live Music
ATTACH;FMTTYPE=image/jpeg:https://bluemarlinami.com/wp-content/uploads/2019/12/BLUEGRASS.jpg
END:VEVENT
BEGIN:VEVENT
DTSTART;TZID=America/New_York:20200522T190000
DTEND;TZID=America/New_York:20200522T220000
DTSTAMP:20260421T193050
CREATED:20200512T211940Z
LAST-MODIFIED:20200512T211940Z
UID:1448-1590174000-1590184800@bluemarlinami.com
SUMMARY:TREVOR BYSTROM
DESCRIPTION:
URL:https://bluemarlinami.com/live-music/trevor-bystrom-8-2-2-2-2-2-2-2/
CATEGORIES:Live Music
ATTACH;FMTTYPE=image/jpeg:https://bluemarlinami.com/wp-content/uploads/2019/08/TREVOR.jpg
END:VEVENT
BEGIN:VEVENT
DTSTART;TZID=America/New_York:20200516T190000
DTEND;TZID=America/New_York:20200516T220000
DTSTAMP:20260421T193050
CREATED:20200512T211847Z
LAST-MODIFIED:20200512T211847Z
UID:1446-1589655600-1589666400@bluemarlinami.com
SUMMARY:TREVOR BYSTROM
DESCRIPTION:
URL:https://bluemarlinami.com/live-music/trevor-bystrom-8-2-2-2-2-2-2/
CATEGORIES:Live Music
ATTACH;FMTTYPE=image/jpeg:https://bluemarlinami.com/wp-content/uploads/2019/08/TREVOR.jpg
END:VEVENT
BEGIN:VEVENT
DTSTART;TZID=America/New_York:20200515T190000
DTEND;TZID=America/New_York:20200515T220000
DTSTAMP:20260421T193050
CREATED:20200512T203212Z
LAST-MODIFIED:20200512T203212Z
UID:1442-1589569200-1589580000@bluemarlinami.com
SUMMARY:ALBERT DONADI
DESCRIPTION:
URL:https://bluemarlinami.com/live-music/albert-donadi-11-2-2-2-2-2-2-3/
CATEGORIES:Live Music
ATTACH;FMTTYPE=image/jpeg:https://bluemarlinami.com/wp-content/uploads/2019/08/donati.jpg
END:VEVENT
BEGIN:VEVENT
DTSTART;TZID=America/New_York:20200328T190000
DTEND;TZID=America/New_York:20200328T220000
DTSTAMP:20260421T193050
CREATED:20200201T195840Z
LAST-MODIFIED:20200201T195840Z
UID:1416-1585422000-1585432800@bluemarlinami.com
SUMMARY:BIRD TRIBE
DESCRIPTION:
URL:https://bluemarlinami.com/live-music/bird-tribe-2-2-2-2-2-2/
CATEGORIES:Live Music
ATTACH;FMTTYPE=image/jpeg:https://bluemarlinami.com/wp-content/uploads/2019/12/BIRD-TRIBE.jpg
END:VEVENT
BEGIN:VEVENT
DTSTART;TZID=America/New_York:20200327T190000
DTEND;TZID=America/New_York:20200327T220000
DTSTAMP:20260421T193050
CREATED:20200201T200102Z
LAST-MODIFIED:20200201T200102Z
UID:1422-1585335600-1585346400@bluemarlinami.com
SUMMARY:FEVER TREE
DESCRIPTION:
URL:https://bluemarlinami.com/live-music/fever-tree-5-2-3/
CATEGORIES:Live Music
ATTACH;FMTTYPE=image/jpeg:https://bluemarlinami.com/wp-content/uploads/2019/12/FEVER-TREE.jpg
END:VEVENT
BEGIN:VEVENT
DTSTART;TZID=America/New_York:20200326T190000
DTEND;TZID=America/New_York:20200326T220000
DTSTAMP:20260421T193050
CREATED:20200201T195522Z
LAST-MODIFIED:20200201T195522Z
UID:1408-1585249200-1585260000@bluemarlinami.com
SUMMARY:ALBERT DONADI
DESCRIPTION:
URL:https://bluemarlinami.com/live-music/albert-donadi-11-2-2-2-2-2-2/
CATEGORIES:Live Music
ATTACH;FMTTYPE=image/jpeg:https://bluemarlinami.com/wp-content/uploads/2019/08/donati.jpg
END:VEVENT
BEGIN:VEVENT
DTSTART;TZID=America/New_York:20200322T190000
DTEND;TZID=America/New_York:20200322T210000
DTSTAMP:20260421T193050
CREATED:20200201T200256Z
LAST-MODIFIED:20200201T200256Z
UID:1426-1584903600-1584910800@bluemarlinami.com
SUMMARY:REGGAE SUNDAY!!
DESCRIPTION:
URL:https://bluemarlinami.com/live-music/reggae-sunday-2-2/
CATEGORIES:Live Music
END:VEVENT
BEGIN:VEVENT
DTSTART;TZID=America/New_York:20200321T190000
DTEND;TZID=America/New_York:20200321T220000
DTSTAMP:20260421T193050
CREATED:20200201T195956Z
LAST-MODIFIED:20200201T195956Z
UID:1420-1584817200-1584828000@bluemarlinami.com
SUMMARY:TREVOR BYSTROM
DESCRIPTION:
URL:https://bluemarlinami.com/live-music/trevor-bystrom-8-2-2-2-2-2/
CATEGORIES:Live Music
ATTACH;FMTTYPE=image/jpeg:https://bluemarlinami.com/wp-content/uploads/2019/08/TREVOR.jpg
END:VEVENT
BEGIN:VEVENT
DTSTART;TZID=America/New_York:20200320T190000
DTEND;TZID=America/New_York:20200320T220000
DTSTAMP:20260421T193050
CREATED:20200201T195924Z
LAST-MODIFIED:20200302T212659Z
UID:1418-1584730800-1584741600@bluemarlinami.com
SUMMARY:ROCKSTEAD
DESCRIPTION:
URL:https://bluemarlinami.com/live-music/trevor-bystrom-8-2-2-2-2/
CATEGORIES:Live Music
ATTACH;FMTTYPE=image/jpeg:https://bluemarlinami.com/wp-content/uploads/2019/08/TREVOR.jpg
END:VEVENT
BEGIN:VEVENT
DTSTART;TZID=America/New_York:20200319T190000
DTEND;TZID=America/New_York:20200319T220000
DTSTAMP:20260421T193050
CREATED:20200201T195441Z
LAST-MODIFIED:20200201T195441Z
UID:1406-1584644400-1584655200@bluemarlinami.com
SUMMARY:ALBERT DONADI
DESCRIPTION:
URL:https://bluemarlinami.com/live-music/albert-donadi-11-2-2-2-2-2/
CATEGORIES:Live Music
ATTACH;FMTTYPE=image/jpeg:https://bluemarlinami.com/wp-content/uploads/2019/08/donati.jpg
END:VEVENT
BEGIN:VEVENT
DTSTART;TZID=America/New_York:20200315T180000
DTEND;TZID=America/New_York:20200315T210000
DTSTAMP:20260421T193050
CREATED:20200302T213044Z
LAST-MODIFIED:20200302T213044Z
UID:1439-1584295200-1584306000@bluemarlinami.com
SUMMARY:GREG POULOS & FRIENDS
DESCRIPTION:
URL:https://bluemarlinami.com/live-music/greg-poulos-friends/
CATEGORIES:Live Music
END:VEVENT
BEGIN:VEVENT
DTSTART;TZID=America/New_York:20200314T190000
DTEND;TZID=America/New_York:20200314T220000
DTSTAMP:20260421T193050
CREATED:20200201T195809Z
LAST-MODIFIED:20200201T195809Z
UID:1414-1584212400-1584223200@bluemarlinami.com
SUMMARY:BIRD TRIBE
DESCRIPTION:
URL:https://bluemarlinami.com/live-music/bird-tribe-2-2-2-2-2/
CATEGORIES:Live Music
ATTACH;FMTTYPE=image/jpeg:https://bluemarlinami.com/wp-content/uploads/2019/12/BIRD-TRIBE.jpg
END:VEVENT
BEGIN:VEVENT
DTSTART;TZID=America/New_York:20200313T190000
DTEND;TZID=America/New_York:20200313T220000
DTSTAMP:20260421T193050
CREATED:20200302T212918Z
LAST-MODIFIED:20200302T212918Z
UID:1437-1584126000-1584136800@bluemarlinami.com
SUMMARY:SYCAMORE SHADE
DESCRIPTION:
URL:https://bluemarlinami.com/live-music/sycamore-shade-6-3-2-2/
CATEGORIES:Live Music
ATTACH;FMTTYPE=image/jpeg:https://bluemarlinami.com/wp-content/uploads/2019/12/BLUEGRASS.jpg
END:VEVENT
BEGIN:VEVENT
DTSTART;TZID=America/New_York:20200312T190000
DTEND;TZID=America/New_York:20200312T220000
DTSTAMP:20260421T193050
CREATED:20200201T195411Z
LAST-MODIFIED:20200201T195411Z
UID:1404-1584039600-1584050400@bluemarlinami.com
SUMMARY:ALBERT DONADI
DESCRIPTION:
URL:https://bluemarlinami.com/live-music/albert-donadi-11-2-2-2-2/
CATEGORIES:Live Music
ATTACH;FMTTYPE=image/jpeg:https://bluemarlinami.com/wp-content/uploads/2019/08/donati.jpg
END:VEVENT
BEGIN:VEVENT
DTSTART;TZID=America/New_York:20200308T190000
DTEND;TZID=America/New_York:20200308T210000
DTSTAMP:20260421T193050
CREATED:20200201T200222Z
LAST-MODIFIED:20200201T200222Z
UID:1424-1583694000-1583701200@bluemarlinami.com
SUMMARY:REGGAE SUNDAY!!
DESCRIPTION:
URL:https://bluemarlinami.com/live-music/reggae-sunday-2/
CATEGORIES:Live Music
END:VEVENT
BEGIN:VEVENT
DTSTART;TZID=America/New_York:20200307T190000
DTEND;TZID=America/New_York:20200307T220000
DTSTAMP:20260421T193050
CREATED:20200201T195733Z
LAST-MODIFIED:20200201T195733Z
UID:1412-1583607600-1583618400@bluemarlinami.com
SUMMARY:TAYLOR OPIE TRIO
DESCRIPTION:
URL:https://bluemarlinami.com/live-music/taylor-opie-trio-2/
CATEGORIES:Live Music
END:VEVENT
BEGIN:VEVENT
DTSTART;TZID=America/New_York:20200306T190000
DTEND;TZID=America/New_York:20200306T220000
DTSTAMP:20260421T193050
CREATED:20200201T195628Z
LAST-MODIFIED:20200201T195628Z
UID:1410-1583521200-1583532000@bluemarlinami.com
SUMMARY:SYCAMORE SHADE
DESCRIPTION:
URL:https://bluemarlinami.com/live-music/sycamore-shade-6-3/
CATEGORIES:Live Music
ATTACH;FMTTYPE=image/jpeg:https://bluemarlinami.com/wp-content/uploads/2019/12/BLUEGRASS.jpg
END:VEVENT
BEGIN:VEVENT
DTSTART;TZID=America/New_York:20200305T190000
DTEND;TZID=America/New_York:20200305T220000
DTSTAMP:20260421T193050
CREATED:20200201T195324Z
LAST-MODIFIED:20200201T195324Z
UID:1402-1583434800-1583445600@bluemarlinami.com
SUMMARY:ALBERT DONADI
DESCRIPTION:
URL:https://bluemarlinami.com/live-music/albert-donadi-11-2-2-2/
CATEGORIES:Live Music
ATTACH;FMTTYPE=image/jpeg:https://bluemarlinami.com/wp-content/uploads/2019/08/donati.jpg
END:VEVENT
BEGIN:VEVENT
DTSTART;TZID=America/New_York:20200229T190000
DTEND;TZID=America/New_York:20200229T220000
DTSTAMP:20260421T193050
CREATED:20191215T224552Z
LAST-MODIFIED:20191215T224552Z
UID:1381-1583002800-1583013600@bluemarlinami.com
SUMMARY:BIRD TRIBE
DESCRIPTION:
URL:https://bluemarlinami.com/live-music/bird-tribe-2-2-2-2/
CATEGORIES:Live Music
ATTACH;FMTTYPE=image/jpeg:https://bluemarlinami.com/wp-content/uploads/2019/12/BIRD-TRIBE.jpg
END:VEVENT
END:VCALENDAR