BEGIN:VCALENDAR
VERSION:2.0
PRODID:-//Blue Marlin Seafood - ECPv6.15.11//NONSGML v1.0//EN
CALSCALE:GREGORIAN
METHOD:PUBLISH
X-WR-CALNAME:Blue Marlin Seafood
X-ORIGINAL-URL:https://bluemarlinami.com
X-WR-CALDESC:Events for Blue Marlin Seafood
REFRESH-INTERVAL;VALUE=DURATION:PT1H
X-Robots-Tag:noindex
X-PUBLISHED-TTL:PT1H
BEGIN:VTIMEZONE
TZID:America/New_York
BEGIN:DAYLIGHT
TZOFFSETFROM:-0500
TZOFFSETTO:-0400
TZNAME:EDT
DTSTART:20210314T070000
END:DAYLIGHT
BEGIN:STANDARD
TZOFFSETFROM:-0400
TZOFFSETTO:-0500
TZNAME:EST
DTSTART:20211107T060000
END:STANDARD
BEGIN:DAYLIGHT
TZOFFSETFROM:-0500
TZOFFSETTO:-0400
TZNAME:EDT
DTSTART:20220313T070000
END:DAYLIGHT
BEGIN:STANDARD
TZOFFSETFROM:-0400
TZOFFSETTO:-0500
TZNAME:EST
DTSTART:20221106T060000
END:STANDARD
BEGIN:DAYLIGHT
TZOFFSETFROM:-0500
TZOFFSETTO:-0400
TZNAME:EDT
DTSTART:20230312T070000
END:DAYLIGHT
BEGIN:STANDARD
TZOFFSETFROM:-0400
TZOFFSETTO:-0500
TZNAME:EST
DTSTART:20231105T060000
END:STANDARD
BEGIN:DAYLIGHT
TZOFFSETFROM:-0500
TZOFFSETTO:-0400
TZNAME:EDT
DTSTART:20240310T070000
END:DAYLIGHT
BEGIN:STANDARD
TZOFFSETFROM:-0400
TZOFFSETTO:-0500
TZNAME:EST
DTSTART:20241103T060000
END:STANDARD
END:VTIMEZONE
BEGIN:VEVENT
DTSTART;TZID=America/New_York:20230106T190000
DTEND;TZID=America/New_York:20230106T220000
DTSTAMP:20260419T165631
CREATED:20221221T220718Z
LAST-MODIFIED:20221221T220718Z
UID:2305-1673031600-1673042400@bluemarlinami.com
SUMMARY:TAYLOR OPIE
DESCRIPTION:
URL:https://bluemarlinami.com/live-music/taylor-opie-10/
LOCATION:FL
CATEGORIES:Live Music
ATTACH;FMTTYPE=image/webp:https://bluemarlinami.com/wp-content/uploads/2022/11/opie.webp
END:VEVENT
BEGIN:VEVENT
DTSTART;TZID=America/New_York:20230105T190000
DTEND;TZID=America/New_York:20230105T220000
DTSTAMP:20260419T165631
CREATED:20221201T223739Z
LAST-MODIFIED:20221201T223739Z
UID:2269-1672945200-1672956000@bluemarlinami.com
SUMMARY:TREVOR BYSTROM
DESCRIPTION:
URL:https://bluemarlinami.com/live-music/trevor-bystrom-14/
LOCATION:FL
CATEGORIES:Live Music
ATTACH;FMTTYPE=image/jpeg:https://bluemarlinami.com/wp-content/uploads/2019/08/TREVOR.jpg
END:VEVENT
BEGIN:VEVENT
DTSTART;TZID=America/New_York:20221231T200000
DTEND;TZID=America/New_York:20221231T233000
DTSTAMP:20260419T165631
CREATED:20221130T220042Z
LAST-MODIFIED:20221130T220042Z
UID:2263-1672516800-1672529400@bluemarlinami.com
SUMMARY:ALBERT DONADI
DESCRIPTION:ROCK
URL:https://bluemarlinami.com/live-music/albert-donadi-16/
LOCATION:FL
CATEGORIES:Live Music
ATTACH;FMTTYPE=image/jpeg:https://bluemarlinami.com/wp-content/uploads/2019/08/donati.jpg
END:VEVENT
BEGIN:VEVENT
DTSTART;TZID=America/New_York:20221230T190000
DTEND;TZID=America/New_York:20221230T220000
DTSTAMP:20260419T165631
CREATED:20221122T212450Z
LAST-MODIFIED:20221122T212450Z
UID:2256-1672426800-1672437600@bluemarlinami.com
SUMMARY:EMILY ROSS
DESCRIPTION:
URL:https://bluemarlinami.com/live-music/emily-ross-3/
LOCATION:FL
CATEGORIES:Live Music
ATTACH;FMTTYPE=image/jpeg:https://bluemarlinami.com/wp-content/uploads/2021/11/EMILY.jpg
END:VEVENT
BEGIN:VEVENT
DTSTART;TZID=America/New_York:20221229T190000
DTEND;TZID=America/New_York:20221229T220000
DTSTAMP:20260419T165631
CREATED:20221122T212317Z
LAST-MODIFIED:20221122T212317Z
UID:2254-1672340400-1672351200@bluemarlinami.com
SUMMARY:TAYLOR OPIE
DESCRIPTION:
URL:https://bluemarlinami.com/live-music/taylor-opie-6/
LOCATION:FL
CATEGORIES:Live Music
ATTACH;FMTTYPE=image/webp:https://bluemarlinami.com/wp-content/uploads/2022/11/opie.webp
END:VEVENT
BEGIN:VEVENT
DTSTART;TZID=America/New_York:20221228T190000
DTEND;TZID=America/New_York:20221228T220000
DTSTAMP:20260419T165631
CREATED:20221216T211833Z
LAST-MODIFIED:20221216T211833Z
UID:2301-1672254000-1672264800@bluemarlinami.com
SUMMARY:ROYALE DUO
DESCRIPTION:
URL:https://bluemarlinami.com/live-music/royale-duo-5/
LOCATION:FL
CATEGORIES:Live Music
ATTACH;FMTTYPE=image/jpeg:https://bluemarlinami.com/wp-content/uploads/2022/11/duo.jpg
END:VEVENT
BEGIN:VEVENT
DTSTART;TZID=America/New_York:20221227T190000
DTEND;TZID=America/New_York:20221227T220000
DTSTAMP:20260419T165631
CREATED:20221216T211752Z
LAST-MODIFIED:20221216T211752Z
UID:2299-1672167600-1672178400@bluemarlinami.com
SUMMARY:TAYLOR OPIE
DESCRIPTION:
URL:https://bluemarlinami.com/live-music/taylor-opie-9/
LOCATION:FL
CATEGORIES:Live Music
ATTACH;FMTTYPE=image/webp:https://bluemarlinami.com/wp-content/uploads/2022/11/opie.webp
END:VEVENT
BEGIN:VEVENT
DTSTART;TZID=America/New_York:20221223T190000
DTEND;TZID=America/New_York:20221223T220000
DTSTAMP:20260419T165631
CREATED:20221130T215619Z
LAST-MODIFIED:20221130T220525Z
UID:2261-1671822000-1671832800@bluemarlinami.com
SUMMARY:ALBERT DONADI
DESCRIPTION:ROCK
URL:https://bluemarlinami.com/live-music/albert-donadi-17/
LOCATION:FL
CATEGORIES:Live Music
ATTACH;FMTTYPE=image/jpeg:https://bluemarlinami.com/wp-content/uploads/2019/08/donati.jpg
END:VEVENT
BEGIN:VEVENT
DTSTART;TZID=America/New_York:20221222T190000
DTEND;TZID=America/New_York:20221222T220000
DTSTAMP:20260419T165631
CREATED:20221122T212239Z
LAST-MODIFIED:20221122T212239Z
UID:2252-1671735600-1671746400@bluemarlinami.com
SUMMARY:TREVOR BYSTROM
DESCRIPTION:
URL:https://bluemarlinami.com/live-music/trevor-bystrom-13/
LOCATION:FL
CATEGORIES:Live Music
ATTACH;FMTTYPE=image/jpeg:https://bluemarlinami.com/wp-content/uploads/2019/08/TREVOR.jpg
END:VEVENT
BEGIN:VEVENT
DTSTART;TZID=America/New_York:20221217T190000
DTEND;TZID=America/New_York:20221217T220000
DTSTAMP:20260419T165631
CREATED:20221130T220433Z
LAST-MODIFIED:20221130T220433Z
UID:2265-1671303600-1671314400@bluemarlinami.com
SUMMARY:ZION
DESCRIPTION:REGGAE
URL:https://bluemarlinami.com/live-music/zion/
LOCATION:FL
CATEGORIES:Live Music
ATTACH;FMTTYPE=image/webp:https://bluemarlinami.com/wp-content/uploads/2022/11/ZION.webp
END:VEVENT
BEGIN:VEVENT
DTSTART;TZID=America/New_York:20221216T190000
DTEND;TZID=America/New_York:20221216T220000
DTSTAMP:20260419T165631
CREATED:20221027T201841Z
LAST-MODIFIED:20221027T201841Z
UID:2210-1671217200-1671228000@bluemarlinami.com
SUMMARY:SYCAMORE SHADE
DESCRIPTION:BLUEGRASS
URL:https://bluemarlinami.com/live-music/sycamore-shade-11/
LOCATION:FL
CATEGORIES:Live Music
ATTACH;FMTTYPE=image/jpeg:https://bluemarlinami.com/wp-content/uploads/2021/02/SYCAMORE-SHADE.jpg
END:VEVENT
BEGIN:VEVENT
DTSTART;TZID=America/New_York:20221215T190000
DTEND;TZID=America/New_York:20221215T220000
DTSTAMP:20260419T165631
CREATED:20221104T202435Z
LAST-MODIFIED:20221104T222705Z
UID:2228-1671130800-1671141600@bluemarlinami.com
SUMMARY:TAYLOR OPIE
DESCRIPTION:
URL:https://bluemarlinami.com/live-music/taylor-opie-5/
LOCATION:FL
CATEGORIES:Live Music
ATTACH;FMTTYPE=image/webp:https://bluemarlinami.com/wp-content/uploads/2022/11/opie.webp
END:VEVENT
BEGIN:VEVENT
DTSTART;TZID=America/New_York:20221210T190000
DTEND;TZID=America/New_York:20221210T220000
DTSTAMP:20260419T165631
CREATED:20221122T212026Z
LAST-MODIFIED:20221122T212026Z
UID:2248-1670698800-1670709600@bluemarlinami.com
SUMMARY:PANAMA DRIVE
DESCRIPTION:JAZZ
URL:https://bluemarlinami.com/live-music/panama-drive-4/
LOCATION:FL
CATEGORIES:Live Music
ATTACH;FMTTYPE=image/jpeg:https://bluemarlinami.com/wp-content/uploads/2021/12/panama.jpg
END:VEVENT
BEGIN:VEVENT
DTSTART;TZID=America/New_York:20221209T190000
DTEND;TZID=America/New_York:20221209T220000
DTSTAMP:20260419T165631
CREATED:20221027T201512Z
LAST-MODIFIED:20221027T201512Z
UID:2200-1670612400-1670623200@bluemarlinami.com
SUMMARY:ALBERT DONADI
DESCRIPTION:ROCK
URL:https://bluemarlinami.com/live-music/albert-donadi-15/
LOCATION:FL
CATEGORIES:Live Music
ATTACH;FMTTYPE=image/jpeg:https://bluemarlinami.com/wp-content/uploads/2019/08/donati.jpg
END:VEVENT
BEGIN:VEVENT
DTSTART;TZID=America/New_York:20221208T190000
DTEND;TZID=America/New_York:20221208T220000
DTSTAMP:20260419T165631
CREATED:20221104T202340Z
LAST-MODIFIED:20221104T202340Z
UID:2226-1670526000-1670536800@bluemarlinami.com
SUMMARY:TREVOR BYSTROM
DESCRIPTION:
URL:https://bluemarlinami.com/live-music/trevor-bystrom-11/
LOCATION:FL
CATEGORIES:Live Music
ATTACH;FMTTYPE=image/jpeg:https://bluemarlinami.com/wp-content/uploads/2019/08/TREVOR.jpg
END:VEVENT
BEGIN:VEVENT
DTSTART;TZID=America/New_York:20221203T190000
DTEND;TZID=America/New_York:20221203T220000
DTSTAMP:20260419T165631
CREATED:20221104T202149Z
LAST-MODIFIED:20221104T223537Z
UID:2222-1670094000-1670104800@bluemarlinami.com
SUMMARY:ROYALE DUO
DESCRIPTION:
URL:https://bluemarlinami.com/live-music/royale-duo/
LOCATION:FL
CATEGORIES:Live Music
ATTACH;FMTTYPE=image/jpeg:https://bluemarlinami.com/wp-content/uploads/2022/11/duo.jpg
END:VEVENT
BEGIN:VEVENT
DTSTART;TZID=America/New_York:20221202T190000
DTEND;TZID=America/New_York:20221202T220000
DTSTAMP:20260419T165631
CREATED:20221027T201759Z
LAST-MODIFIED:20221027T201759Z
UID:2207-1670007600-1670018400@bluemarlinami.com
SUMMARY:SYCAMORE SHADE
DESCRIPTION:BLUEGRASS
URL:https://bluemarlinami.com/live-music/sycamore-shade-10/
LOCATION:FL
CATEGORIES:Live Music
ATTACH;FMTTYPE=image/jpeg:https://bluemarlinami.com/wp-content/uploads/2021/02/SYCAMORE-SHADE.jpg
END:VEVENT
BEGIN:VEVENT
DTSTART;TZID=America/New_York:20221201T190000
DTEND;TZID=America/New_York:20221201T220000
DTSTAMP:20260419T165631
CREATED:20221104T202014Z
LAST-MODIFIED:20221104T202014Z
UID:2220-1669921200-1669932000@bluemarlinami.com
SUMMARY:TREVOR BYSTROM
DESCRIPTION:
URL:https://bluemarlinami.com/live-music/trevor-bystrom-10/
LOCATION:FL
CATEGORIES:Live Music
ATTACH;FMTTYPE=image/jpeg:https://bluemarlinami.com/wp-content/uploads/2019/08/TREVOR.jpg
END:VEVENT
BEGIN:VEVENT
DTSTART;TZID=America/New_York:20221126T190000
DTEND;TZID=America/New_York:20221126T220000
DTSTAMP:20260419T165631
CREATED:20220330T201027Z
LAST-MODIFIED:20221122T204955Z
UID:2118-1669489200-1669500000@bluemarlinami.com
SUMMARY:PANAMA DRIVE
DESCRIPTION:JAZZ
URL:https://bluemarlinami.com/live-music/keith-james-3-3-3-4-2-2-2-2/
LOCATION:FL
CATEGORIES:Live Music
ATTACH;FMTTYPE=image/jpeg:https://bluemarlinami.com/wp-content/uploads/2021/12/panama.jpg
END:VEVENT
BEGIN:VEVENT
DTSTART;TZID=America/New_York:20221125T190000
DTEND;TZID=America/New_York:20221125T220000
DTSTAMP:20260419T165631
CREATED:20221122T204736Z
LAST-MODIFIED:20221122T204736Z
UID:2244-1669402800-1669413600@bluemarlinami.com
SUMMARY:TREVOR BYSTROM
DESCRIPTION:
URL:https://bluemarlinami.com/live-music/trevor-bystrom-12/
LOCATION:FL
CATEGORIES:Live Music
ATTACH;FMTTYPE=image/jpeg:https://bluemarlinami.com/wp-content/uploads/2019/08/TREVOR.jpg
END:VEVENT
BEGIN:VEVENT
DTSTART;TZID=America/New_York:20221119T190000
DTEND;TZID=America/New_York:20221119T220000
DTSTAMP:20260419T165631
CREATED:20221104T195838Z
LAST-MODIFIED:20221104T195838Z
UID:2218-1668884400-1668895200@bluemarlinami.com
SUMMARY:PAUL & IEVA CATALDO
DESCRIPTION:
URL:https://bluemarlinami.com/live-music/paul-ieva-cataldo-2/
LOCATION:FL
CATEGORIES:Live Music
ATTACH;FMTTYPE=image/jpeg:https://bluemarlinami.com/wp-content/uploads/2022/01/PAUL.jpg
END:VEVENT
BEGIN:VEVENT
DTSTART;TZID=America/New_York:20221118T190000
DTEND;TZID=America/New_York:20221118T220000
DTSTAMP:20260419T165631
CREATED:20221027T201656Z
LAST-MODIFIED:20221027T201656Z
UID:2206-1668798000-1668808800@bluemarlinami.com
SUMMARY:SYCAMORE SHADE
DESCRIPTION:BLUEGRASS
URL:https://bluemarlinami.com/live-music/sycamore-shade-9/
LOCATION:FL
CATEGORIES:Live Music
ATTACH;FMTTYPE=image/jpeg:https://bluemarlinami.com/wp-content/uploads/2021/02/SYCAMORE-SHADE.jpg
END:VEVENT
BEGIN:VEVENT
DTSTART;TZID=America/New_York:20221117T190000
DTEND;TZID=America/New_York:20221117T220000
DTSTAMP:20260419T165631
CREATED:20221104T195710Z
LAST-MODIFIED:20221104T195710Z
UID:2216-1668711600-1668722400@bluemarlinami.com
SUMMARY:TREVOR BYSTROM
DESCRIPTION:
URL:https://bluemarlinami.com/live-music/trevor-bystrom-9/
LOCATION:FL
CATEGORIES:Live Music
ATTACH;FMTTYPE=image/jpeg:https://bluemarlinami.com/wp-content/uploads/2019/08/TREVOR.jpg
END:VEVENT
BEGIN:VEVENT
DTSTART;TZID=America/New_York:20221112T190000
DTEND;TZID=America/New_York:20221112T220000
DTSTAMP:20260419T165631
CREATED:20221104T202227Z
LAST-MODIFIED:20221104T223432Z
UID:2224-1668279600-1668290400@bluemarlinami.com
SUMMARY:ROYALE DUO
DESCRIPTION:
URL:https://bluemarlinami.com/live-music/royale-duo-2/
LOCATION:FL
CATEGORIES:Live Music
ATTACH;FMTTYPE=image/jpeg:https://bluemarlinami.com/wp-content/uploads/2022/11/duo.jpg
END:VEVENT
BEGIN:VEVENT
DTSTART;TZID=America/New_York:20221111T190000
DTEND;TZID=America/New_York:20221111T220000
DTSTAMP:20260419T165631
CREATED:20221027T201419Z
LAST-MODIFIED:20221027T201419Z
UID:2198-1668193200-1668204000@bluemarlinami.com
SUMMARY:ALBERT DONADI
DESCRIPTION:ROCK
URL:https://bluemarlinami.com/live-music/albert-donadi-14/
LOCATION:FL
CATEGORIES:Live Music
ATTACH;FMTTYPE=image/jpeg:https://bluemarlinami.com/wp-content/uploads/2019/08/donati.jpg
END:VEVENT
BEGIN:VEVENT
DTSTART;TZID=America/New_York:20221110T190000
DTEND;TZID=America/New_York:20221110T220000
DTSTAMP:20260419T165631
CREATED:20221104T195622Z
LAST-MODIFIED:20221104T222842Z
UID:2214-1668106800-1668117600@bluemarlinami.com
SUMMARY:TAYLOR OPIE
DESCRIPTION:
URL:https://bluemarlinami.com/live-music/taylor-opie-4/
LOCATION:FL
CATEGORIES:Live Music
ATTACH;FMTTYPE=image/webp:https://bluemarlinami.com/wp-content/uploads/2022/11/opie.webp
END:VEVENT
BEGIN:VEVENT
DTSTART;TZID=America/New_York:20221105T190000
DTEND;TZID=America/New_York:20221105T220000
DTSTAMP:20260419T165631
CREATED:20221027T201622Z
LAST-MODIFIED:20221027T201622Z
UID:2204-1667674800-1667685600@bluemarlinami.com
SUMMARY:SYCAMORE SHADE
DESCRIPTION:BLUEGRASS
URL:https://bluemarlinami.com/live-music/sycamore-shade-8/
LOCATION:FL
CATEGORIES:Live Music
ATTACH;FMTTYPE=image/jpeg:https://bluemarlinami.com/wp-content/uploads/2021/02/SYCAMORE-SHADE.jpg
END:VEVENT
BEGIN:VEVENT
DTSTART;TZID=America/New_York:20221104T190000
DTEND;TZID=America/New_York:20221104T220000
DTSTAMP:20260419T165631
CREATED:20221021T210455Z
LAST-MODIFIED:20221021T210455Z
UID:2195-1667588400-1667599200@bluemarlinami.com
SUMMARY:ALBERT DONADI
DESCRIPTION:ROCK
URL:https://bluemarlinami.com/live-music/albert-donadi-13/
LOCATION:FL
CATEGORIES:Live Music
ATTACH;FMTTYPE=image/jpeg:https://bluemarlinami.com/wp-content/uploads/2019/08/donati.jpg
END:VEVENT
BEGIN:VEVENT
DTSTART;TZID=America/New_York:20221021T190000
DTEND;TZID=America/New_York:20221021T220000
DTSTAMP:20260419T165631
CREATED:20221021T202019Z
LAST-MODIFIED:20221021T202019Z
UID:2191-1666378800-1666389600@bluemarlinami.com
SUMMARY:TAYLOR OPIE
DESCRIPTION:
URL:https://bluemarlinami.com/live-music/taylor-opie-3/
LOCATION:FL
CATEGORIES:Live Music
END:VEVENT
BEGIN:VEVENT
DTSTART;TZID=America/New_York:20221015T190000
DTEND;TZID=America/New_York:20221015T220000
DTSTAMP:20260419T165631
CREATED:20221005T191740Z
LAST-MODIFIED:20221005T191740Z
UID:2187-1665860400-1665871200@bluemarlinami.com
SUMMARY:PAUL & IEVA CATALDO
DESCRIPTION:
URL:https://bluemarlinami.com/live-music/paul-ieva-cataldo/
LOCATION:FL
CATEGORIES:Live Music
ATTACH;FMTTYPE=image/jpeg:https://bluemarlinami.com/wp-content/uploads/2022/01/PAUL.jpg
END:VEVENT
END:VCALENDAR