BEGIN:VCALENDAR
VERSION:2.0
PRODID:-//Blue Marlin Seafood - ECPv6.15.11//NONSGML v1.0//EN
CALSCALE:GREGORIAN
METHOD:PUBLISH
X-WR-CALNAME:Blue Marlin Seafood
X-ORIGINAL-URL:https://bluemarlinami.com
X-WR-CALDESC:Events for Blue Marlin Seafood
REFRESH-INTERVAL;VALUE=DURATION:PT1H
X-Robots-Tag:noindex
X-PUBLISHED-TTL:PT1H
BEGIN:VTIMEZONE
TZID:America/New_York
BEGIN:DAYLIGHT
TZOFFSETFROM:-0500
TZOFFSETTO:-0400
TZNAME:EDT
DTSTART:20220313T070000
END:DAYLIGHT
BEGIN:STANDARD
TZOFFSETFROM:-0400
TZOFFSETTO:-0500
TZNAME:EST
DTSTART:20221106T060000
END:STANDARD
BEGIN:DAYLIGHT
TZOFFSETFROM:-0500
TZOFFSETTO:-0400
TZNAME:EDT
DTSTART:20230312T070000
END:DAYLIGHT
BEGIN:STANDARD
TZOFFSETFROM:-0400
TZOFFSETTO:-0500
TZNAME:EST
DTSTART:20231105T060000
END:STANDARD
BEGIN:DAYLIGHT
TZOFFSETFROM:-0500
TZOFFSETTO:-0400
TZNAME:EDT
DTSTART:20240310T070000
END:DAYLIGHT
BEGIN:STANDARD
TZOFFSETFROM:-0400
TZOFFSETTO:-0500
TZNAME:EST
DTSTART:20241103T060000
END:STANDARD
END:VTIMEZONE
BEGIN:VEVENT
DTSTART;TZID=America/New_York:20230609T190000
DTEND;TZID=America/New_York:20230609T220000
DTSTAMP:20260419T183104
CREATED:20230510T205540Z
LAST-MODIFIED:20230510T205540Z
UID:2452-1686337200-1686348000@bluemarlinami.com
SUMMARY:ALBERT DONADI
DESCRIPTION:ROCK
URL:https://bluemarlinami.com/live-music/albert-donadi-27/
LOCATION:FL
CATEGORIES:Live Music
ATTACH;FMTTYPE=image/jpeg:https://bluemarlinami.com/wp-content/uploads/2019/08/donati.jpg
END:VEVENT
BEGIN:VEVENT
DTSTART;TZID=America/New_York:20230615T190000
DTEND;TZID=America/New_York:20230615T220000
DTSTAMP:20260419T183104
CREATED:20230510T205028Z
LAST-MODIFIED:20230510T205028Z
UID:2442-1686855600-1686866400@bluemarlinami.com
SUMMARY:TAYLOR OPIE
DESCRIPTION:
URL:https://bluemarlinami.com/live-music/taylor-opie-20/
LOCATION:FL
CATEGORIES:Live Music
ATTACH;FMTTYPE=image/webp:https://bluemarlinami.com/wp-content/uploads/2022/11/opie.webp
END:VEVENT
BEGIN:VEVENT
DTSTART;TZID=America/New_York:20230616T190000
DTEND;TZID=America/New_York:20230616T220000
DTSTAMP:20260419T183104
CREATED:20230510T205453Z
LAST-MODIFIED:20230510T205453Z
UID:2447-1686942000-1686952800@bluemarlinami.com
SUMMARY:SYCAMORE SHADE
DESCRIPTION:BLUEGRASS
URL:https://bluemarlinami.com/live-music/sycamore-shade-19/
LOCATION:FL
CATEGORIES:Live Music
ATTACH;FMTTYPE=image/jpeg:https://bluemarlinami.com/wp-content/uploads/2022/12/20230106_180839.jpg
END:VEVENT
BEGIN:VEVENT
DTSTART;TZID=America/New_York:20230622T190000
DTEND;TZID=America/New_York:20230622T220000
DTSTAMP:20260419T183104
CREATED:20230510T204919Z
LAST-MODIFIED:20230510T204919Z
UID:2437-1687460400-1687471200@bluemarlinami.com
SUMMARY:TREVOR BYSTROM
DESCRIPTION:
URL:https://bluemarlinami.com/live-music/trevor-bystrom-25/
LOCATION:FL
CATEGORIES:Live Music
ATTACH;FMTTYPE=image/jpeg:https://bluemarlinami.com/wp-content/uploads/2019/08/TREVOR.jpg
END:VEVENT
BEGIN:VEVENT
DTSTART;TZID=America/New_York:20230624T190000
DTEND;TZID=America/New_York:20230624T220000
DTSTAMP:20260419T183104
CREATED:20230531T193632Z
LAST-MODIFIED:20230531T193632Z
UID:2460-1687633200-1687644000@bluemarlinami.com
SUMMARY:PANAMA DRIVE
DESCRIPTION:JAZZ
URL:https://bluemarlinami.com/live-music/panama-drive-16/
LOCATION:FL
CATEGORIES:Live Music
ATTACH;FMTTYPE=image/jpeg:https://bluemarlinami.com/wp-content/uploads/2021/12/panama.jpg
END:VEVENT
BEGIN:VEVENT
DTSTART;TZID=America/New_York:20230629T190000
DTEND;TZID=America/New_York:20230629T220000
DTSTAMP:20260419T183104
CREATED:20230510T205051Z
LAST-MODIFIED:20230510T205051Z
UID:2441-1688065200-1688076000@bluemarlinami.com
SUMMARY:TAYLOR OPIE
DESCRIPTION:
URL:https://bluemarlinami.com/live-music/taylor-opie-21/
LOCATION:FL
CATEGORIES:Live Music
ATTACH;FMTTYPE=image/webp:https://bluemarlinami.com/wp-content/uploads/2022/11/opie.webp
END:VEVENT
BEGIN:VEVENT
DTSTART;TZID=America/New_York:20230630T190000
DTEND;TZID=America/New_York:20230630T220000
DTSTAMP:20260419T183104
CREATED:20230531T193843Z
LAST-MODIFIED:20230626T192505Z
UID:2463-1688151600-1688162400@bluemarlinami.com
SUMMARY:SAM WRIGHT
DESCRIPTION:
URL:https://bluemarlinami.com/live-music/justin-layman/
LOCATION:FL
CATEGORIES:Live Music
END:VEVENT
BEGIN:VEVENT
DTSTART;TZID=America/New_York:20230701T190000
DTEND;TZID=America/New_York:20230701T220000
DTSTAMP:20260419T183104
CREATED:20230615T213307Z
LAST-MODIFIED:20230615T213307Z
UID:2468-1688238000-1688248800@bluemarlinami.com
SUMMARY:ROYALE DUO
DESCRIPTION:
URL:https://bluemarlinami.com/live-music/royale-duo-13/
LOCATION:FL
CATEGORIES:Live Music
ATTACH;FMTTYPE=image/jpeg:https://bluemarlinami.com/wp-content/uploads/2022/11/duo.jpg
END:VEVENT
BEGIN:VEVENT
DTSTART;TZID=America/New_York:20230706T190000
DTEND;TZID=America/New_York:20230706T220000
DTSTAMP:20260419T183104
CREATED:20230615T213904Z
LAST-MODIFIED:20230615T213904Z
UID:2481-1688670000-1688680800@bluemarlinami.com
SUMMARY:TREVOR BYSTROM
DESCRIPTION:
URL:https://bluemarlinami.com/live-music/trevor-bystrom-26/
LOCATION:FL
CATEGORIES:Live Music
ATTACH;FMTTYPE=image/jpeg:https://bluemarlinami.com/wp-content/uploads/2019/08/TREVOR.jpg
END:VEVENT
BEGIN:VEVENT
DTSTART;TZID=America/New_York:20230707T190000
DTEND;TZID=America/New_York:20230707T220000
DTSTAMP:20260419T183104
CREATED:20230615T214024Z
LAST-MODIFIED:20230627T202927Z
UID:2484-1688756400-1688767200@bluemarlinami.com
SUMMARY:LUKE ANDREWS
DESCRIPTION:
URL:https://bluemarlinami.com/live-music/luke-andrews/
LOCATION:FL
CATEGORIES:Live Music
END:VEVENT
BEGIN:VEVENT
DTSTART;TZID=America/New_York:20230708T190000
DTEND;TZID=America/New_York:20230708T220000
DTSTAMP:20260419T183104
CREATED:20230615T213358Z
LAST-MODIFIED:20230615T213358Z
UID:2470-1688842800-1688853600@bluemarlinami.com
SUMMARY:ROYALE DUO
DESCRIPTION:
URL:https://bluemarlinami.com/live-music/royale-duo-14/
LOCATION:FL
CATEGORIES:Live Music
ATTACH;FMTTYPE=image/jpeg:https://bluemarlinami.com/wp-content/uploads/2022/11/duo.jpg
END:VEVENT
BEGIN:VEVENT
DTSTART;TZID=America/New_York:20230713T190000
DTEND;TZID=America/New_York:20230713T220000
DTSTAMP:20260419T183104
CREATED:20230615T213729Z
LAST-MODIFIED:20230615T213729Z
UID:2477-1689274800-1689285600@bluemarlinami.com
SUMMARY:TAYLOR OPIE
DESCRIPTION:
URL:https://bluemarlinami.com/live-music/taylor-opie-22/
LOCATION:FL
CATEGORIES:Live Music
ATTACH;FMTTYPE=image/webp:https://bluemarlinami.com/wp-content/uploads/2022/11/opie.webp
END:VEVENT
BEGIN:VEVENT
DTSTART;TZID=America/New_York:20230714T190000
DTEND;TZID=America/New_York:20230714T220000
DTSTAMP:20260419T183104
CREATED:20230626T192634Z
LAST-MODIFIED:20230626T192634Z
UID:2496-1689361200-1689372000@bluemarlinami.com
SUMMARY:PANAMA DRIVE
DESCRIPTION:JAZZ
URL:https://bluemarlinami.com/live-music/panama-drive-15/
LOCATION:FL
CATEGORIES:Live Music
ATTACH;FMTTYPE=image/jpeg:https://bluemarlinami.com/wp-content/uploads/2021/12/panama.jpg
END:VEVENT
BEGIN:VEVENT
DTSTART;TZID=America/New_York:20230715T190000
DTEND;TZID=America/New_York:20230715T220000
DTSTAMP:20260419T183104
CREATED:20230615T213450Z
LAST-MODIFIED:20230615T213450Z
UID:2469-1689447600-1689458400@bluemarlinami.com
SUMMARY:ROYALE DUO
DESCRIPTION:
URL:https://bluemarlinami.com/live-music/royale-duo-15/
LOCATION:FL
CATEGORIES:Live Music
ATTACH;FMTTYPE=image/jpeg:https://bluemarlinami.com/wp-content/uploads/2022/11/duo.jpg
END:VEVENT
BEGIN:VEVENT
DTSTART;TZID=America/New_York:20230720T190000
DTEND;TZID=America/New_York:20230720T220000
DTSTAMP:20260419T183104
CREATED:20230615T213943Z
LAST-MODIFIED:20230615T213943Z
UID:2480-1689879600-1689890400@bluemarlinami.com
SUMMARY:TREVOR BYSTROM
DESCRIPTION:
URL:https://bluemarlinami.com/live-music/trevor-bystrom-27/
LOCATION:FL
CATEGORIES:Live Music
ATTACH;FMTTYPE=image/jpeg:https://bluemarlinami.com/wp-content/uploads/2019/08/TREVOR.jpg
END:VEVENT
BEGIN:VEVENT
DTSTART;TZID=America/New_York:20230721T190000
DTEND;TZID=America/New_York:20230721T220000
DTSTAMP:20260419T183104
CREATED:20230615T214223Z
LAST-MODIFIED:20230627T202808Z
UID:2486-1689966000-1689976800@bluemarlinami.com
SUMMARY:JAMES ALBRITTON
DESCRIPTION:
URL:https://bluemarlinami.com/live-music/james-albritton-2/
LOCATION:FL
CATEGORIES:Live Music
END:VEVENT
BEGIN:VEVENT
DTSTART;TZID=America/New_York:20230722T190000
DTEND;TZID=America/New_York:20230722T220000
DTSTAMP:20260419T183104
CREATED:20230615T214348Z
LAST-MODIFIED:20230615T214348Z
UID:2490-1690052400-1690063200@bluemarlinami.com
SUMMARY:TAYLOR OPIE
DESCRIPTION:
URL:https://bluemarlinami.com/live-music/taylor-opie-24/
LOCATION:FL
CATEGORIES:Live Music
ATTACH;FMTTYPE=image/webp:https://bluemarlinami.com/wp-content/uploads/2022/11/opie.webp
END:VEVENT
BEGIN:VEVENT
DTSTART;TZID=America/New_York:20230727T190000
DTEND;TZID=America/New_York:20230727T220000
DTSTAMP:20260419T183104
CREATED:20230615T213805Z
LAST-MODIFIED:20230615T213805Z
UID:2476-1690484400-1690495200@bluemarlinami.com
SUMMARY:TAYLOR OPIE
DESCRIPTION:
URL:https://bluemarlinami.com/live-music/taylor-opie-23/
LOCATION:FL
CATEGORIES:Live Music
ATTACH;FMTTYPE=image/webp:https://bluemarlinami.com/wp-content/uploads/2022/11/opie.webp
END:VEVENT
BEGIN:VEVENT
DTSTART;TZID=America/New_York:20230728T190000
DTEND;TZID=America/New_York:20230728T220000
DTSTAMP:20260419T183104
CREATED:20230615T214305Z
LAST-MODIFIED:20230627T202845Z
UID:2487-1690570800-1690581600@bluemarlinami.com
SUMMARY:STEVE PARADIS
DESCRIPTION:
URL:https://bluemarlinami.com/live-music/steve-paradis/
LOCATION:FL
CATEGORIES:Live Music
END:VEVENT
BEGIN:VEVENT
DTSTART;TZID=America/New_York:20230729T190000
DTEND;TZID=America/New_York:20230729T220000
DTSTAMP:20260419T183104
CREATED:20230510T205751Z
LAST-MODIFIED:20230710T195459Z
UID:2455-1690657200-1690668000@bluemarlinami.com
SUMMARY:CLOSED FOR PRIVATE PARTY
DESCRIPTION:
URL:https://bluemarlinami.com/live-music/royale-duo-12/
LOCATION:FL
CATEGORIES:Live Music
END:VEVENT
BEGIN:VEVENT
DTSTART;TZID=America/New_York:20230804T190000
DTEND;TZID=America/New_York:20230804T220000
DTSTAMP:20260419T183104
CREATED:20230714T203319Z
LAST-MODIFIED:20230714T203319Z
UID:2507-1691175600-1691186400@bluemarlinami.com
SUMMARY:SYCAMORE SHADE
DESCRIPTION:BLUEGRASS
URL:https://bluemarlinami.com/live-music/sycamore-shade-20/
LOCATION:FL
CATEGORIES:Live Music
ATTACH;FMTTYPE=image/jpeg:https://bluemarlinami.com/wp-content/uploads/2022/12/20230106_180839.jpg
END:VEVENT
BEGIN:VEVENT
DTSTART;TZID=America/New_York:20230805T190000
DTEND;TZID=America/New_York:20230805T220000
DTSTAMP:20260419T183104
CREATED:20230722T193602Z
LAST-MODIFIED:20230722T193602Z
UID:2514-1691262000-1691272800@bluemarlinami.com
SUMMARY:PANAMA DRIVE
DESCRIPTION:JAZZ
URL:https://bluemarlinami.com/live-music/panama-drive-17/
LOCATION:FL
CATEGORIES:Live Music
ATTACH;FMTTYPE=image/jpeg:https://bluemarlinami.com/wp-content/uploads/2021/12/panama.jpg
END:VEVENT
BEGIN:VEVENT
DTSTART;TZID=America/New_York:20230811T190000
DTEND;TZID=America/New_York:20230811T220000
DTSTAMP:20260419T183104
CREATED:20230714T203202Z
LAST-MODIFIED:20230714T203202Z
UID:2503-1691780400-1691791200@bluemarlinami.com
SUMMARY:JAMES ALBRITTON
DESCRIPTION:
URL:https://bluemarlinami.com/live-music/james-albritton-3/
LOCATION:FL
CATEGORIES:Live Music
END:VEVENT
BEGIN:VEVENT
DTSTART;TZID=America/New_York:20230812T190000
DTEND;TZID=America/New_York:20230812T220000
DTSTAMP:20260419T183104
CREATED:20230811T201357Z
LAST-MODIFIED:20230811T201357Z
UID:2547-1691866800-1691877600@bluemarlinami.com
SUMMARY:STEVE PARADIS
DESCRIPTION:
URL:https://bluemarlinami.com/live-music/steve-paradis-5/
LOCATION:FL
CATEGORIES:Live Music
ATTACH;FMTTYPE=image/jpeg:https://bluemarlinami.com/wp-content/uploads/2023/07/PARADIS.jpg
END:VEVENT
BEGIN:VEVENT
DTSTART;TZID=America/New_York:20230818T190000
DTEND;TZID=America/New_York:20230818T220000
DTSTAMP:20260419T183104
CREATED:20230811T202036Z
LAST-MODIFIED:20230811T202036Z
UID:2551-1692385200-1692396000@bluemarlinami.com
SUMMARY:JAMES ALBRITTON
DESCRIPTION:
URL:https://bluemarlinami.com/live-music/james-albritton-6/
LOCATION:FL
CATEGORIES:Live Music
END:VEVENT
BEGIN:VEVENT
DTSTART;TZID=America/New_York:20230825T190000
DTEND;TZID=America/New_York:20230825T220000
DTSTAMP:20260419T183104
CREATED:20230714T203429Z
LAST-MODIFIED:20230714T203429Z
UID:2511-1692990000-1693000800@bluemarlinami.com
SUMMARY:TREVOR BYSTROM
DESCRIPTION:
URL:https://bluemarlinami.com/live-music/trevor-bystrom-28/
LOCATION:FL
CATEGORIES:Live Music
ATTACH;FMTTYPE=image/jpeg:https://bluemarlinami.com/wp-content/uploads/2019/08/TREVOR.jpg
END:VEVENT
BEGIN:VEVENT
DTSTART;TZID=America/New_York:20230826T190000
DTEND;TZID=America/New_York:20230826T220000
DTSTAMP:20260419T183104
CREATED:20230714T203353Z
LAST-MODIFIED:20230714T203353Z
UID:2509-1693076400-1693087200@bluemarlinami.com
SUMMARY:TAYLOR OPIE
DESCRIPTION:
URL:https://bluemarlinami.com/live-music/taylor-opie-25/
LOCATION:FL
CATEGORIES:Live Music
ATTACH;FMTTYPE=image/webp:https://bluemarlinami.com/wp-content/uploads/2022/11/opie.webp
END:VEVENT
BEGIN:VEVENT
DTSTART;TZID=America/New_York:20230901T190000
DTEND;TZID=America/New_York:20230901T220000
DTSTAMP:20260419T183104
CREATED:20230808T200102Z
LAST-MODIFIED:20230808T200102Z
UID:2526-1693594800-1693605600@bluemarlinami.com
SUMMARY:SYCAMORE SHADE
DESCRIPTION:BLUEGRASS
URL:https://bluemarlinami.com/live-music/sycamore-shade-21/
LOCATION:FL
CATEGORIES:Live Music
ATTACH;FMTTYPE=image/jpeg:https://bluemarlinami.com/wp-content/uploads/2022/12/20230106_180839.jpg
END:VEVENT
BEGIN:VEVENT
DTSTART;TZID=America/New_York:20230902T190000
DTEND;TZID=America/New_York:20230902T220000
DTSTAMP:20260419T183104
CREATED:20230714T203039Z
LAST-MODIFIED:20230808T202355Z
UID:2501-1693681200-1693692000@bluemarlinami.com
SUMMARY:STEVE PARADIS
DESCRIPTION:
URL:https://bluemarlinami.com/live-music/steve-paradis-2/
LOCATION:FL
CATEGORIES:Live Music
ATTACH;FMTTYPE=image/jpeg:https://bluemarlinami.com/wp-content/uploads/2023/07/PARADIS.jpg
END:VEVENT
BEGIN:VEVENT
DTSTART;TZID=America/New_York:20230908T190000
DTEND;TZID=America/New_York:20230908T220000
DTSTAMP:20260419T183104
CREATED:20230714T203230Z
LAST-MODIFIED:20230808T202613Z
UID:2502-1694199600-1694210400@bluemarlinami.com
SUMMARY:JAMES ALBRITTON
DESCRIPTION:
URL:https://bluemarlinami.com/live-music/james-albritton-4/
LOCATION:FL
CATEGORIES:Live Music
ATTACH;FMTTYPE=image/jpeg:https://bluemarlinami.com/wp-content/uploads/2023/07/ALBRITTON-1.jpg
END:VEVENT
END:VCALENDAR