BEGIN:VCALENDAR
VERSION:2.0
PRODID:-//Blue Marlin Seafood - ECPv6.15.11//NONSGML v1.0//EN
CALSCALE:GREGORIAN
METHOD:PUBLISH
X-WR-CALNAME:Blue Marlin Seafood
X-ORIGINAL-URL:https://bluemarlinami.com
X-WR-CALDESC:Events for Blue Marlin Seafood
REFRESH-INTERVAL;VALUE=DURATION:PT1H
X-Robots-Tag:noindex
X-PUBLISHED-TTL:PT1H
BEGIN:VTIMEZONE
TZID:America/New_York
BEGIN:DAYLIGHT
TZOFFSETFROM:-0500
TZOFFSETTO:-0400
TZNAME:EDT
DTSTART:20180311T070000
END:DAYLIGHT
BEGIN:STANDARD
TZOFFSETFROM:-0400
TZOFFSETTO:-0500
TZNAME:EST
DTSTART:20181104T060000
END:STANDARD
BEGIN:DAYLIGHT
TZOFFSETFROM:-0500
TZOFFSETTO:-0400
TZNAME:EDT
DTSTART:20190310T070000
END:DAYLIGHT
BEGIN:STANDARD
TZOFFSETFROM:-0400
TZOFFSETTO:-0500
TZNAME:EST
DTSTART:20191103T060000
END:STANDARD
BEGIN:DAYLIGHT
TZOFFSETFROM:-0500
TZOFFSETTO:-0400
TZNAME:EDT
DTSTART:20200308T070000
END:DAYLIGHT
BEGIN:STANDARD
TZOFFSETFROM:-0400
TZOFFSETTO:-0500
TZNAME:EST
DTSTART:20201101T060000
END:STANDARD
END:VTIMEZONE
BEGIN:VEVENT
DTSTART;TZID=America/New_York:20191116T190000
DTEND;TZID=America/New_York:20191116T220000
DTSTAMP:20260422T182626
CREATED:20191101T191018Z
LAST-MODIFIED:20191106T212708Z
UID:1307-1573930800-1573941600@bluemarlinami.com
SUMMARY:TREVOR BYSTROM
DESCRIPTION:
URL:https://bluemarlinami.com/live-music/pedro-2/
CATEGORIES:Live Music
ATTACH;FMTTYPE=image/jpeg:https://bluemarlinami.com/wp-content/uploads/2019/08/TREVOR.jpg
END:VEVENT
BEGIN:VEVENT
DTSTART;TZID=America/New_York:20191115T190000
DTEND;TZID=America/New_York:20191115T220000
DTSTAMP:20260422T182626
CREATED:20191101T190934Z
LAST-MODIFIED:20191101T190935Z
UID:1305-1573844400-1573855200@bluemarlinami.com
SUMMARY:FEVER TREE
DESCRIPTION:
URL:https://bluemarlinami.com/live-music/fever-tree-3/
CATEGORIES:Live Music
ATTACH;FMTTYPE=image/jpeg:https://bluemarlinami.com/wp-content/uploads/2019/09/Image-1-1.jpg
END:VEVENT
BEGIN:VEVENT
DTSTART;TZID=America/New_York:20191109T190000
DTEND;TZID=America/New_York:20191109T220000
DTSTAMP:20260422T182626
CREATED:20191101T190842Z
LAST-MODIFIED:20191101T190843Z
UID:1303-1573326000-1573336800@bluemarlinami.com
SUMMARY:SYCAMORE SHADE
DESCRIPTION:
URL:https://bluemarlinami.com/live-music/sycamore-shade-5/
CATEGORIES:Live Music
END:VEVENT
BEGIN:VEVENT
DTSTART;TZID=America/New_York:20191108T190000
DTEND;TZID=America/New_York:20191108T220000
DTSTAMP:20260422T182626
CREATED:20191101T190738Z
LAST-MODIFIED:20191106T212255Z
UID:1301-1573239600-1573250400@bluemarlinami.com
SUMMARY:ZOOEY SERAPHINE
DESCRIPTION:
URL:https://bluemarlinami.com/live-music/pedro/
CATEGORIES:Live Music
ATTACH;FMTTYPE=image/jpeg:https://bluemarlinami.com/wp-content/uploads/2019/08/PEDRO.jpg
END:VEVENT
BEGIN:VEVENT
DTSTART;TZID=America/New_York:20191102T190000
DTEND;TZID=America/New_York:20191102T220000
DTSTAMP:20260422T182626
CREATED:20191101T183122Z
LAST-MODIFIED:20191101T183123Z
UID:1296-1572721200-1572732000@bluemarlinami.com
SUMMARY:ALBERT DONADI
DESCRIPTION:
URL:https://bluemarlinami.com/live-music/albert-donadi-6/
CATEGORIES:Live Music
END:VEVENT
BEGIN:VEVENT
DTSTART;TZID=America/New_York:20191101T190000
DTEND;TZID=America/New_York:20191101T220000
DTSTAMP:20260422T182626
CREATED:20191101T182943Z
LAST-MODIFIED:20191101T182943Z
UID:1294-1572634800-1572645600@bluemarlinami.com
SUMMARY:SYCAMORE SHADE
DESCRIPTION:SOME FINE BLUEGRASS
URL:https://bluemarlinami.com/live-music/sycamore-shade-4/
CATEGORIES:Live Music
END:VEVENT
BEGIN:VEVENT
DTSTART;TZID=America/New_York:20191027T080000
DTEND;TZID=America/New_York:20191027T170000
DTSTAMP:20260422T182626
CREATED:20190928T200101Z
LAST-MODIFIED:20190928T200102Z
UID:1287-1572163200-1572195600@bluemarlinami.com
SUMMARY:NICK HAAS TRIO
DESCRIPTION:JAZZ
URL:https://bluemarlinami.com/live-music/nick-haas-trio-3/
CATEGORIES:Live Music
END:VEVENT
BEGIN:VEVENT
DTSTART;TZID=America/New_York:20191026T190000
DTEND;TZID=America/New_York:20191026T220000
DTSTAMP:20260422T182626
CREATED:20190928T195718Z
LAST-MODIFIED:20190928T195719Z
UID:1283-1572116400-1572127200@bluemarlinami.com
SUMMARY:PEDRO AREVALO
DESCRIPTION:
URL:https://bluemarlinami.com/live-music/pedro-arevalo-4/
CATEGORIES:Live Music
ATTACH;FMTTYPE=image/jpeg:https://bluemarlinami.com/wp-content/uploads/2019/08/PEDRO.jpg
END:VEVENT
BEGIN:VEVENT
DTSTART;TZID=America/New_York:20191025T190000
DTEND;TZID=America/New_York:20191025T220000
DTSTAMP:20260422T182626
CREATED:20190928T195608Z
LAST-MODIFIED:20190928T195608Z
UID:1280-1572030000-1572040800@bluemarlinami.com
SUMMARY:FEVER TREE
DESCRIPTION:
URL:https://bluemarlinami.com/live-music/fever-tree-2/
CATEGORIES:Live Music
ATTACH;FMTTYPE=image/jpeg:https://bluemarlinami.com/wp-content/uploads/2019/09/Image-1-1.jpg
END:VEVENT
BEGIN:VEVENT
DTSTART;TZID=America/New_York:20191019T190000
DTEND;TZID=America/New_York:20191019T220000
DTSTAMP:20260422T182626
CREATED:20190928T194418Z
LAST-MODIFIED:20190928T194419Z
UID:1278-1571511600-1571522400@bluemarlinami.com
SUMMARY:PEDRO AREVALO
DESCRIPTION:
URL:https://bluemarlinami.com/live-music/pedro-arevalo-3/
CATEGORIES:Live Music
ATTACH;FMTTYPE=image/jpeg:https://bluemarlinami.com/wp-content/uploads/2019/08/PEDRO.jpg
END:VEVENT
BEGIN:VEVENT
DTSTART;TZID=America/New_York:20191018T190000
DTEND;TZID=America/New_York:20191018T220000
DTSTAMP:20260422T182626
CREATED:20190928T194318Z
LAST-MODIFIED:20190928T194319Z
UID:1276-1571425200-1571436000@bluemarlinami.com
SUMMARY:TREVOR BYSTROM
DESCRIPTION:
URL:https://bluemarlinami.com/live-music/trevor-bystrom-5/
CATEGORIES:Live Music
END:VEVENT
BEGIN:VEVENT
DTSTART;TZID=America/New_York:20191015T190000
DTEND;TZID=America/New_York:20191015T220000
DTSTAMP:20260422T182626
CREATED:20191009T203547Z
LAST-MODIFIED:20191009T203547Z
UID:1291-1571166000-1571176800@bluemarlinami.com
SUMMARY:BRITTANI MCKRACKEN
DESCRIPTION:
URL:https://bluemarlinami.com/live-music/brittani-mckracken/
CATEGORIES:Live Music
END:VEVENT
BEGIN:VEVENT
DTSTART;TZID=America/New_York:20191012T190000
DTEND;TZID=America/New_York:20191012T220000
DTSTAMP:20260422T182626
CREATED:20190928T193912Z
LAST-MODIFIED:20190930T202748Z
UID:1274-1570906800-1570917600@bluemarlinami.com
SUMMARY:TAYLOR OPIE TRIO
DESCRIPTION:
URL:https://bluemarlinami.com/live-music/opie-taylor-trio/
CATEGORIES:Live Music
ATTACH;FMTTYPE=image/jpeg:https://bluemarlinami.com/wp-content/uploads/2019/08/IMG_0099-e1598644293175.jpg
END:VEVENT
BEGIN:VEVENT
DTSTART;TZID=America/New_York:20191011T190000
DTEND;TZID=America/New_York:20191011T220000
DTSTAMP:20260422T182626
CREATED:20190928T193758Z
LAST-MODIFIED:20190928T193758Z
UID:1272-1570820400-1570831200@bluemarlinami.com
SUMMARY:ALBERT DONADI
DESCRIPTION:
URL:https://bluemarlinami.com/live-music/albert-donadi-5/
CATEGORIES:Live Music
ATTACH;FMTTYPE=image/jpeg:https://bluemarlinami.com/wp-content/uploads/2019/08/donati.jpg
END:VEVENT
BEGIN:VEVENT
DTSTART;TZID=America/New_York:20191005T190000
DTEND;TZID=America/New_York:20191005T220000
DTSTAMP:20260422T182626
CREATED:20190928T193719Z
LAST-MODIFIED:20190928T193720Z
UID:1270-1570302000-1570312800@bluemarlinami.com
SUMMARY:TREVOR BYSTROM
DESCRIPTION:
URL:https://bluemarlinami.com/live-music/trevor-bystrom-4/
CATEGORIES:Live Music
ATTACH;FMTTYPE=image/jpeg:https://bluemarlinami.com/wp-content/uploads/2019/08/TREVOR.jpg
END:VEVENT
BEGIN:VEVENT
DTSTART;TZID=America/New_York:20191004T190000
DTEND;TZID=America/New_York:20191004T220000
DTSTAMP:20260422T182626
CREATED:20190928T193624Z
LAST-MODIFIED:20190928T193625Z
UID:1268-1570215600-1570226400@bluemarlinami.com
SUMMARY:SYCAMORE SHADE
DESCRIPTION:
URL:https://bluemarlinami.com/live-music/sycamore-shade-3/
CATEGORIES:Live Music
ATTACH;FMTTYPE=image/jpeg:https://bluemarlinami.com/wp-content/uploads/2019/04/Contact-Us-Map.jpg
END:VEVENT
BEGIN:VEVENT
DTSTART;TZID=America/New_York:20190928T190000
DTEND;TZID=America/New_York:20190928T220000
DTSTAMP:20260422T182626
CREATED:20190915T193706Z
LAST-MODIFIED:20190915T193707Z
UID:1266-1569697200-1569708000@bluemarlinami.com
SUMMARY:SYCAMORE SHADE
DESCRIPTION:
URL:https://bluemarlinami.com/live-music/sycamore-shade-2/
CATEGORIES:Live Music
END:VEVENT
BEGIN:VEVENT
DTSTART;TZID=America/New_York:20190927T190000
DTEND;TZID=America/New_York:20190927T220000
DTSTAMP:20260422T182626
CREATED:20190915T193634Z
LAST-MODIFIED:20190915T193635Z
UID:1264-1569610800-1569621600@bluemarlinami.com
SUMMARY:TREVOR BYSTROM
DESCRIPTION:
URL:https://bluemarlinami.com/live-music/trevor-bystrom-3/
CATEGORIES:Live Music
ATTACH;FMTTYPE=image/jpeg:https://bluemarlinami.com/wp-content/uploads/2019/08/TREVOR.jpg
END:VEVENT
BEGIN:VEVENT
DTSTART;TZID=America/New_York:20190921T190000
DTEND;TZID=America/New_York:20190921T220000
DTSTAMP:20260422T182626
CREATED:20190915T193545Z
LAST-MODIFIED:20190915T193546Z
UID:1262-1569092400-1569103200@bluemarlinami.com
SUMMARY:TREVOR BYSTROM
DESCRIPTION:
URL:https://bluemarlinami.com/live-music/trevor-bystrom-2/
CATEGORIES:Live Music
ATTACH;FMTTYPE=image/jpeg:https://bluemarlinami.com/wp-content/uploads/2019/08/TREVOR.jpg
END:VEVENT
BEGIN:VEVENT
DTSTART;TZID=America/New_York:20190920T190000
DTEND;TZID=America/New_York:20190920T220000
DTSTAMP:20260422T182626
CREATED:20190915T193443Z
LAST-MODIFIED:20190915T193444Z
UID:1260-1569006000-1569016800@bluemarlinami.com
SUMMARY:SYCAMORE SHADE
DESCRIPTION:BLUEGRASS
URL:https://bluemarlinami.com/live-music/sycamore-shade/
LOCATION:Blue Marlin\, 121 Historic Bridge Street\, Bradenton Beach\, FL\, 34217
CATEGORIES:Live Music
END:VEVENT
BEGIN:VEVENT
DTSTART;TZID=America/New_York:20190914T190000
DTEND;TZID=America/New_York:20190914T220000
DTSTAMP:20260422T182626
CREATED:20190828T202255Z
LAST-MODIFIED:20190828T202255Z
UID:1252-1568487600-1568498400@bluemarlinami.com
SUMMARY:PEDRO AREVALO
DESCRIPTION:
URL:https://bluemarlinami.com/live-music/pedro-arevalo-2/
CATEGORIES:Live Music
ATTACH;FMTTYPE=image/jpeg:https://bluemarlinami.com/wp-content/uploads/2019/08/PEDRO.jpg
END:VEVENT
BEGIN:VEVENT
DTSTART;TZID=America/New_York:20190913T190000
DTEND;TZID=America/New_York:20190913T220000
DTSTAMP:20260422T182626
CREATED:20190828T201908Z
LAST-MODIFIED:20190828T201908Z
UID:1250-1568401200-1568412000@bluemarlinami.com
SUMMARY:ALBERT DONADI
DESCRIPTION:
URL:https://bluemarlinami.com/live-music/albert-donadi-4/
CATEGORIES:Live Music
ATTACH;FMTTYPE=image/jpeg:https://bluemarlinami.com/wp-content/uploads/2019/08/donati.jpg
END:VEVENT
BEGIN:VEVENT
DTSTART;TZID=America/New_York:20190907T190000
DTEND;TZID=America/New_York:20190907T220000
DTSTAMP:20260422T182626
CREATED:20190828T203419Z
LAST-MODIFIED:20190828T203419Z
UID:1257-1567882800-1567893600@bluemarlinami.com
SUMMARY:TAYLOR OPIE
DESCRIPTION:
URL:https://bluemarlinami.com/live-music/taylor-opie/
CATEGORIES:Live Music
END:VEVENT
BEGIN:VEVENT
DTSTART;TZID=America/New_York:20190906T190000
DTEND;TZID=America/New_York:20190906T220000
DTSTAMP:20260422T182626
CREATED:20190828T201820Z
LAST-MODIFIED:20190828T201821Z
UID:1248-1567796400-1567807200@bluemarlinami.com
SUMMARY:ALBERT DONADI
DESCRIPTION:
URL:https://bluemarlinami.com/live-music/albert-donadi-3/
CATEGORIES:Live Music
ATTACH;FMTTYPE=image/jpeg:https://bluemarlinami.com/wp-content/uploads/2019/08/donati.jpg
END:VEVENT
BEGIN:VEVENT
DTSTART;TZID=America/New_York:20190831T190000
DTEND;TZID=America/New_York:20190831T220000
DTSTAMP:20260422T182626
CREATED:20190828T201657Z
LAST-MODIFIED:20190828T201657Z
UID:1245-1567278000-1567288800@bluemarlinami.com
SUMMARY:TREVOR BYSTROM
DESCRIPTION:
URL:https://bluemarlinami.com/live-music/trevor-bystrom/
CATEGORIES:Live Music
ATTACH;FMTTYPE=image/jpeg:https://bluemarlinami.com/wp-content/uploads/2019/08/TREVOR.jpg
END:VEVENT
BEGIN:VEVENT
DTSTART;TZID=America/New_York:20190830T190000
DTEND;TZID=America/New_York:20190830T220000
DTSTAMP:20260422T182626
CREATED:20190828T200856Z
LAST-MODIFIED:20190828T201205Z
UID:1242-1567191600-1567202400@bluemarlinami.com
SUMMARY:ALBERT DONADI
DESCRIPTION:
URL:https://bluemarlinami.com/live-music/albert-donadi-2/
LOCATION:Blue Marlin\, 121 Historic Bridge Street\, Bradenton Beach\, FL\, 34217
CATEGORIES:Live Music
ATTACH;FMTTYPE=image/jpeg:https://bluemarlinami.com/wp-content/uploads/2019/08/donati.jpg
END:VEVENT
BEGIN:VEVENT
DTSTART;TZID=America/New_York:20190727T190000
DTEND;TZID=America/New_York:20190727T220000
DTSTAMP:20260422T182626
CREATED:20190708T222346Z
LAST-MODIFIED:20190708T222458Z
UID:1239-1564254000-1564264800@bluemarlinami.com
SUMMARY:ALBERT DONADI BAND
DESCRIPTION:
URL:https://bluemarlinami.com/live-music/albert-donadi-20190727/
LOCATION:Blue Marlin\, 121 Historic Bridge Street\, Bradenton Beach\, FL\, 34217
CATEGORIES:Live Music
END:VEVENT
BEGIN:VEVENT
DTSTART;TZID=America/New_York:20190726T190000
DTEND;TZID=America/New_York:20190726T220000
DTSTAMP:20260422T182626
CREATED:20190708T222153Z
LAST-MODIFIED:20190708T222153Z
UID:1229-1564167600-1564178400@bluemarlinami.com
SUMMARY:Fever Tree
DESCRIPTION:
URL:https://bluemarlinami.com/live-music/bird-tribe-20190726/
LOCATION:Blue Marlin\, 121 Historic Bridge Street\, Bradenton Beach\, FL\, 34217
CATEGORIES:Live Music
END:VEVENT
BEGIN:VEVENT
DTSTART;TZID=America/New_York:20190725T190000
DTEND;TZID=America/New_York:20190725T220000
DTSTAMP:20260422T182626
CREATED:20190708T222320Z
LAST-MODIFIED:20190708T222713Z
UID:1235-1564081200-1564092000@bluemarlinami.com
SUMMARY:TREVOR BYSTROM BAND
DESCRIPTION:
URL:https://bluemarlinami.com/live-music/trevor-bystrom-band-20190725/
LOCATION:Blue Marlin\, 121 Historic Bridge Street\, Bradenton Beach\, FL\, 34217
CATEGORIES:Live Music
END:VEVENT
BEGIN:VEVENT
DTSTART;TZID=America/New_York:20190720T190000
DTEND;TZID=America/New_York:20190720T220000
DTSTAMP:20260422T182626
CREATED:20190708T221337Z
LAST-MODIFIED:20190708T221934Z
UID:1227-1563649200-1563660000@bluemarlinami.com
SUMMARY:Bird Tribe
DESCRIPTION:
URL:https://bluemarlinami.com/live-music/bird-tribe-20190720/
LOCATION:Blue Marlin\, 121 Historic Bridge Street\, Bradenton Beach\, FL\, 34217
CATEGORIES:Live Music
END:VEVENT
END:VCALENDAR