BEGIN:VCALENDAR
VERSION:2.0
PRODID:-//Blue Marlin Seafood - ECPv6.15.11//NONSGML v1.0//EN
CALSCALE:GREGORIAN
METHOD:PUBLISH
X-WR-CALNAME:Blue Marlin Seafood
X-ORIGINAL-URL:https://bluemarlinami.com
X-WR-CALDESC:Events for Blue Marlin Seafood
REFRESH-INTERVAL;VALUE=DURATION:PT1H
X-Robots-Tag:noindex
X-PUBLISHED-TTL:PT1H
BEGIN:VTIMEZONE
TZID:America/New_York
BEGIN:DAYLIGHT
TZOFFSETFROM:-0500
TZOFFSETTO:-0400
TZNAME:EDT
DTSTART:20210314T070000
END:DAYLIGHT
BEGIN:STANDARD
TZOFFSETFROM:-0400
TZOFFSETTO:-0500
TZNAME:EST
DTSTART:20211107T060000
END:STANDARD
BEGIN:DAYLIGHT
TZOFFSETFROM:-0500
TZOFFSETTO:-0400
TZNAME:EDT
DTSTART:20220313T070000
END:DAYLIGHT
BEGIN:STANDARD
TZOFFSETFROM:-0400
TZOFFSETTO:-0500
TZNAME:EST
DTSTART:20221106T060000
END:STANDARD
BEGIN:DAYLIGHT
TZOFFSETFROM:-0500
TZOFFSETTO:-0400
TZNAME:EDT
DTSTART:20230312T070000
END:DAYLIGHT
BEGIN:STANDARD
TZOFFSETFROM:-0400
TZOFFSETTO:-0500
TZNAME:EST
DTSTART:20231105T060000
END:STANDARD
END:VTIMEZONE
BEGIN:VEVENT
DTSTART;TZID=America/New_York:20221118T190000
DTEND;TZID=America/New_York:20221118T220000
DTSTAMP:20260419T183620
CREATED:20221027T201656Z
LAST-MODIFIED:20221027T201656Z
UID:2206-1668798000-1668808800@bluemarlinami.com
SUMMARY:SYCAMORE SHADE
DESCRIPTION:BLUEGRASS
URL:https://bluemarlinami.com/live-music/sycamore-shade-9/
CATEGORIES:Live Music
ATTACH;FMTTYPE=image/jpeg:https://bluemarlinami.com/wp-content/uploads/2021/02/SYCAMORE-SHADE.jpg
END:VEVENT
BEGIN:VEVENT
DTSTART;TZID=America/New_York:20221117T190000
DTEND;TZID=America/New_York:20221117T220000
DTSTAMP:20260419T183620
CREATED:20221104T195710Z
LAST-MODIFIED:20221104T195710Z
UID:2216-1668711600-1668722400@bluemarlinami.com
SUMMARY:TREVOR BYSTROM
DESCRIPTION:
URL:https://bluemarlinami.com/live-music/trevor-bystrom-9/
CATEGORIES:Live Music
ATTACH;FMTTYPE=image/jpeg:https://bluemarlinami.com/wp-content/uploads/2019/08/TREVOR.jpg
END:VEVENT
BEGIN:VEVENT
DTSTART;TZID=America/New_York:20221112T190000
DTEND;TZID=America/New_York:20221112T220000
DTSTAMP:20260419T183620
CREATED:20221104T202227Z
LAST-MODIFIED:20221104T223432Z
UID:2224-1668279600-1668290400@bluemarlinami.com
SUMMARY:ROYALE DUO
DESCRIPTION:
URL:https://bluemarlinami.com/live-music/royale-duo-2/
CATEGORIES:Live Music
ATTACH;FMTTYPE=image/jpeg:https://bluemarlinami.com/wp-content/uploads/2022/11/duo.jpg
END:VEVENT
BEGIN:VEVENT
DTSTART;TZID=America/New_York:20221111T190000
DTEND;TZID=America/New_York:20221111T220000
DTSTAMP:20260419T183620
CREATED:20221027T201419Z
LAST-MODIFIED:20221027T201419Z
UID:2198-1668193200-1668204000@bluemarlinami.com
SUMMARY:ALBERT DONADI
DESCRIPTION:ROCK
URL:https://bluemarlinami.com/live-music/albert-donadi-14/
CATEGORIES:Live Music
ATTACH;FMTTYPE=image/jpeg:https://bluemarlinami.com/wp-content/uploads/2019/08/donati.jpg
END:VEVENT
BEGIN:VEVENT
DTSTART;TZID=America/New_York:20221110T190000
DTEND;TZID=America/New_York:20221110T220000
DTSTAMP:20260419T183620
CREATED:20221104T195622Z
LAST-MODIFIED:20221104T222842Z
UID:2214-1668106800-1668117600@bluemarlinami.com
SUMMARY:TAYLOR OPIE
DESCRIPTION:
URL:https://bluemarlinami.com/live-music/taylor-opie-4/
CATEGORIES:Live Music
ATTACH;FMTTYPE=image/webp:https://bluemarlinami.com/wp-content/uploads/2022/11/opie.webp
END:VEVENT
BEGIN:VEVENT
DTSTART;TZID=America/New_York:20221105T190000
DTEND;TZID=America/New_York:20221105T220000
DTSTAMP:20260419T183620
CREATED:20221027T201622Z
LAST-MODIFIED:20221027T201622Z
UID:2204-1667674800-1667685600@bluemarlinami.com
SUMMARY:SYCAMORE SHADE
DESCRIPTION:BLUEGRASS
URL:https://bluemarlinami.com/live-music/sycamore-shade-8/
CATEGORIES:Live Music
ATTACH;FMTTYPE=image/jpeg:https://bluemarlinami.com/wp-content/uploads/2021/02/SYCAMORE-SHADE.jpg
END:VEVENT
BEGIN:VEVENT
DTSTART;TZID=America/New_York:20221104T190000
DTEND;TZID=America/New_York:20221104T220000
DTSTAMP:20260419T183620
CREATED:20221021T210455Z
LAST-MODIFIED:20221021T210455Z
UID:2195-1667588400-1667599200@bluemarlinami.com
SUMMARY:ALBERT DONADI
DESCRIPTION:ROCK
URL:https://bluemarlinami.com/live-music/albert-donadi-13/
CATEGORIES:Live Music
ATTACH;FMTTYPE=image/jpeg:https://bluemarlinami.com/wp-content/uploads/2019/08/donati.jpg
END:VEVENT
BEGIN:VEVENT
DTSTART;TZID=America/New_York:20221021T190000
DTEND;TZID=America/New_York:20221021T220000
DTSTAMP:20260419T183620
CREATED:20221021T202019Z
LAST-MODIFIED:20221021T202019Z
UID:2191-1666378800-1666389600@bluemarlinami.com
SUMMARY:TAYLOR OPIE
DESCRIPTION:
URL:https://bluemarlinami.com/live-music/taylor-opie-3/
CATEGORIES:Live Music
END:VEVENT
BEGIN:VEVENT
DTSTART;TZID=America/New_York:20221015T190000
DTEND;TZID=America/New_York:20221015T220000
DTSTAMP:20260419T183620
CREATED:20221005T191740Z
LAST-MODIFIED:20221005T191740Z
UID:2187-1665860400-1665871200@bluemarlinami.com
SUMMARY:PAUL & IEVA CATALDO
DESCRIPTION:
URL:https://bluemarlinami.com/live-music/paul-ieva-cataldo/
CATEGORIES:Live Music
ATTACH;FMTTYPE=image/jpeg:https://bluemarlinami.com/wp-content/uploads/2022/01/PAUL.jpg
END:VEVENT
BEGIN:VEVENT
DTSTART;TZID=America/New_York:20221007T190000
DTEND;TZID=America/New_York:20221007T220000
DTSTAMP:20260419T183620
CREATED:20221004T194915Z
LAST-MODIFIED:20221004T194941Z
UID:2183-1665169200-1665180000@bluemarlinami.com
SUMMARY:SYCAMORE SHADE
DESCRIPTION:BLUEGRASS
URL:https://bluemarlinami.com/live-music/sycamore-shade-7-2-3-2-3-2-2-2-3-2-3-2-2-2-2-4/
CATEGORIES:Live Music
ATTACH;FMTTYPE=image/jpeg:https://bluemarlinami.com/wp-content/uploads/2021/02/SYCAMORE-SHADE.jpg
END:VEVENT
BEGIN:VEVENT
DTSTART;TZID=America/New_York:20220925T190000
DTEND;TZID=America/New_York:20220925T220000
DTSTAMP:20260419T183620
CREATED:20221122T204834Z
LAST-MODIFIED:20221122T204856Z
UID:2246-1664132400-1664143200@bluemarlinami.com
SUMMARY:PANAMA DRIVE
DESCRIPTION:JAZZ
URL:https://bluemarlinami.com/live-music/panama-drive-3/
CATEGORIES:Live Music
ATTACH;FMTTYPE=image/jpeg:https://bluemarlinami.com/wp-content/uploads/2021/12/panama.jpg
END:VEVENT
BEGIN:VEVENT
DTSTART;TZID=America/New_York:20220723T190000
DTEND;TZID=America/New_York:20220723T220000
DTSTAMP:20260419T183620
CREATED:20220621T203629Z
LAST-MODIFIED:20220621T203629Z
UID:2170-1658602800-1658613600@bluemarlinami.com
SUMMARY:TREVOR BYSTROM
DESCRIPTION:
URL:https://bluemarlinami.com/live-music/sycamore-shade-7-2-3-2-3-2-2-2-3-2-3-3-2-2-2-2-2/
CATEGORIES:Live Music
ATTACH;FMTTYPE=image/jpeg:https://bluemarlinami.com/wp-content/uploads/2019/08/TREVOR.jpg
END:VEVENT
BEGIN:VEVENT
DTSTART;TZID=America/New_York:20220716T190000
DTEND;TZID=America/New_York:20220716T220000
DTSTAMP:20260419T183620
CREATED:20220621T203233Z
LAST-MODIFIED:20220621T203233Z
UID:2162-1657998000-1658008800@bluemarlinami.com
SUMMARY:TAYLOR OPIE TRIO
DESCRIPTION:
URL:https://bluemarlinami.com/live-music/tom-sandy-doyle-2-2-2-2-2-2-3-3-3-2-2-2-3/
CATEGORIES:Live Music
END:VEVENT
BEGIN:VEVENT
DTSTART;TZID=America/New_York:20220715T190000
DTEND;TZID=America/New_York:20220715T220000
DTSTAMP:20260419T183620
CREATED:20220621T203503Z
LAST-MODIFIED:20220621T203503Z
UID:2165-1657911600-1657922400@bluemarlinami.com
SUMMARY:PANAMA DRIVE
DESCRIPTION:JAZZ
URL:https://bluemarlinami.com/live-music/keith-james-3-3-3-4-2-2-2-2-2-2/
CATEGORIES:Live Music
ATTACH;FMTTYPE=image/jpeg:https://bluemarlinami.com/wp-content/uploads/2021/12/panama.jpg
END:VEVENT
BEGIN:VEVENT
DTSTART;TZID=America/New_York:20220708T190000
DTEND;TZID=America/New_York:20220708T220000
DTSTAMP:20260419T183620
CREATED:20220621T203127Z
LAST-MODIFIED:20220621T203127Z
UID:2163-1657306800-1657317600@bluemarlinami.com
SUMMARY:TAYLOR OPIE TRIO
DESCRIPTION:
URL:https://bluemarlinami.com/live-music/tom-sandy-doyle-2-2-2-2-2-2-3-3-3-2-2-2-2/
CATEGORIES:Live Music
END:VEVENT
BEGIN:VEVENT
DTSTART;TZID=America/New_York:20220702T190000
DTEND;TZID=America/New_York:20220702T220000
DTSTAMP:20260419T183620
CREATED:20220621T202947Z
LAST-MODIFIED:20220621T202947Z
UID:2158-1656788400-1656799200@bluemarlinami.com
SUMMARY:BLUE ROYALE
DESCRIPTION:
URL:https://bluemarlinami.com/live-music/tom-sandy-doyle-2-2-2-2-2-2-3-3-2-2-2/
CATEGORIES:Live Music
END:VEVENT
BEGIN:VEVENT
DTSTART;TZID=America/New_York:20220701T190000
DTEND;TZID=America/New_York:20220701T220000
DTSTAMP:20260419T183620
CREATED:20220621T203029Z
LAST-MODIFIED:20220621T203029Z
UID:2160-1656702000-1656712800@bluemarlinami.com
SUMMARY:SYCAMORE SHADE
DESCRIPTION:BLUEGRASS
URL:https://bluemarlinami.com/live-music/sycamore-shade-7-2-3-2-3-2-2-2-3-2-3-2-2-2-2-3/
CATEGORIES:Live Music
ATTACH;FMTTYPE=image/jpeg:https://bluemarlinami.com/wp-content/uploads/2021/02/SYCAMORE-SHADE.jpg
END:VEVENT
BEGIN:VEVENT
DTSTART;TZID=America/New_York:20220625T190000
DTEND;TZID=America/New_York:20220625T220000
DTSTAMP:20260419T183620
CREATED:20220502T192921Z
LAST-MODIFIED:20220502T193149Z
UID:2148-1656183600-1656194400@bluemarlinami.com
SUMMARY:TAYLOR OPIE TRIO
DESCRIPTION:
URL:https://bluemarlinami.com/live-music/tom-sandy-doyle-2-2-2-2-2-2-3-3-3-2-2-2/
CATEGORIES:Live Music
END:VEVENT
BEGIN:VEVENT
DTSTART;TZID=America/New_York:20220624T190000
DTEND;TZID=America/New_York:20220624T220000
DTSTAMP:20260419T183620
CREATED:20220502T192342Z
LAST-MODIFIED:20220502T192342Z
UID:2138-1656097200-1656108000@bluemarlinami.com
SUMMARY:EMILY ROSS
DESCRIPTION:
URL:https://bluemarlinami.com/live-music/emily-ross-2-2-2-2-4-2-2/
CATEGORIES:Live Music
ATTACH;FMTTYPE=image/jpeg:https://bluemarlinami.com/wp-content/uploads/2021/11/EMILY.jpg
END:VEVENT
BEGIN:VEVENT
DTSTART;TZID=America/New_York:20220623T183000
DTEND;TZID=America/New_York:20220623T213000
DTSTAMP:20260419T183620
CREATED:20220621T202848Z
LAST-MODIFIED:20220621T202848Z
UID:2156-1656009000-1656019800@bluemarlinami.com
SUMMARY:BRANDI SPARKS
DESCRIPTION:
URL:https://bluemarlinami.com/live-music/brandi-sparks/
CATEGORIES:Live Music
END:VEVENT
BEGIN:VEVENT
DTSTART;TZID=America/New_York:20220618T190000
DTEND;TZID=America/New_York:20220618T220000
DTSTAMP:20260419T183620
CREATED:20220502T192530Z
LAST-MODIFIED:20220502T192530Z
UID:2140-1655578800-1655589600@bluemarlinami.com
SUMMARY:ALBERT DONADI
DESCRIPTION:ROCK
URL:https://bluemarlinami.com/live-music/albert-donadi-12-3-2-2-2-3-2-2-3-2-2/
CATEGORIES:Live Music
ATTACH;FMTTYPE=image/jpeg:https://bluemarlinami.com/wp-content/uploads/2019/08/donati.jpg
END:VEVENT
BEGIN:VEVENT
DTSTART;TZID=America/New_York:20220617T190000
DTEND;TZID=America/New_York:20220617T220000
DTSTAMP:20260419T183620
CREATED:20220502T192216Z
LAST-MODIFIED:20220502T192216Z
UID:2134-1655492400-1655503200@bluemarlinami.com
SUMMARY:PANAMA DRIVE
DESCRIPTION:JAZZ
URL:https://bluemarlinami.com/live-music/keith-james-3-3-3-4-2-2-2-2-2/
CATEGORIES:Live Music
ATTACH;FMTTYPE=image/jpeg:https://bluemarlinami.com/wp-content/uploads/2021/12/panama.jpg
END:VEVENT
BEGIN:VEVENT
DTSTART;TZID=America/New_York:20220611T190000
DTEND;TZID=America/New_York:20220611T220000
DTSTAMP:20260419T183620
CREATED:20220502T192752Z
LAST-MODIFIED:20220502T192837Z
UID:2146-1654974000-1654984800@bluemarlinami.com
SUMMARY:BLUE ROYALE
DESCRIPTION:
URL:https://bluemarlinami.com/live-music/tom-sandy-doyle-2-2-2-2-2-2-3-3-2-2/
CATEGORIES:Live Music
END:VEVENT
BEGIN:VEVENT
DTSTART;TZID=America/New_York:20220610T190000
DTEND;TZID=America/New_York:20220610T220000
DTSTAMP:20260419T183620
CREATED:20220502T192250Z
LAST-MODIFIED:20220502T192250Z
UID:2136-1654887600-1654898400@bluemarlinami.com
SUMMARY:TAYLOR OPIE TRIO
DESCRIPTION:
URL:https://bluemarlinami.com/live-music/tom-sandy-doyle-2-2-2-2-2-2-3-3-3-2-2/
CATEGORIES:Live Music
END:VEVENT
BEGIN:VEVENT
DTSTART;TZID=America/New_York:20220604T190000
DTEND;TZID=America/New_York:20220604T220000
DTSTAMP:20260419T183620
CREATED:20220502T192703Z
LAST-MODIFIED:20220502T192703Z
UID:2144-1654369200-1654380000@bluemarlinami.com
SUMMARY:ALBERT DONADI
DESCRIPTION:ROCK
URL:https://bluemarlinami.com/live-music/albert-donadi-12-3-2-2-2-3-2-2-3-2-2-2/
CATEGORIES:Live Music
ATTACH;FMTTYPE=image/jpeg:https://bluemarlinami.com/wp-content/uploads/2019/08/donati.jpg
END:VEVENT
BEGIN:VEVENT
DTSTART;TZID=America/New_York:20220603T190000
DTEND;TZID=America/New_York:20220603T220000
DTSTAMP:20260419T183620
CREATED:20220502T192611Z
LAST-MODIFIED:20220601T194510Z
UID:2142-1654282800-1654293600@bluemarlinami.com
SUMMARY:AL FULLER
DESCRIPTION:BLUEGRASS
URL:https://bluemarlinami.com/live-music/sycamore-shade-7-2-3-2-3-2-2-2-3-2-3-2-2-2-2-2/
CATEGORIES:Live Music
ATTACH;FMTTYPE=image/jpeg:https://bluemarlinami.com/wp-content/uploads/2021/02/SYCAMORE-SHADE.jpg
END:VEVENT
BEGIN:VEVENT
DTSTART;TZID=America/New_York:20220528T190000
DTEND;TZID=America/New_York:20220528T220000
DTSTAMP:20260419T183620
CREATED:20220502T192045Z
LAST-MODIFIED:20220502T192045Z
UID:2132-1653764400-1653775200@bluemarlinami.com
SUMMARY:TAYLOR OPIE TRIO
DESCRIPTION:
URL:https://bluemarlinami.com/live-music/tom-sandy-doyle-2-2-2-2-2-2-3-3-3-2/
CATEGORIES:Live Music
END:VEVENT
BEGIN:VEVENT
DTSTART;TZID=America/New_York:20220527T190000
DTEND;TZID=America/New_York:20220527T220000
DTSTAMP:20260419T183620
CREATED:20220502T191952Z
LAST-MODIFIED:20220504T192655Z
UID:2130-1653678000-1653688800@bluemarlinami.com
SUMMARY:PRIVATE PARTY
DESCRIPTION:
URL:https://bluemarlinami.com/live-music/emily-ross-2-2-2-2-4-2/
CATEGORIES:Live Music
ATTACH;FMTTYPE=image/jpeg:https://bluemarlinami.com/wp-content/uploads/2021/11/EMILY.jpg
END:VEVENT
BEGIN:VEVENT
DTSTART;TZID=America/New_York:20220521T190000
DTEND;TZID=America/New_York:20220521T220000
DTSTAMP:20260419T183620
CREATED:20220519T190502Z
LAST-MODIFIED:20220519T190502Z
UID:2151-1653159600-1653170400@bluemarlinami.com
SUMMARY:NO MUSIC THIS NIGHT
DESCRIPTION:
URL:https://bluemarlinami.com/live-music/emily-ross-2-2-2-2-4-2-3/
CATEGORIES:Live Music
END:VEVENT
BEGIN:VEVENT
DTSTART;TZID=America/New_York:20220514T190000
DTEND;TZID=America/New_York:20220514T220000
DTSTAMP:20260419T183620
CREATED:20220502T191801Z
LAST-MODIFIED:20220502T191801Z
UID:2126-1652554800-1652565600@bluemarlinami.com
SUMMARY:TREVOR BYSTROM
DESCRIPTION:
URL:https://bluemarlinami.com/live-music/sycamore-shade-7-2-3-2-3-2-2-2-3-2-3-3-2-2-2-2/
CATEGORIES:Live Music
ATTACH;FMTTYPE=image/jpeg:https://bluemarlinami.com/wp-content/uploads/2019/08/TREVOR.jpg
END:VEVENT
END:VCALENDAR