BEGIN:VCALENDAR
VERSION:2.0
PRODID:-//Blue Marlin Seafood - ECPv6.15.11//NONSGML v1.0//EN
CALSCALE:GREGORIAN
METHOD:PUBLISH
X-WR-CALNAME:Blue Marlin Seafood
X-ORIGINAL-URL:https://bluemarlinami.com
X-WR-CALDESC:Events for Blue Marlin Seafood
REFRESH-INTERVAL;VALUE=DURATION:PT1H
X-Robots-Tag:noindex
X-PUBLISHED-TTL:PT1H
BEGIN:VTIMEZONE
TZID:America/New_York
BEGIN:DAYLIGHT
TZOFFSETFROM:-0500
TZOFFSETTO:-0400
TZNAME:EDT
DTSTART:20180311T070000
END:DAYLIGHT
BEGIN:STANDARD
TZOFFSETFROM:-0400
TZOFFSETTO:-0500
TZNAME:EST
DTSTART:20181104T060000
END:STANDARD
BEGIN:DAYLIGHT
TZOFFSETFROM:-0500
TZOFFSETTO:-0400
TZNAME:EDT
DTSTART:20190310T070000
END:DAYLIGHT
BEGIN:STANDARD
TZOFFSETFROM:-0400
TZOFFSETTO:-0500
TZNAME:EST
DTSTART:20191103T060000
END:STANDARD
BEGIN:DAYLIGHT
TZOFFSETFROM:-0500
TZOFFSETTO:-0400
TZNAME:EDT
DTSTART:20200308T070000
END:DAYLIGHT
BEGIN:STANDARD
TZOFFSETFROM:-0400
TZOFFSETTO:-0500
TZNAME:EST
DTSTART:20201101T060000
END:STANDARD
END:VTIMEZONE
BEGIN:VEVENT
DTSTART;TZID=America/New_York:20190607T190000
DTEND;TZID=America/New_York:20190607T220000
DTSTAMP:20260422T181044
CREATED:20190624T201621Z
LAST-MODIFIED:20190624T203328Z
UID:1209-1559934000-1559944800@bluemarlinami.com
SUMMARY:Brittney McCracken
DESCRIPTION:
URL:https://bluemarlinami.com/live-music/brittney-mccracken/
LOCATION:Blue Marlin\, 121 Historic Bridge Street\, Bradenton Beach\, FL\, 34217
CATEGORIES:Live Music
END:VEVENT
BEGIN:VEVENT
DTSTART;TZID=America/New_York:20190601T190000
DTEND;TZID=America/New_York:20190601T220000
DTSTAMP:20260422T181044
CREATED:20190624T201531Z
LAST-MODIFIED:20190624T201531Z
UID:1207-1559415600-1559426400@bluemarlinami.com
SUMMARY:Pedro Arevalo
DESCRIPTION:
URL:https://bluemarlinami.com/live-music/pedro-arevalo/
LOCATION:Blue Marlin\, 121 Historic Bridge Street\, Bradenton Beach\, FL\, 34217
CATEGORIES:Live Music
END:VEVENT
BEGIN:VEVENT
DTSTART;VALUE=DATE:20190424
DTEND;VALUE=DATE:20190426
DTSTAMP:20260422T181044
CREATED:20190402T223828Z
LAST-MODIFIED:20190402T223828Z
UID:937-1556136000-1556222399@bluemarlinami.com
SUMMARY:TREVOR BYSTROM BAND
DESCRIPTION:
URL:https://bluemarlinami.com/live-music/trevor-bystrom-band-2/
CATEGORIES:Live Music
END:VEVENT
BEGIN:VEVENT
DTSTART;VALUE=DATE:20190419
DTEND;VALUE=DATE:20190421
DTSTAMP:20260422T181044
CREATED:20190402T223650Z
LAST-MODIFIED:20190402T223650Z
UID:935-1555704000-1555790399@bluemarlinami.com
SUMMARY:BIRDTRIBE
DESCRIPTION:
URL:https://bluemarlinami.com/live-music/birdtribe/
CATEGORIES:Live Music
END:VEVENT
BEGIN:VEVENT
DTSTART;VALUE=DATE:20190418
DTEND;VALUE=DATE:20190420
DTSTAMP:20260422T181044
CREATED:20190402T223450Z
LAST-MODIFIED:20190402T223450Z
UID:933-1555617600-1555703999@bluemarlinami.com
SUMMARY:NICK HAAS TRIO
DESCRIPTION:
URL:https://bluemarlinami.com/live-music/nick-haas-trio/
CATEGORIES:Live Music
END:VEVENT
BEGIN:VEVENT
DTSTART;VALUE=DATE:20190417
DTEND;VALUE=DATE:20190419
DTSTAMP:20260422T181044
CREATED:20190402T223257Z
LAST-MODIFIED:20190402T223257Z
UID:931-1555531200-1555617599@bluemarlinami.com
SUMMARY:ALBERT DONADI BAND
DESCRIPTION:
URL:https://bluemarlinami.com/live-music/albert-donadi-band/
CATEGORIES:Live Music
END:VEVENT
BEGIN:VEVENT
DTSTART;VALUE=DATE:20190412
DTEND;VALUE=DATE:20190414
DTSTAMP:20260422T181044
CREATED:20190402T222641Z
LAST-MODIFIED:20190404T205344Z
UID:929-1555099200-1555185599@bluemarlinami.com
SUMMARY:BLUES & BLACKSTREET
DESCRIPTION:
URL:https://bluemarlinami.com/live-music/blues-blackstreet/
CATEGORIES:Live Music
END:VEVENT
BEGIN:VEVENT
DTSTART;VALUE=DATE:20190411
DTEND;VALUE=DATE:20190413
DTSTAMP:20260422T181044
CREATED:20190402T222511Z
LAST-MODIFIED:20190402T222511Z
UID:927-1555012800-1555099199@bluemarlinami.com
SUMMARY:TREVOR BYSTROM BAND
DESCRIPTION:
URL:https://bluemarlinami.com/live-music/trevor-bystrom-band/
CATEGORIES:Live Music
END:VEVENT
BEGIN:VEVENT
DTSTART;VALUE=DATE:20190410
DTEND;VALUE=DATE:20190412
DTSTAMP:20260422T181044
CREATED:20190402T222307Z
LAST-MODIFIED:20190402T222307Z
UID:923-1554926400-1555012799@bluemarlinami.com
SUMMARY:TREVOR'S SINGER SONGWRITER JAM
DESCRIPTION:
URL:https://bluemarlinami.com/live-music/trevors-singer-songwriter-jam/
CATEGORIES:Live Music
END:VEVENT
BEGIN:VEVENT
DTSTART;VALUE=DATE:20190405
DTEND;VALUE=DATE:20190407
DTSTAMP:20260422T181044
CREATED:20190402T221449Z
LAST-MODIFIED:20190404T155609Z
UID:921-1554494400-1554580799@bluemarlinami.com
SUMMARY:Pedro & Zooey
DESCRIPTION:
URL:https://bluemarlinami.com/live-music/pedro-zooey/
CATEGORIES:Live Music
END:VEVENT
END:VCALENDAR