BEGIN:VCALENDAR
VERSION:2.0
PRODID:-//Blue Marlin Seafood - ECPv6.15.11//NONSGML v1.0//EN
CALSCALE:GREGORIAN
METHOD:PUBLISH
X-WR-CALNAME:Blue Marlin Seafood
X-ORIGINAL-URL:https://bluemarlinami.com
X-WR-CALDESC:Events for Blue Marlin Seafood
REFRESH-INTERVAL;VALUE=DURATION:PT1H
X-Robots-Tag:noindex
X-PUBLISHED-TTL:PT1H
BEGIN:VTIMEZONE
TZID:America/New_York
BEGIN:DAYLIGHT
TZOFFSETFROM:-0500
TZOFFSETTO:-0400
TZNAME:EDT
DTSTART:20230312T070000
END:DAYLIGHT
BEGIN:STANDARD
TZOFFSETFROM:-0400
TZOFFSETTO:-0500
TZNAME:EST
DTSTART:20231105T060000
END:STANDARD
BEGIN:DAYLIGHT
TZOFFSETFROM:-0500
TZOFFSETTO:-0400
TZNAME:EDT
DTSTART:20240310T070000
END:DAYLIGHT
BEGIN:STANDARD
TZOFFSETFROM:-0400
TZOFFSETTO:-0500
TZNAME:EST
DTSTART:20241103T060000
END:STANDARD
BEGIN:DAYLIGHT
TZOFFSETFROM:-0500
TZOFFSETTO:-0400
TZNAME:EDT
DTSTART:20250309T070000
END:DAYLIGHT
BEGIN:STANDARD
TZOFFSETFROM:-0400
TZOFFSETTO:-0500
TZNAME:EST
DTSTART:20251102T060000
END:STANDARD
BEGIN:DAYLIGHT
TZOFFSETFROM:-0500
TZOFFSETTO:-0400
TZNAME:EDT
DTSTART:20260308T070000
END:DAYLIGHT
BEGIN:STANDARD
TZOFFSETFROM:-0400
TZOFFSETTO:-0500
TZNAME:EST
DTSTART:20261101T060000
END:STANDARD
END:VTIMEZONE
BEGIN:VEVENT
DTSTART;TZID=America/New_York:20250620T190000
DTEND;TZID=America/New_York:20250620T220000
DTSTAMP:20260419T221330
CREATED:20250612T155843Z
LAST-MODIFIED:20250612T160006Z
UID:2833-1750446000-1750456800@bluemarlinami.com
SUMMARY:SYCAMORE SHADE
DESCRIPTION:BLUEGRASS
URL:https://bluemarlinami.com/live-music/sycamore-shade-28/
CATEGORIES:Live Music
ATTACH;FMTTYPE=image/jpeg:https://bluemarlinami.com/wp-content/uploads/2021/02/SYCAMORE-SHADE.jpg
END:VEVENT
BEGIN:VEVENT
DTSTART;TZID=America/New_York:20250614T190000
DTEND;TZID=America/New_York:20250614T220000
DTSTAMP:20260419T221330
CREATED:20250612T225520Z
LAST-MODIFIED:20250612T225520Z
UID:2842-1749927600-1749938400@bluemarlinami.com
SUMMARY:ALBERT DONADI
DESCRIPTION:ROCK
URL:https://bluemarlinami.com/live-music/albert-donadi-42/
CATEGORIES:Live Music
ATTACH;FMTTYPE=image/jpeg:https://bluemarlinami.com/wp-content/uploads/2019/08/donati.jpg
END:VEVENT
BEGIN:VEVENT
DTSTART;TZID=America/New_York:20240525T143000
DTEND;TZID=America/New_York:20240525T173000
DTSTAMP:20260419T221330
CREATED:20240308T221517Z
LAST-MODIFIED:20240308T221517Z
UID:2772-1716647400-1716658200@bluemarlinami.com
SUMMARY:MATT FROST
DESCRIPTION:
URL:https://bluemarlinami.com/live-music/matt-frost-3/
LOCATION:Blue Marlin\, 121 Historic Bridge Street\, Bradenton Beach\, FL\, 34217
CATEGORIES:Live Music
ATTACH;FMTTYPE=image/webp:https://bluemarlinami.com/wp-content/uploads/2024/03/matt-frost.webp
END:VEVENT
BEGIN:VEVENT
DTSTART;TZID=America/New_York:20240524T190000
DTEND;TZID=America/New_York:20240524T220000
DTSTAMP:20260419T221330
CREATED:20240308T221713Z
LAST-MODIFIED:20240308T221713Z
UID:2777-1716577200-1716588000@bluemarlinami.com
SUMMARY:ALBERT DONADI
DESCRIPTION:ROCK
URL:https://bluemarlinami.com/live-music/albert-donadi-41/
CATEGORIES:Live Music
ATTACH;FMTTYPE=image/jpeg:https://bluemarlinami.com/wp-content/uploads/2019/08/donati.jpg
END:VEVENT
BEGIN:VEVENT
DTSTART;TZID=America/New_York:20240523T190000
DTEND;TZID=America/New_York:20240523T220000
DTSTAMP:20260419T221330
CREATED:20240308T222150Z
LAST-MODIFIED:20240308T222150Z
UID:2782-1716490800-1716501600@bluemarlinami.com
SUMMARY:JAMES ALBRITTON
DESCRIPTION:
URL:https://bluemarlinami.com/live-music/james-albritton-16/
CATEGORIES:Live Music
ATTACH;FMTTYPE=image/jpeg:https://bluemarlinami.com/wp-content/uploads/2023/07/ALBRITTON-1.jpg
END:VEVENT
BEGIN:VEVENT
DTSTART;TZID=America/New_York:20240518T190000
DTEND;TZID=America/New_York:20240518T220000
DTSTAMP:20260419T221330
CREATED:20240329T201227Z
LAST-MODIFIED:20240329T201227Z
UID:2791-1716058800-1716069600@bluemarlinami.com
SUMMARY:STEVE PARADIS
DESCRIPTION:
URL:https://bluemarlinami.com/live-music/steve-paradis-12/
CATEGORIES:Live Music
ATTACH;FMTTYPE=image/jpeg:https://bluemarlinami.com/wp-content/uploads/2023/07/PARADIS.jpg
END:VEVENT
BEGIN:VEVENT
DTSTART;TZID=America/New_York:20240517T190000
DTEND;TZID=America/New_York:20240517T220000
DTSTAMP:20260419T221330
CREATED:20240329T201138Z
LAST-MODIFIED:20240329T201138Z
UID:2789-1715972400-1715983200@bluemarlinami.com
SUMMARY:TREVOR BYSTROM
DESCRIPTION:
URL:https://bluemarlinami.com/live-music/trevor-bystrom-42/
CATEGORIES:Live Music
ATTACH;FMTTYPE=image/jpeg:https://bluemarlinami.com/wp-content/uploads/2019/08/TREVOR.jpg
END:VEVENT
BEGIN:VEVENT
DTSTART;TZID=America/New_York:20240511T143000
DTEND;TZID=America/New_York:20240511T173000
DTSTAMP:20260419T221330
CREATED:20240308T221359Z
LAST-MODIFIED:20240308T221359Z
UID:2771-1715437800-1715448600@bluemarlinami.com
SUMMARY:MATT FROST
DESCRIPTION:
URL:https://bluemarlinami.com/live-music/matt-frost-2/
LOCATION:Blue Marlin\, 121 Historic Bridge Street\, Bradenton Beach\, FL\, 34217
CATEGORIES:Live Music
ATTACH;FMTTYPE=image/webp:https://bluemarlinami.com/wp-content/uploads/2024/03/matt-frost.webp
END:VEVENT
BEGIN:VEVENT
DTSTART;TZID=America/New_York:20240510T190000
DTEND;TZID=America/New_York:20240510T220000
DTSTAMP:20260419T221330
CREATED:20240308T221640Z
LAST-MODIFIED:20240308T221640Z
UID:2778-1715367600-1715378400@bluemarlinami.com
SUMMARY:ALBERT DONADI
DESCRIPTION:ROCK
URL:https://bluemarlinami.com/live-music/albert-donadi-40/
CATEGORIES:Live Music
ATTACH;FMTTYPE=image/jpeg:https://bluemarlinami.com/wp-content/uploads/2019/08/donati.jpg
END:VEVENT
BEGIN:VEVENT
DTSTART;TZID=America/New_York:20240509T190000
DTEND;TZID=America/New_York:20240509T220000
DTSTAMP:20260419T221330
CREATED:20240308T222114Z
LAST-MODIFIED:20240308T222114Z
UID:2781-1715281200-1715292000@bluemarlinami.com
SUMMARY:JAMES ALBRITTON
DESCRIPTION:
URL:https://bluemarlinami.com/live-music/james-albritton-15/
CATEGORIES:Live Music
ATTACH;FMTTYPE=image/jpeg:https://bluemarlinami.com/wp-content/uploads/2023/07/ALBRITTON-1.jpg
END:VEVENT
BEGIN:VEVENT
DTSTART;TZID=America/New_York:20240503T190000
DTEND;TZID=America/New_York:20240503T220000
DTSTAMP:20260419T221330
CREATED:20240308T221554Z
LAST-MODIFIED:20240308T221554Z
UID:2775-1714762800-1714773600@bluemarlinami.com
SUMMARY:SYCAMORE SHADE
DESCRIPTION:BLUEGRASS
URL:https://bluemarlinami.com/live-music/sycamore-shade-27/
CATEGORIES:Live Music
ATTACH;FMTTYPE=image/jpeg:https://bluemarlinami.com/wp-content/uploads/2021/02/SYCAMORE-SHADE.jpg
END:VEVENT
BEGIN:VEVENT
DTSTART;TZID=America/New_York:20240427T190000
DTEND;TZID=America/New_York:20240427T220000
DTSTAMP:20260419T221330
CREATED:20240304T205510Z
LAST-MODIFIED:20240308T221219Z
UID:2736-1714244400-1714255200@bluemarlinami.com
SUMMARY:DEAN JOHANESEN
DESCRIPTION:
URL:https://bluemarlinami.com/live-music/dean-johanesen-4/
CATEGORIES:Live Music
ATTACH;FMTTYPE=image/webp:https://bluemarlinami.com/wp-content/uploads/2024/02/DEAN-J.webp
END:VEVENT
BEGIN:VEVENT
DTSTART;TZID=America/New_York:20240426T190000
DTEND;TZID=America/New_York:20240426T220000
DTSTAMP:20260419T221330
CREATED:20240306T003315Z
LAST-MODIFIED:20240308T221132Z
UID:2754-1714158000-1714168800@bluemarlinami.com
SUMMARY:ALBERT DONADI
DESCRIPTION:ROCK
URL:https://bluemarlinami.com/live-music/albert-donadi-39/
CATEGORIES:Live Music
ATTACH;FMTTYPE=image/jpeg:https://bluemarlinami.com/wp-content/uploads/2019/08/donati.jpg
END:VEVENT
BEGIN:VEVENT
DTSTART;TZID=America/New_York:20240425T190000
DTEND;TZID=America/New_York:20240425T220000
DTSTAMP:20260419T221330
CREATED:20240304T205717Z
LAST-MODIFIED:20240304T205717Z
UID:2738-1714071600-1714082400@bluemarlinami.com
SUMMARY:JAMES ALBRITTON
DESCRIPTION:
URL:https://bluemarlinami.com/live-music/james-albritton-14/
CATEGORIES:Live Music
ATTACH;FMTTYPE=image/jpeg:https://bluemarlinami.com/wp-content/uploads/2023/07/ALBRITTON-1.jpg
END:VEVENT
BEGIN:VEVENT
DTSTART;TZID=America/New_York:20240420T190000
DTEND;TZID=America/New_York:20240420T220000
DTSTAMP:20260419T221330
CREATED:20240308T221043Z
LAST-MODIFIED:20240308T221043Z
UID:2769-1713639600-1713650400@bluemarlinami.com
SUMMARY:STEVE PARADIS
DESCRIPTION:
URL:https://bluemarlinami.com/live-music/steve-paradis-11/
CATEGORIES:Live Music
ATTACH;FMTTYPE=image/jpeg:https://bluemarlinami.com/wp-content/uploads/2023/07/PARADIS.jpg
END:VEVENT
BEGIN:VEVENT
DTSTART;TZID=America/New_York:20240419T150000
DTEND;TZID=America/New_York:20240419T180000
DTSTAMP:20260419T221330
CREATED:20240308T220817Z
LAST-MODIFIED:20240308T220840Z
UID:2766-1713538800-1713549600@bluemarlinami.com
SUMMARY:JON PETTUS JAZZ TRIO
DESCRIPTION:
URL:https://bluemarlinami.com/live-music/jon-pettus-jazz-trio/
LOCATION:Blue Marlin\, 121 Historic Bridge Street\, Bradenton Beach\, FL\, 34217
CATEGORIES:Live Music
ATTACH;FMTTYPE=image/jpeg:https://bluemarlinami.com/wp-content/uploads/2024/03/JON-PETTUS.jpg
END:VEVENT
BEGIN:VEVENT
DTSTART;TZID=America/New_York:20240418T143000
DTEND;TZID=America/New_York:20240418T163000
DTSTAMP:20260419T221330
CREATED:20240308T220405Z
LAST-MODIFIED:20240308T220406Z
UID:2763-1713450600-1713457800@bluemarlinami.com
SUMMARY:THE GARBAGE-MEN
DESCRIPTION:
URL:https://bluemarlinami.com/live-music/the-garbage-men/
CATEGORIES:Live Music
ATTACH;FMTTYPE=image/jpeg:https://bluemarlinami.com/wp-content/uploads/2024/03/GARBAGE-MEN.jpg
END:VEVENT
BEGIN:VEVENT
DTSTART;TZID=America/New_York:20240413T190000
DTEND;TZID=America/New_York:20240413T220000
DTSTAMP:20260419T221330
CREATED:20240304T205532Z
LAST-MODIFIED:20240304T205532Z
UID:2737-1713034800-1713045600@bluemarlinami.com
SUMMARY:TAYLOR OPIE
DESCRIPTION:
URL:https://bluemarlinami.com/live-music/taylor-opie-37/
CATEGORIES:Live Music
ATTACH;FMTTYPE=image/webp:https://bluemarlinami.com/wp-content/uploads/2022/11/opie.webp
END:VEVENT
BEGIN:VEVENT
DTSTART;TZID=America/New_York:20240412T190000
DTEND;TZID=America/New_York:20240412T220000
DTSTAMP:20260419T221330
CREATED:20240306T003226Z
LAST-MODIFIED:20240306T003226Z
UID:2755-1712948400-1712959200@bluemarlinami.com
SUMMARY:ALBERT DONADI
DESCRIPTION:ROCK
URL:https://bluemarlinami.com/live-music/albert-donadi-38/
CATEGORIES:Live Music
ATTACH;FMTTYPE=image/jpeg:https://bluemarlinami.com/wp-content/uploads/2019/08/donati.jpg
END:VEVENT
BEGIN:VEVENT
DTSTART;TZID=America/New_York:20240411T190000
DTEND;TZID=America/New_York:20240411T220000
DTSTAMP:20260419T221330
CREATED:20240304T205651Z
LAST-MODIFIED:20240304T205651Z
UID:2739-1712862000-1712872800@bluemarlinami.com
SUMMARY:JAMES ALBRITTON
DESCRIPTION:
URL:https://bluemarlinami.com/live-music/james-albritton-13/
CATEGORIES:Live Music
ATTACH;FMTTYPE=image/jpeg:https://bluemarlinami.com/wp-content/uploads/2023/07/ALBRITTON-1.jpg
END:VEVENT
BEGIN:VEVENT
DTSTART;TZID=America/New_York:20240406T190000
DTEND;TZID=America/New_York:20240406T220000
DTSTAMP:20260419T221330
CREATED:20240304T205959Z
LAST-MODIFIED:20240304T205959Z
UID:2745-1712430000-1712440800@bluemarlinami.com
SUMMARY:TREVOR BYSTROM
DESCRIPTION:
URL:https://bluemarlinami.com/live-music/trevor-bystrom-40/
CATEGORIES:Live Music
ATTACH;FMTTYPE=image/jpeg:https://bluemarlinami.com/wp-content/uploads/2019/08/TREVOR.jpg
END:VEVENT
BEGIN:VEVENT
DTSTART;TZID=America/New_York:20240405T190000
DTEND;TZID=America/New_York:20240405T220000
DTSTAMP:20260419T221330
CREATED:20240306T002438Z
LAST-MODIFIED:20240306T002438Z
UID:2748-1712343600-1712354400@bluemarlinami.com
SUMMARY:SYCAMORE SHADE
DESCRIPTION:BLUEGRASS
URL:https://bluemarlinami.com/live-music/sycamore-shade-26/
CATEGORIES:Live Music
ATTACH;FMTTYPE=image/jpeg:https://bluemarlinami.com/wp-content/uploads/2021/02/SYCAMORE-SHADE.jpg
END:VEVENT
BEGIN:VEVENT
DTSTART;TZID=America/New_York:20240404T190000
DTEND;TZID=America/New_York:20240404T220000
DTSTAMP:20260419T221330
CREATED:20240304T205818Z
LAST-MODIFIED:20240304T205818Z
UID:2744-1712257200-1712268000@bluemarlinami.com
SUMMARY:PAUL & IEVA CATALDO
DESCRIPTION:
URL:https://bluemarlinami.com/live-music/paul-ieva-cataldo-8/
CATEGORIES:Live Music
ATTACH;FMTTYPE=image/jpeg:https://bluemarlinami.com/wp-content/uploads/2022/01/PAUL.jpg
END:VEVENT
BEGIN:VEVENT
DTSTART;TZID=America/New_York:20240330T190000
DTEND;TZID=America/New_York:20240330T220000
DTSTAMP:20260419T221330
CREATED:20240213T211333Z
LAST-MODIFIED:20240308T215829Z
UID:2727-1711825200-1711836000@bluemarlinami.com
SUMMARY:DEAN JOHANESEN
DESCRIPTION:
URL:https://bluemarlinami.com/live-music/dean-johanesen-3/
CATEGORIES:Live Music
ATTACH;FMTTYPE=image/webp:https://bluemarlinami.com/wp-content/uploads/2024/02/DEAN-J.webp
END:VEVENT
BEGIN:VEVENT
DTSTART;TZID=America/New_York:20240329T190000
DTEND;TZID=America/New_York:20240329T220000
DTSTAMP:20260419T221330
CREATED:20240306T003008Z
LAST-MODIFIED:20240306T003008Z
UID:2752-1711738800-1711749600@bluemarlinami.com
SUMMARY:TREVOR BYSTROM
DESCRIPTION:
URL:https://bluemarlinami.com/live-music/trevor-bystrom-41/
CATEGORIES:Live Music
ATTACH;FMTTYPE=image/jpeg:https://bluemarlinami.com/wp-content/uploads/2019/08/TREVOR.jpg
END:VEVENT
BEGIN:VEVENT
DTSTART;TZID=America/New_York:20240328T190000
DTEND;TZID=America/New_York:20240328T220000
DTSTAMP:20260419T221330
CREATED:20240213T210248Z
LAST-MODIFIED:20240213T210248Z
UID:2709-1711652400-1711663200@bluemarlinami.com
SUMMARY:JAMES ALBRITTON
DESCRIPTION:
URL:https://bluemarlinami.com/live-music/james-albritton-12/
CATEGORIES:Live Music
ATTACH;FMTTYPE=image/jpeg:https://bluemarlinami.com/wp-content/uploads/2023/07/ALBRITTON-1.jpg
END:VEVENT
BEGIN:VEVENT
DTSTART;TZID=America/New_York:20240323T190000
DTEND;TZID=America/New_York:20240323T220000
DTSTAMP:20260419T221330
CREATED:20240213T211223Z
LAST-MODIFIED:20240213T211223Z
UID:2725-1711220400-1711231200@bluemarlinami.com
SUMMARY:PAUL & IEVA CATALDO
DESCRIPTION:
URL:https://bluemarlinami.com/live-music/paul-ieva-cataldo-7/
CATEGORIES:Live Music
ATTACH;FMTTYPE=image/jpeg:https://bluemarlinami.com/wp-content/uploads/2022/01/PAUL.jpg
END:VEVENT
BEGIN:VEVENT
DTSTART;TZID=America/New_York:20240322T190000
DTEND;TZID=America/New_York:20240322T220000
DTSTAMP:20260419T221330
CREATED:20240213T210049Z
LAST-MODIFIED:20240213T210049Z
UID:2705-1711134000-1711144800@bluemarlinami.com
SUMMARY:LUKE ANDREWS
DESCRIPTION:
URL:https://bluemarlinami.com/live-music/luke-andrews-7/
CATEGORIES:Live Music
ATTACH;FMTTYPE=image/jpeg:https://bluemarlinami.com/wp-content/uploads/2023/08/luke.jpg
END:VEVENT
BEGIN:VEVENT
DTSTART;TZID=America/New_York:20240321T183000
DTEND;TZID=America/New_York:20240321T213000
DTSTAMP:20260419T221330
CREATED:20240308T215109Z
LAST-MODIFIED:20240315T204014Z
UID:2758-1711045800-1711056600@bluemarlinami.com
SUMMARY:MATT FROST
DESCRIPTION:
URL:https://bluemarlinami.com/live-music/matt-frost/
LOCATION:Blue Marlin\, 121 Historic Bridge Street\, Bradenton Beach\, FL\, 34217
CATEGORIES:Live Music
ATTACH;FMTTYPE=image/webp:https://bluemarlinami.com/wp-content/uploads/2024/03/matt-frost.webp
END:VEVENT
BEGIN:VEVENT
DTSTART;TZID=America/New_York:20240316T190000
DTEND;TZID=America/New_York:20240316T220000
DTSTAMP:20260419T221330
CREATED:20240213T211130Z
LAST-MODIFIED:20240213T211130Z
UID:2723-1710615600-1710626400@bluemarlinami.com
SUMMARY:STEVE PARADIS
DESCRIPTION:
URL:https://bluemarlinami.com/live-music/steve-paradis-9/
CATEGORIES:Live Music
ATTACH;FMTTYPE=image/jpeg:https://bluemarlinami.com/wp-content/uploads/2023/07/PARADIS.jpg
END:VEVENT
END:VCALENDAR