BEGIN:VCALENDAR
VERSION:2.0
PRODID:-//Blue Marlin Seafood - ECPv6.15.11//NONSGML v1.0//EN
CALSCALE:GREGORIAN
METHOD:PUBLISH
X-ORIGINAL-URL:https://bluemarlinami.com
X-WR-CALDESC:Events for Blue Marlin Seafood
REFRESH-INTERVAL;VALUE=DURATION:PT1H
X-Robots-Tag:noindex
X-PUBLISHED-TTL:PT1H
BEGIN:VTIMEZONE
TZID:America/New_York
BEGIN:DAYLIGHT
TZOFFSETFROM:-0500
TZOFFSETTO:-0400
TZNAME:EDT
DTSTART:20230312T070000
END:DAYLIGHT
BEGIN:STANDARD
TZOFFSETFROM:-0400
TZOFFSETTO:-0500
TZNAME:EST
DTSTART:20231105T060000
END:STANDARD
BEGIN:DAYLIGHT
TZOFFSETFROM:-0500
TZOFFSETTO:-0400
TZNAME:EDT
DTSTART:20240310T070000
END:DAYLIGHT
BEGIN:STANDARD
TZOFFSETFROM:-0400
TZOFFSETTO:-0500
TZNAME:EST
DTSTART:20241103T060000
END:STANDARD
BEGIN:DAYLIGHT
TZOFFSETFROM:-0500
TZOFFSETTO:-0400
TZNAME:EDT
DTSTART:20250309T070000
END:DAYLIGHT
BEGIN:STANDARD
TZOFFSETFROM:-0400
TZOFFSETTO:-0500
TZNAME:EST
DTSTART:20251102T060000
END:STANDARD
END:VTIMEZONE
BEGIN:VEVENT
DTSTART;TZID=America/New_York:20240406T190000
DTEND;TZID=America/New_York:20240406T220000
DTSTAMP:20260420T020033
CREATED:20240304T205959Z
LAST-MODIFIED:20240304T205959Z
UID:2745-1712430000-1712440800@bluemarlinami.com
SUMMARY:TREVOR BYSTROM
DESCRIPTION:
URL:https://bluemarlinami.com/live-music/trevor-bystrom-40/
CATEGORIES:Live Music
ATTACH;FMTTYPE=image/jpeg:https://bluemarlinami.com/wp-content/uploads/2019/08/TREVOR.jpg
END:VEVENT
BEGIN:VEVENT
DTSTART;TZID=America/New_York:20240405T190000
DTEND;TZID=America/New_York:20240405T220000
DTSTAMP:20260420T020033
CREATED:20240306T002438Z
LAST-MODIFIED:20240306T002438Z
UID:2748-1712343600-1712354400@bluemarlinami.com
SUMMARY:SYCAMORE SHADE
DESCRIPTION:BLUEGRASS
URL:https://bluemarlinami.com/live-music/sycamore-shade-26/
CATEGORIES:Live Music
ATTACH;FMTTYPE=image/jpeg:https://bluemarlinami.com/wp-content/uploads/2021/02/SYCAMORE-SHADE.jpg
END:VEVENT
BEGIN:VEVENT
DTSTART;TZID=America/New_York:20240404T190000
DTEND;TZID=America/New_York:20240404T220000
DTSTAMP:20260420T020033
CREATED:20240304T205818Z
LAST-MODIFIED:20240304T205818Z
UID:2744-1712257200-1712268000@bluemarlinami.com
SUMMARY:PAUL & IEVA CATALDO
DESCRIPTION:
URL:https://bluemarlinami.com/live-music/paul-ieva-cataldo-8/
CATEGORIES:Live Music
ATTACH;FMTTYPE=image/jpeg:https://bluemarlinami.com/wp-content/uploads/2022/01/PAUL.jpg
END:VEVENT
BEGIN:VEVENT
DTSTART;TZID=America/New_York:20240330T190000
DTEND;TZID=America/New_York:20240330T220000
DTSTAMP:20260420T020033
CREATED:20240213T211333Z
LAST-MODIFIED:20240308T215829Z
UID:2727-1711825200-1711836000@bluemarlinami.com
SUMMARY:DEAN JOHANESEN
DESCRIPTION:
URL:https://bluemarlinami.com/live-music/dean-johanesen-3/
CATEGORIES:Live Music
ATTACH;FMTTYPE=image/webp:https://bluemarlinami.com/wp-content/uploads/2024/02/DEAN-J.webp
END:VEVENT
BEGIN:VEVENT
DTSTART;TZID=America/New_York:20240329T190000
DTEND;TZID=America/New_York:20240329T220000
DTSTAMP:20260420T020033
CREATED:20240306T003008Z
LAST-MODIFIED:20240306T003008Z
UID:2752-1711738800-1711749600@bluemarlinami.com
SUMMARY:TREVOR BYSTROM
DESCRIPTION:
URL:https://bluemarlinami.com/live-music/trevor-bystrom-41/
CATEGORIES:Live Music
ATTACH;FMTTYPE=image/jpeg:https://bluemarlinami.com/wp-content/uploads/2019/08/TREVOR.jpg
END:VEVENT
BEGIN:VEVENT
DTSTART;TZID=America/New_York:20240328T190000
DTEND;TZID=America/New_York:20240328T220000
DTSTAMP:20260420T020033
CREATED:20240213T210248Z
LAST-MODIFIED:20240213T210248Z
UID:2709-1711652400-1711663200@bluemarlinami.com
SUMMARY:JAMES ALBRITTON
DESCRIPTION:
URL:https://bluemarlinami.com/live-music/james-albritton-12/
CATEGORIES:Live Music
ATTACH;FMTTYPE=image/jpeg:https://bluemarlinami.com/wp-content/uploads/2023/07/ALBRITTON-1.jpg
END:VEVENT
BEGIN:VEVENT
DTSTART;TZID=America/New_York:20240323T190000
DTEND;TZID=America/New_York:20240323T220000
DTSTAMP:20260420T020033
CREATED:20240213T211223Z
LAST-MODIFIED:20240213T211223Z
UID:2725-1711220400-1711231200@bluemarlinami.com
SUMMARY:PAUL & IEVA CATALDO
DESCRIPTION:
URL:https://bluemarlinami.com/live-music/paul-ieva-cataldo-7/
CATEGORIES:Live Music
ATTACH;FMTTYPE=image/jpeg:https://bluemarlinami.com/wp-content/uploads/2022/01/PAUL.jpg
END:VEVENT
BEGIN:VEVENT
DTSTART;TZID=America/New_York:20240322T190000
DTEND;TZID=America/New_York:20240322T220000
DTSTAMP:20260420T020033
CREATED:20240213T210049Z
LAST-MODIFIED:20240213T210049Z
UID:2705-1711134000-1711144800@bluemarlinami.com
SUMMARY:LUKE ANDREWS
DESCRIPTION:
URL:https://bluemarlinami.com/live-music/luke-andrews-7/
CATEGORIES:Live Music
ATTACH;FMTTYPE=image/jpeg:https://bluemarlinami.com/wp-content/uploads/2023/08/luke.jpg
END:VEVENT
BEGIN:VEVENT
DTSTART;TZID=America/New_York:20240321T183000
DTEND;TZID=America/New_York:20240321T213000
DTSTAMP:20260420T020033
CREATED:20240308T215109Z
LAST-MODIFIED:20240315T204014Z
UID:2758-1711045800-1711056600@bluemarlinami.com
SUMMARY:MATT FROST
DESCRIPTION:
URL:https://bluemarlinami.com/live-music/matt-frost/
LOCATION:Blue Marlin\, 121 Historic Bridge Street\, Bradenton Beach\, FL\, 34217
CATEGORIES:Live Music
ATTACH;FMTTYPE=image/webp:https://bluemarlinami.com/wp-content/uploads/2024/03/matt-frost.webp
END:VEVENT
BEGIN:VEVENT
DTSTART;TZID=America/New_York:20240316T190000
DTEND;TZID=America/New_York:20240316T220000
DTSTAMP:20260420T020033
CREATED:20240213T211130Z
LAST-MODIFIED:20240213T211130Z
UID:2723-1710615600-1710626400@bluemarlinami.com
SUMMARY:STEVE PARADIS
DESCRIPTION:
URL:https://bluemarlinami.com/live-music/steve-paradis-9/
CATEGORIES:Live Music
ATTACH;FMTTYPE=image/jpeg:https://bluemarlinami.com/wp-content/uploads/2023/07/PARADIS.jpg
END:VEVENT
BEGIN:VEVENT
DTSTART;TZID=America/New_York:20240315T190000
DTEND;TZID=America/New_York:20240315T220000
DTSTAMP:20260420T020033
CREATED:20240213T210951Z
LAST-MODIFIED:20240213T210951Z
UID:2719-1710529200-1710540000@bluemarlinami.com
SUMMARY:ALBERT DONADI
DESCRIPTION:ROCK
URL:https://bluemarlinami.com/live-music/albert-donadi-37/
CATEGORIES:Live Music
ATTACH;FMTTYPE=image/jpeg:https://bluemarlinami.com/wp-content/uploads/2019/08/donati.jpg
END:VEVENT
BEGIN:VEVENT
DTSTART;TZID=America/New_York:20240314T183000
DTEND;TZID=America/New_York:20240314T213000
DTSTAMP:20260420T020033
CREATED:20240213T211809Z
LAST-MODIFIED:20240308T215456Z
UID:2729-1710441000-1710451800@bluemarlinami.com
SUMMARY:ADRIANA MCDONALD
DESCRIPTION:
URL:https://bluemarlinami.com/live-music/adriana-mcdonald/
CATEGORIES:Live Music
ATTACH;FMTTYPE=image/jpeg:https://bluemarlinami.com/wp-content/uploads/2024/02/ADRAIAN.jpg
END:VEVENT
BEGIN:VEVENT
DTSTART;TZID=America/New_York:20240309T190000
DTEND;TZID=America/New_York:20240309T220000
DTSTAMP:20260420T020033
CREATED:20240213T210914Z
LAST-MODIFIED:20240213T210914Z
UID:2720-1710010800-1710021600@bluemarlinami.com
SUMMARY:ALBERT DONADI
DESCRIPTION:ROCK
URL:https://bluemarlinami.com/live-music/albert-donadi-36/
CATEGORIES:Live Music
ATTACH;FMTTYPE=image/jpeg:https://bluemarlinami.com/wp-content/uploads/2019/08/donati.jpg
END:VEVENT
BEGIN:VEVENT
DTSTART;TZID=America/New_York:20240308T190000
DTEND;TZID=America/New_York:20240308T220000
DTSTAMP:20260420T020033
CREATED:20240213T210706Z
LAST-MODIFIED:20240213T210706Z
UID:2716-1709924400-1709935200@bluemarlinami.com
SUMMARY:TAYLOR OPIE
DESCRIPTION:
URL:https://bluemarlinami.com/live-music/taylor-opie-35/
CATEGORIES:Live Music
ATTACH;FMTTYPE=image/webp:https://bluemarlinami.com/wp-content/uploads/2022/11/opie.webp
END:VEVENT
BEGIN:VEVENT
DTSTART;TZID=America/New_York:20240307T190000
DTEND;TZID=America/New_York:20240307T220000
DTSTAMP:20260420T020033
CREATED:20240213T210523Z
LAST-MODIFIED:20240213T210523Z
UID:2712-1709838000-1709848800@bluemarlinami.com
SUMMARY:TREVOR BYSTROM
DESCRIPTION:
URL:https://bluemarlinami.com/live-music/trevor-bystrom-38/
CATEGORIES:Live Music
ATTACH;FMTTYPE=image/jpeg:https://bluemarlinami.com/wp-content/uploads/2019/08/TREVOR.jpg
END:VEVENT
BEGIN:VEVENT
DTSTART;TZID=America/New_York:20240302T190000
DTEND;TZID=America/New_York:20240302T220000
DTSTAMP:20260420T020033
CREATED:20240213T205956Z
LAST-MODIFIED:20240213T205956Z
UID:2706-1709406000-1709416800@bluemarlinami.com
SUMMARY:LUKE ANDREWS
DESCRIPTION:
URL:https://bluemarlinami.com/live-music/luke-andrews-6/
CATEGORIES:Live Music
ATTACH;FMTTYPE=image/jpeg:https://bluemarlinami.com/wp-content/uploads/2023/08/luke.jpg
END:VEVENT
BEGIN:VEVENT
DTSTART;TZID=America/New_York:20240301T190000
DTEND;TZID=America/New_York:20240301T220000
DTSTAMP:20260420T020033
CREATED:20240213T205853Z
LAST-MODIFIED:20240304T205346Z
UID:2703-1709319600-1709330400@bluemarlinami.com
SUMMARY:SYCAMORE SHADE
DESCRIPTION:BLUEGRASS
URL:https://bluemarlinami.com/live-music/sycamore-shade-25/
CATEGORIES:Live Music
ATTACH;FMTTYPE=image/jpeg:https://bluemarlinami.com/wp-content/uploads/2021/02/SYCAMORE-SHADE.jpg
END:VEVENT
BEGIN:VEVENT
DTSTART;TZID=America/New_York:20240229T190000
DTEND;TZID=America/New_York:20240229T220000
DTSTAMP:20260420T020033
CREATED:20240110T213811Z
LAST-MODIFIED:20240110T213811Z
UID:2675-1709233200-1709244000@bluemarlinami.com
SUMMARY:JAMES ALBRITTON
DESCRIPTION:
URL:https://bluemarlinami.com/live-music/james-albritton-11/
CATEGORIES:Live Music
ATTACH;FMTTYPE=image/jpeg:https://bluemarlinami.com/wp-content/uploads/2023/07/ALBRITTON-1.jpg
END:VEVENT
BEGIN:VEVENT
DTSTART;TZID=America/New_York:20240224T190000
DTEND;TZID=America/New_York:20240224T220000
DTSTAMP:20260420T020033
CREATED:20240110T213953Z
LAST-MODIFIED:20240110T213953Z
UID:2678-1708801200-1708812000@bluemarlinami.com
SUMMARY:TAYLOR OPIE
DESCRIPTION:
URL:https://bluemarlinami.com/live-music/taylor-opie-34/
CATEGORIES:Live Music
ATTACH;FMTTYPE=image/webp:https://bluemarlinami.com/wp-content/uploads/2022/11/opie.webp
END:VEVENT
BEGIN:VEVENT
DTSTART;TZID=America/New_York:20240223T190000
DTEND;TZID=America/New_York:20240223T220000
DTSTAMP:20260420T020033
CREATED:20240110T213626Z
LAST-MODIFIED:20240110T213626Z
UID:2671-1708714800-1708725600@bluemarlinami.com
SUMMARY:ALBERT DONADI
DESCRIPTION:ROCK
URL:https://bluemarlinami.com/live-music/albert-donadi-35/
CATEGORIES:Live Music
ATTACH;FMTTYPE=image/jpeg:https://bluemarlinami.com/wp-content/uploads/2019/08/donati.jpg
END:VEVENT
BEGIN:VEVENT
DTSTART;TZID=America/New_York:20240222T190000
DTEND;TZID=America/New_York:20240222T220000
DTSTAMP:20260420T020033
CREATED:20240110T214648Z
LAST-MODIFIED:20240110T214648Z
UID:2690-1708628400-1708639200@bluemarlinami.com
SUMMARY:TREVOR BYSTROM
DESCRIPTION:
URL:https://bluemarlinami.com/live-music/trevor-bystrom-36/
CATEGORIES:Live Music
ATTACH;FMTTYPE=image/jpeg:https://bluemarlinami.com/wp-content/uploads/2019/08/TREVOR.jpg
END:VEVENT
BEGIN:VEVENT
DTSTART;TZID=America/New_York:20240217T190000
DTEND;TZID=America/New_York:20240217T220000
DTSTAMP:20260420T020033
CREATED:20240110T213456Z
LAST-MODIFIED:20240110T213456Z
UID:2668-1708196400-1708207200@bluemarlinami.com
SUMMARY:STEVE PARADIS
DESCRIPTION:
URL:https://bluemarlinami.com/live-music/steve-paradis-7/
CATEGORIES:Live Music
ATTACH;FMTTYPE=image/jpeg:https://bluemarlinami.com/wp-content/uploads/2023/07/PARADIS.jpg
END:VEVENT
BEGIN:VEVENT
DTSTART;TZID=America/New_York:20240216T190000
DTEND;TZID=America/New_York:20240216T220000
DTSTAMP:20260420T020033
CREATED:20240110T213911Z
LAST-MODIFIED:20240216T203223Z
UID:2679-1708110000-1708120800@bluemarlinami.com
SUMMARY:NO MUSIC TONIGHT
DESCRIPTION:
URL:https://bluemarlinami.com/live-music/taylor-opie-33/
CATEGORIES:Live Music
ATTACH;FMTTYPE=image/webp:https://bluemarlinami.com/wp-content/uploads/2022/11/opie.webp
END:VEVENT
BEGIN:VEVENT
DTSTART;TZID=America/New_York:20240215T190000
DTEND;TZID=America/New_York:20240215T220000
DTSTAMP:20260420T020033
CREATED:20240110T214303Z
LAST-MODIFIED:20240110T214303Z
UID:2686-1708023600-1708034400@bluemarlinami.com
SUMMARY:PANAMA DRIVE
DESCRIPTION:JAZZ
URL:https://bluemarlinami.com/live-music/panama-drive-22/
CATEGORIES:Live Music
ATTACH;FMTTYPE=image/jpeg:https://bluemarlinami.com/wp-content/uploads/2021/12/panama.jpg
END:VEVENT
BEGIN:VEVENT
DTSTART;TZID=America/New_York:20240214T180000
DTEND;TZID=America/New_York:20240214T210000
DTSTAMP:20260420T020033
CREATED:20231130T204129Z
LAST-MODIFIED:20231130T204535Z
UID:2657-1707933600-1707944400@bluemarlinami.com
SUMMARY:SUSIE JAZZ BAND
DESCRIPTION:
URL:https://bluemarlinami.com/live-music/susie-jazz-band/
CATEGORIES:Live Music
END:VEVENT
BEGIN:VEVENT
DTSTART;TZID=America/New_York:20240210T190000
DTEND;TZID=America/New_York:20240210T220000
DTSTAMP:20260420T020033
CREATED:20240110T214451Z
LAST-MODIFIED:20240110T214451Z
UID:2688-1707591600-1707602400@bluemarlinami.com
SUMMARY:PAUL & IEVA CATALDO
DESCRIPTION:
URL:https://bluemarlinami.com/live-music/paul-ieva-cataldo-6/
CATEGORIES:Live Music
ATTACH;FMTTYPE=image/jpeg:https://bluemarlinami.com/wp-content/uploads/2022/01/PAUL.jpg
END:VEVENT
BEGIN:VEVENT
DTSTART;TZID=America/New_York:20240209T190000
DTEND;TZID=America/New_York:20240209T220000
DTSTAMP:20260420T020033
CREATED:20240110T213544Z
LAST-MODIFIED:20240110T213544Z
UID:2670-1707505200-1707516000@bluemarlinami.com
SUMMARY:ALBERT DONADI
DESCRIPTION:ROCK
URL:https://bluemarlinami.com/live-music/albert-donadi-34/
CATEGORIES:Live Music
ATTACH;FMTTYPE=image/jpeg:https://bluemarlinami.com/wp-content/uploads/2019/08/donati.jpg
END:VEVENT
BEGIN:VEVENT
DTSTART;TZID=America/New_York:20240208T190000
DTEND;TZID=America/New_York:20240208T220000
DTSTAMP:20260420T020033
CREATED:20240110T214610Z
LAST-MODIFIED:20240110T214610Z
UID:2691-1707418800-1707429600@bluemarlinami.com
SUMMARY:TREVOR BYSTROM
DESCRIPTION:
URL:https://bluemarlinami.com/live-music/trevor-bystrom-35/
CATEGORIES:Live Music
ATTACH;FMTTYPE=image/jpeg:https://bluemarlinami.com/wp-content/uploads/2019/08/TREVOR.jpg
END:VEVENT
BEGIN:VEVENT
DTSTART;TZID=America/New_York:20240203T190000
DTEND;TZID=America/New_York:20240203T220000
DTSTAMP:20260420T020033
CREATED:20240110T213731Z
LAST-MODIFIED:20240110T213731Z
UID:2674-1706986800-1706997600@bluemarlinami.com
SUMMARY:JAMES ALBRITTON
DESCRIPTION:
URL:https://bluemarlinami.com/live-music/james-albritton-10/
CATEGORIES:Live Music
ATTACH;FMTTYPE=image/jpeg:https://bluemarlinami.com/wp-content/uploads/2023/07/ALBRITTON-1.jpg
END:VEVENT
BEGIN:VEVENT
DTSTART;TZID=America/New_York:20240202T190000
DTEND;TZID=America/New_York:20240202T220000
DTSTAMP:20260420T020033
CREATED:20240110T214218Z
LAST-MODIFIED:20240110T214218Z
UID:2684-1706900400-1706911200@bluemarlinami.com
SUMMARY:SYCAMORE SHADE
DESCRIPTION:BLUEGRASS
URL:https://bluemarlinami.com/live-music/sycamore-shade-24/
CATEGORIES:Live Music
ATTACH;FMTTYPE=image/jpeg:https://bluemarlinami.com/wp-content/uploads/2022/12/20230106_180839.jpg
END:VEVENT
END:VCALENDAR