BEGIN:VCALENDAR
VERSION:2.0
PRODID:-//Blue Marlin Seafood - ECPv6.15.11//NONSGML v1.0//EN
CALSCALE:GREGORIAN
METHOD:PUBLISH
X-WR-CALNAME:Blue Marlin Seafood
X-ORIGINAL-URL:https://bluemarlinami.com
X-WR-CALDESC:Events for Blue Marlin Seafood
REFRESH-INTERVAL;VALUE=DURATION:PT1H
X-Robots-Tag:noindex
X-PUBLISHED-TTL:PT1H
BEGIN:VTIMEZONE
TZID:America/New_York
BEGIN:DAYLIGHT
TZOFFSETFROM:-0500
TZOFFSETTO:-0400
TZNAME:EDT
DTSTART:20200308T070000
END:DAYLIGHT
BEGIN:STANDARD
TZOFFSETFROM:-0400
TZOFFSETTO:-0500
TZNAME:EST
DTSTART:20201101T060000
END:STANDARD
BEGIN:DAYLIGHT
TZOFFSETFROM:-0500
TZOFFSETTO:-0400
TZNAME:EDT
DTSTART:20210314T070000
END:DAYLIGHT
BEGIN:STANDARD
TZOFFSETFROM:-0400
TZOFFSETTO:-0500
TZNAME:EST
DTSTART:20211107T060000
END:STANDARD
BEGIN:DAYLIGHT
TZOFFSETFROM:-0500
TZOFFSETTO:-0400
TZNAME:EDT
DTSTART:20220313T070000
END:DAYLIGHT
BEGIN:STANDARD
TZOFFSETFROM:-0400
TZOFFSETTO:-0500
TZNAME:EST
DTSTART:20221106T060000
END:STANDARD
BEGIN:DAYLIGHT
TZOFFSETFROM:-0500
TZOFFSETTO:-0400
TZNAME:EDT
DTSTART:20230312T070000
END:DAYLIGHT
BEGIN:STANDARD
TZOFFSETFROM:-0400
TZOFFSETTO:-0500
TZNAME:EST
DTSTART:20231105T060000
END:STANDARD
END:VTIMEZONE
BEGIN:VEVENT
DTSTART;TZID=America/New_York:20220409T190000
DTEND;TZID=America/New_York:20220409T220000
DTSTAMP:20260420T021846
CREATED:20220228T211419Z
LAST-MODIFIED:20220228T211419Z
UID:2096-1649530800-1649541600@bluemarlinami.com
SUMMARY:ALBERT DONADI
DESCRIPTION:ROCK
URL:https://bluemarlinami.com/live-music/albert-donadi-12-3-2-2-2-3-2-2-2/
CATEGORIES:Live Music
ATTACH;FMTTYPE=image/jpeg:https://bluemarlinami.com/wp-content/uploads/2019/08/donati.jpg
END:VEVENT
BEGIN:VEVENT
DTSTART;TZID=America/New_York:20220408T190000
DTEND;TZID=America/New_York:20220408T220000
DTSTAMP:20260420T021846
CREATED:20220228T211314Z
LAST-MODIFIED:20220228T211314Z
UID:2093-1649444400-1649455200@bluemarlinami.com
SUMMARY:EMILY ROSS
DESCRIPTION:
URL:https://bluemarlinami.com/live-music/emily-ross-2-2-2-2-3/
CATEGORIES:Live Music
ATTACH;FMTTYPE=image/jpeg:https://bluemarlinami.com/wp-content/uploads/2021/11/EMILY.jpg
END:VEVENT
BEGIN:VEVENT
DTSTART;TZID=America/New_York:20220402T190000
DTEND;TZID=America/New_York:20220402T220000
DTSTAMP:20260420T021846
CREATED:20220330T195829Z
LAST-MODIFIED:20220330T195829Z
UID:2114-1648926000-1648936800@bluemarlinami.com
SUMMARY:AL FULLER
DESCRIPTION:
URL:https://bluemarlinami.com/live-music/tom-sandy-doyle-4-2-2-3-2/
CATEGORIES:Live Music
END:VEVENT
BEGIN:VEVENT
DTSTART;TZID=America/New_York:20220401T190000
DTEND;TZID=America/New_York:20220401T220000
DTSTAMP:20260420T021846
CREATED:20220307T204434Z
LAST-MODIFIED:20220307T204434Z
UID:2102-1648839600-1648850400@bluemarlinami.com
SUMMARY:PANAMA DRIVE
DESCRIPTION:JAZZ
URL:https://bluemarlinami.com/live-music/keith-james-3-3-3-4-2-2-2/
CATEGORIES:Live Music
ATTACH;FMTTYPE=image/jpeg:https://bluemarlinami.com/wp-content/uploads/2021/12/panama.jpg
END:VEVENT
BEGIN:VEVENT
DTSTART;TZID=America/New_York:20220326T190000
DTEND;TZID=America/New_York:20220326T220000
DTSTAMP:20260420T021846
CREATED:20220205T210740Z
LAST-MODIFIED:20220205T210740Z
UID:2085-1648321200-1648332000@bluemarlinami.com
SUMMARY:TAYLOR OPIE TRIO
DESCRIPTION:
URL:https://bluemarlinami.com/live-music/tom-sandy-doyle-2-2-2-2-2-2-3-2/
CATEGORIES:Live Music
END:VEVENT
BEGIN:VEVENT
DTSTART;TZID=America/New_York:20220325T190000
DTEND;TZID=America/New_York:20220325T220000
DTSTAMP:20260420T021846
CREATED:20220205T210649Z
LAST-MODIFIED:20220205T210649Z
UID:2083-1648234800-1648245600@bluemarlinami.com
SUMMARY:EMILY ROSS
DESCRIPTION:
URL:https://bluemarlinami.com/live-music/emily-ross-2-2-2-2/
CATEGORIES:Live Music
ATTACH;FMTTYPE=image/jpeg:https://bluemarlinami.com/wp-content/uploads/2021/11/EMILY.jpg
END:VEVENT
BEGIN:VEVENT
DTSTART;TZID=America/New_York:20220319T190000
DTEND;TZID=America/New_York:20220319T220000
DTSTAMP:20260420T021846
CREATED:20220205T210046Z
LAST-MODIFIED:20220205T210046Z
UID:2079-1647716400-1647727200@bluemarlinami.com
SUMMARY:ALBERT DONADI
DESCRIPTION:ROCK
URL:https://bluemarlinami.com/live-music/albert-donadi-12-3-2-2-2-3-2-2/
CATEGORIES:Live Music
ATTACH;FMTTYPE=image/jpeg:https://bluemarlinami.com/wp-content/uploads/2019/08/donati.jpg
END:VEVENT
BEGIN:VEVENT
DTSTART;TZID=America/New_York:20220318T190000
DTEND;TZID=America/New_York:20220318T220000
DTSTAMP:20260420T021846
CREATED:20220205T210347Z
LAST-MODIFIED:20220205T210347Z
UID:2081-1647630000-1647640800@bluemarlinami.com
SUMMARY:PANAMA DRIVE
DESCRIPTION:JAZZ
URL:https://bluemarlinami.com/live-music/keith-james-3-3-3-4-2-2/
CATEGORIES:Live Music
ATTACH;FMTTYPE=image/jpeg:https://bluemarlinami.com/wp-content/uploads/2021/12/panama.jpg
END:VEVENT
BEGIN:VEVENT
DTSTART;TZID=America/New_York:20220312T190000
DTEND;TZID=America/New_York:20220312T220000
DTSTAMP:20260420T021846
CREATED:20220205T205948Z
LAST-MODIFIED:20220205T205948Z
UID:2077-1647111600-1647122400@bluemarlinami.com
SUMMARY:AL FULLER
DESCRIPTION:
URL:https://bluemarlinami.com/live-music/tom-sandy-doyle-4-2-2-3/
CATEGORIES:Live Music
END:VEVENT
BEGIN:VEVENT
DTSTART;TZID=America/New_York:20220311T190000
DTEND;TZID=America/New_York:20220311T220000
DTSTAMP:20260420T021846
CREATED:20220228T203851Z
LAST-MODIFIED:20220228T203851Z
UID:2091-1647025200-1647036000@bluemarlinami.com
SUMMARY:EMILY ROSS
DESCRIPTION:
URL:https://bluemarlinami.com/live-music/emily-ross-2-2-2-2-2/
CATEGORIES:Live Music
ATTACH;FMTTYPE=image/jpeg:https://bluemarlinami.com/wp-content/uploads/2021/11/EMILY.jpg
END:VEVENT
BEGIN:VEVENT
DTSTART;TZID=America/New_York:20220305T190000
DTEND;TZID=America/New_York:20220305T220000
DTSTAMP:20260420T021846
CREATED:20220205T205606Z
LAST-MODIFIED:20220205T205645Z
UID:2075-1646506800-1646517600@bluemarlinami.com
SUMMARY:SEA NOTES
DESCRIPTION:OLD TIMEY MUSIC
URL:https://bluemarlinami.com/live-music/sea-notes-2/
CATEGORIES:Live Music
END:VEVENT
BEGIN:VEVENT
DTSTART;TZID=America/New_York:20220304T190000
DTEND;TZID=America/New_York:20220304T220000
DTSTAMP:20260420T021846
CREATED:20220205T205244Z
LAST-MODIFIED:20220205T205244Z
UID:2071-1646420400-1646431200@bluemarlinami.com
SUMMARY:SYCAMORE SHADE
DESCRIPTION:BLUEGRASS
URL:https://bluemarlinami.com/live-music/sycamore-shade-7-2-3-2-3-2-2-2-3-2-3-2-2-2/
CATEGORIES:Live Music
ATTACH;FMTTYPE=image/jpeg:https://bluemarlinami.com/wp-content/uploads/2021/02/SYCAMORE-SHADE.jpg
END:VEVENT
BEGIN:VEVENT
DTSTART;TZID=America/New_York:20220226T190000
DTEND;TZID=America/New_York:20220226T220000
DTSTAMP:20260420T021846
CREATED:20220105T194922Z
LAST-MODIFIED:20220105T195008Z
UID:2060-1645902000-1645912800@bluemarlinami.com
SUMMARY:ALBERT DONADI
DESCRIPTION:ROCK
URL:https://bluemarlinami.com/live-music/albert-donadi-12-3-2-2-2-3-2/
CATEGORIES:Live Music
ATTACH;FMTTYPE=image/jpeg:https://bluemarlinami.com/wp-content/uploads/2019/08/donati.jpg
END:VEVENT
BEGIN:VEVENT
DTSTART;TZID=America/New_York:20220225T190000
DTEND;TZID=America/New_York:20220225T220000
DTSTAMP:20260420T021846
CREATED:20220105T194707Z
LAST-MODIFIED:20220105T194707Z
UID:2051-1645815600-1645826400@bluemarlinami.com
SUMMARY:EMILY ROSS
DESCRIPTION:
URL:https://bluemarlinami.com/live-music/emily-ross-2-2-2/
CATEGORIES:Live Music
ATTACH;FMTTYPE=image/jpeg:https://bluemarlinami.com/wp-content/uploads/2021/11/EMILY.jpg
END:VEVENT
BEGIN:VEVENT
DTSTART;TZID=America/New_York:20220219T190000
DTEND;TZID=America/New_York:20220219T220000
DTSTAMP:20260420T021846
CREATED:20220105T195524Z
LAST-MODIFIED:20220105T195524Z
UID:2062-1645297200-1645308000@bluemarlinami.com
SUMMARY:TAYLOR OPIE TRIO
DESCRIPTION:
URL:https://bluemarlinami.com/live-music/tom-sandy-doyle-2-2-2-2-2-2-3/
CATEGORIES:Live Music
END:VEVENT
BEGIN:VEVENT
DTSTART;TZID=America/New_York:20220218T190000
DTEND;TZID=America/New_York:20220218T220000
DTSTAMP:20260420T021846
CREATED:20220105T194817Z
LAST-MODIFIED:20220105T194817Z
UID:2052-1645210800-1645221600@bluemarlinami.com
SUMMARY:PANAMA DRIVE
DESCRIPTION:JAZZ
URL:https://bluemarlinami.com/live-music/keith-james-3-3-3-4-2/
CATEGORIES:Live Music
ATTACH;FMTTYPE=image/jpeg:https://bluemarlinami.com/wp-content/uploads/2021/12/panama.jpg
END:VEVENT
BEGIN:VEVENT
DTSTART;TZID=America/New_York:20220212T190000
DTEND;TZID=America/New_York:20220212T220000
DTSTAMP:20260420T021846
CREATED:20220105T194631Z
LAST-MODIFIED:20220105T194631Z
UID:2050-1644692400-1644703200@bluemarlinami.com
SUMMARY:ALBERT DONADI
DESCRIPTION:ROCK
URL:https://bluemarlinami.com/live-music/albert-donadi-12-3-2-2-2-3/
CATEGORIES:Live Music
ATTACH;FMTTYPE=image/jpeg:https://bluemarlinami.com/wp-content/uploads/2019/08/donati.jpg
END:VEVENT
BEGIN:VEVENT
DTSTART;TZID=America/New_York:20220211T190000
DTEND;TZID=America/New_York:20220211T220000
DTSTAMP:20260420T021846
CREATED:20220105T194353Z
LAST-MODIFIED:20220105T194353Z
UID:2053-1644606000-1644616800@bluemarlinami.com
SUMMARY:THE DIVEBOMBERS
DESCRIPTION:
URL:https://bluemarlinami.com/live-music/the-divebombers-3-2-3-3-3-2-3-3-2-2-2-3-3-2/
CATEGORIES:Live Music
ATTACH;FMTTYPE=image/jpeg:https://bluemarlinami.com/wp-content/uploads/2019/12/DIVEBOMBERS.jpg
END:VEVENT
BEGIN:VEVENT
DTSTART;TZID=America/New_York:20220209T190000
DTEND;TZID=America/New_York:20220209T210000
DTSTAMP:20260420T021846
CREATED:20220105T200418Z
LAST-MODIFIED:20220127T235008Z
UID:2068-1644433200-1644440400@bluemarlinami.com
SUMMARY:RICHARD SMITH
DESCRIPTION:Richard Smith is an English guitarist specialising in the fingerstyle guitar tradition of Merle Travis\, Chet Atkins\, and Jerry Reed. He is the 2001 National Fingerstyle Guitar Champion.
URL:https://bluemarlinami.com/live-music/richard-smith-2/
CATEGORIES:Live Music
END:VEVENT
BEGIN:VEVENT
DTSTART;TZID=America/New_York:20220205T190000
DTEND;TZID=America/New_York:20220205T220000
DTSTAMP:20260420T021846
CREATED:20220105T200014Z
LAST-MODIFIED:20220105T200225Z
UID:2065-1644087600-1644098400@bluemarlinami.com
SUMMARY:PAUL & IEVA CATALDO
DESCRIPTION:
URL:https://bluemarlinami.com/live-music/trevor-bystrom-8-2-2-2-2-2-2-2-2-2-3-2-2-2-2-2-2-2-5-2-3-2-2-2/
CATEGORIES:Live Music
ATTACH;FMTTYPE=image/jpeg:https://bluemarlinami.com/wp-content/uploads/2022/01/PAUL.jpg
END:VEVENT
BEGIN:VEVENT
DTSTART;TZID=America/New_York:20220204T190000
DTEND;TZID=America/New_York:20220204T220000
DTSTAMP:20260420T021846
CREATED:20220105T194840Z
LAST-MODIFIED:20220105T194840Z
UID:2054-1644001200-1644012000@bluemarlinami.com
SUMMARY:SYCAMORE SHADE
DESCRIPTION:BLUEGRASS
URL:https://bluemarlinami.com/live-music/sycamore-shade-7-2-3-2-3-2-2-2-3-2-3-2-2/
CATEGORIES:Live Music
ATTACH;FMTTYPE=image/jpeg:https://bluemarlinami.com/wp-content/uploads/2021/02/SYCAMORE-SHADE.jpg
END:VEVENT
BEGIN:VEVENT
DTSTART;TZID=America/New_York:20220129T190000
DTEND;TZID=America/New_York:20220129T220000
DTSTAMP:20260420T021846
CREATED:20211207T212549Z
LAST-MODIFIED:20211207T212549Z
UID:2029-1643482800-1643493600@bluemarlinami.com
SUMMARY:ALBERT DONADI
DESCRIPTION:ROCK
URL:https://bluemarlinami.com/live-music/albert-donadi-12-3-2-2-2/
CATEGORIES:Live Music
ATTACH;FMTTYPE=image/jpeg:https://bluemarlinami.com/wp-content/uploads/2019/08/donati.jpg
END:VEVENT
BEGIN:VEVENT
DTSTART;TZID=America/New_York:20220128T190000
DTEND;TZID=America/New_York:20220128T220000
DTSTAMP:20260420T021846
CREATED:20211207T212920Z
LAST-MODIFIED:20220105T201751Z
UID:2037-1643396400-1643407200@bluemarlinami.com
SUMMARY:CLOSED FOR PRIVATE PARTY
DESCRIPTION:
URL:https://bluemarlinami.com/live-music/emily-ross-2-2/
CATEGORIES:Live Music
END:VEVENT
BEGIN:VEVENT
DTSTART;TZID=America/New_York:20220122T190000
DTEND;TZID=America/New_York:20220122T220000
DTSTAMP:20260420T021846
CREATED:20211207T213320Z
LAST-MODIFIED:20211207T213320Z
UID:2041-1642878000-1642888800@bluemarlinami.com
SUMMARY:TREVOR BYSTROM
DESCRIPTION:
URL:https://bluemarlinami.com/live-music/sycamore-shade-7-2-3-2-3-2-2-2-3-2-3-3-2/
CATEGORIES:Live Music
ATTACH;FMTTYPE=image/jpeg:https://bluemarlinami.com/wp-content/uploads/2019/08/TREVOR.jpg
END:VEVENT
BEGIN:VEVENT
DTSTART;TZID=America/New_York:20220121T190000
DTEND;TZID=America/New_York:20220121T220000
DTSTAMP:20260420T021846
CREATED:20211207T212622Z
LAST-MODIFIED:20211207T212622Z
UID:2032-1642791600-1642802400@bluemarlinami.com
SUMMARY:ALBERT DONADI
DESCRIPTION:ROCK
URL:https://bluemarlinami.com/live-music/albert-donadi-12-3-2-2-2-2/
CATEGORIES:Live Music
ATTACH;FMTTYPE=image/jpeg:https://bluemarlinami.com/wp-content/uploads/2019/08/donati.jpg
END:VEVENT
BEGIN:VEVENT
DTSTART;TZID=America/New_York:20220115T190000
DTEND;TZID=America/New_York:20220115T220000
DTSTAMP:20260420T021846
CREATED:20211207T212846Z
LAST-MODIFIED:20211207T212846Z
UID:2034-1642273200-1642284000@bluemarlinami.com
SUMMARY:PANAMA DRIVE
DESCRIPTION:JAZZ
URL:https://bluemarlinami.com/live-music/keith-james-3-3-3-4/
CATEGORIES:Live Music
ATTACH;FMTTYPE=image/jpeg:https://bluemarlinami.com/wp-content/uploads/2021/12/panama.jpg
END:VEVENT
BEGIN:VEVENT
DTSTART;TZID=America/New_York:20220114T190000
DTEND;TZID=America/New_York:20220114T220000
DTSTAMP:20260420T021846
CREATED:20211207T213511Z
LAST-MODIFIED:20211207T213511Z
UID:2045-1642186800-1642197600@bluemarlinami.com
SUMMARY:THE DIVEBOMBERS
DESCRIPTION:
URL:https://bluemarlinami.com/live-music/the-divebombers-3-2-3-3-3-2-3-3-2-2-2-3-3/
CATEGORIES:Live Music
ATTACH;FMTTYPE=image/jpeg:https://bluemarlinami.com/wp-content/uploads/2019/12/DIVEBOMBERS.jpg
END:VEVENT
BEGIN:VEVENT
DTSTART;TZID=America/New_York:20220108T190000
DTEND;TZID=America/New_York:20220108T220000
DTSTAMP:20260420T021846
CREATED:20211207T213230Z
LAST-MODIFIED:20220105T194002Z
UID:2039-1641668400-1641679200@bluemarlinami.com
SUMMARY:PANAMA DRIVE
DESCRIPTION:JAZZ
URL:https://bluemarlinami.com/live-music/tom-sandy-doyle-2-2-2-2-2-2-2-2/
CATEGORIES:Live Music
END:VEVENT
BEGIN:VEVENT
DTSTART;TZID=America/New_York:20220107T190000
DTEND;TZID=America/New_York:20220107T220000
DTSTAMP:20260420T021846
CREATED:20211207T213414Z
LAST-MODIFIED:20211207T213414Z
UID:2043-1641582000-1641592800@bluemarlinami.com
SUMMARY:SYCAMORE SHADE
DESCRIPTION:BLUEGRASS
URL:https://bluemarlinami.com/live-music/sycamore-shade-7-2-3-2-3-2-2-2-3-2-3-2/
CATEGORIES:Live Music
ATTACH;FMTTYPE=image/jpeg:https://bluemarlinami.com/wp-content/uploads/2021/02/SYCAMORE-SHADE.jpg
END:VEVENT
BEGIN:VEVENT
DTSTART;TZID=America/New_York:20211231T190000
DTEND;TZID=America/New_York:20211231T220000
DTSTAMP:20260420T021846
CREATED:20211220T164558Z
LAST-MODIFIED:20211220T164558Z
UID:2047-1640977200-1640988000@bluemarlinami.com
SUMMARY:TREVOR BYSTROM
DESCRIPTION:
URL:https://bluemarlinami.com/live-music/sycamore-shade-7-2-3-2-3-2-2-2-3-2-3-3-2-2/
CATEGORIES:Live Music
ATTACH;FMTTYPE=image/jpeg:https://bluemarlinami.com/wp-content/uploads/2019/08/TREVOR.jpg
END:VEVENT
END:VCALENDAR