BEGIN:VCALENDAR
VERSION:2.0
PRODID:-//Blue Marlin Seafood - ECPv6.15.11//NONSGML v1.0//EN
CALSCALE:GREGORIAN
METHOD:PUBLISH
X-ORIGINAL-URL:https://bluemarlinami.com
X-WR-CALDESC:Events for Blue Marlin Seafood
REFRESH-INTERVAL;VALUE=DURATION:PT1H
X-Robots-Tag:noindex
X-PUBLISHED-TTL:PT1H
BEGIN:VTIMEZONE
TZID:America/New_York
BEGIN:DAYLIGHT
TZOFFSETFROM:-0500
TZOFFSETTO:-0400
TZNAME:EDT
DTSTART:20220313T070000
END:DAYLIGHT
BEGIN:STANDARD
TZOFFSETFROM:-0400
TZOFFSETTO:-0500
TZNAME:EST
DTSTART:20221106T060000
END:STANDARD
BEGIN:DAYLIGHT
TZOFFSETFROM:-0500
TZOFFSETTO:-0400
TZNAME:EDT
DTSTART:20230312T070000
END:DAYLIGHT
BEGIN:STANDARD
TZOFFSETFROM:-0400
TZOFFSETTO:-0500
TZNAME:EST
DTSTART:20231105T060000
END:STANDARD
BEGIN:DAYLIGHT
TZOFFSETFROM:-0500
TZOFFSETTO:-0400
TZNAME:EDT
DTSTART:20240310T070000
END:DAYLIGHT
BEGIN:STANDARD
TZOFFSETFROM:-0400
TZOFFSETTO:-0500
TZNAME:EST
DTSTART:20241103T060000
END:STANDARD
END:VTIMEZONE
BEGIN:VEVENT
DTSTART;TZID=America/New_York:20230908T190000
DTEND;TZID=America/New_York:20230908T220000
DTSTAMP:20260420T035838
CREATED:20230714T203230Z
LAST-MODIFIED:20230808T202613Z
UID:2502-1694199600-1694210400@bluemarlinami.com
SUMMARY:JAMES ALBRITTON
DESCRIPTION:
URL:https://bluemarlinami.com/live-music/james-albritton-4/
CATEGORIES:Live Music
ATTACH;FMTTYPE=image/jpeg:https://bluemarlinami.com/wp-content/uploads/2023/07/ALBRITTON-1.jpg
END:VEVENT
BEGIN:VEVENT
DTSTART;TZID=America/New_York:20230909T190000
DTEND;TZID=America/New_York:20230909T220000
DTSTAMP:20260420T035838
CREATED:20230808T201610Z
LAST-MODIFIED:20230808T201610Z
UID:2534-1694286000-1694296800@bluemarlinami.com
SUMMARY:TREVOR BYSTROM
DESCRIPTION:
URL:https://bluemarlinami.com/live-music/trevor-bystrom-29/
CATEGORIES:Live Music
ATTACH;FMTTYPE=image/jpeg:https://bluemarlinami.com/wp-content/uploads/2019/08/TREVOR.jpg
END:VEVENT
BEGIN:VEVENT
DTSTART;TZID=America/New_York:20230915T190000
DTEND;TZID=America/New_York:20230915T220000
DTSTAMP:20260420T035838
CREATED:20230811T215247Z
LAST-MODIFIED:20230913T200206Z
UID:2553-1694804400-1694815200@bluemarlinami.com
SUMMARY:LUKE ANDREWS
DESCRIPTION:
URL:https://bluemarlinami.com/live-music/luke-andrews-2/
CATEGORIES:Live Music
ATTACH;FMTTYPE=image/jpeg:https://bluemarlinami.com/wp-content/uploads/2023/08/luke.jpg
END:VEVENT
BEGIN:VEVENT
DTSTART;TZID=America/New_York:20230916T190000
DTEND;TZID=America/New_York:20230916T220000
DTSTAMP:20260420T035838
CREATED:20230912T214339Z
LAST-MODIFIED:20230912T214339Z
UID:2561-1694890800-1694901600@bluemarlinami.com
SUMMARY:TAYLOR OPIE
DESCRIPTION:
URL:https://bluemarlinami.com/live-music/taylor-opie-27/
CATEGORIES:Live Music
ATTACH;FMTTYPE=image/webp:https://bluemarlinami.com/wp-content/uploads/2022/11/opie.webp
END:VEVENT
BEGIN:VEVENT
DTSTART;TZID=America/New_York:20230922T190000
DTEND;TZID=America/New_York:20230922T220000
DTSTAMP:20260420T035838
CREATED:20230808T202233Z
LAST-MODIFIED:20230808T202233Z
UID:2539-1695409200-1695420000@bluemarlinami.com
SUMMARY:PANAMA DRIVE
DESCRIPTION:JAZZ
URL:https://bluemarlinami.com/live-music/panama-drive-19/
CATEGORIES:Live Music
ATTACH;FMTTYPE=image/jpeg:https://bluemarlinami.com/wp-content/uploads/2021/12/panama.jpg
END:VEVENT
BEGIN:VEVENT
DTSTART;TZID=America/New_York:20230923T190000
DTEND;TZID=America/New_York:20230923T220000
DTSTAMP:20260420T035838
CREATED:20230808T201716Z
LAST-MODIFIED:20230808T201716Z
UID:2535-1695495600-1695506400@bluemarlinami.com
SUMMARY:TREVOR BYSTROM
DESCRIPTION:
URL:https://bluemarlinami.com/live-music/trevor-bystrom-30/
CATEGORIES:Live Music
ATTACH;FMTTYPE=image/jpeg:https://bluemarlinami.com/wp-content/uploads/2019/08/TREVOR.jpg
END:VEVENT
BEGIN:VEVENT
DTSTART;TZID=America/New_York:20230929T190000
DTEND;TZID=America/New_York:20230929T220000
DTSTAMP:20260420T035838
CREATED:20230808T202724Z
LAST-MODIFIED:20230808T202724Z
UID:2542-1696014000-1696024800@bluemarlinami.com
SUMMARY:JAMES ALBRITTON
DESCRIPTION:
URL:https://bluemarlinami.com/live-music/james-albritton-5/
CATEGORIES:Live Music
ATTACH;FMTTYPE=image/jpeg:https://bluemarlinami.com/wp-content/uploads/2023/07/ALBRITTON-1.jpg
END:VEVENT
BEGIN:VEVENT
DTSTART;TZID=America/New_York:20230930T190000
DTEND;TZID=America/New_York:20230930T220000
DTSTAMP:20260420T035838
CREATED:20230808T203136Z
LAST-MODIFIED:20230808T203136Z
UID:2545-1696100400-1696111200@bluemarlinami.com
SUMMARY:STEVE PARADIS
DESCRIPTION:
URL:https://bluemarlinami.com/live-music/steve-paradis-4/
CATEGORIES:Live Music
ATTACH;FMTTYPE=image/jpeg:https://bluemarlinami.com/wp-content/uploads/2023/07/PARADIS.jpg
END:VEVENT
BEGIN:VEVENT
DTSTART;TZID=America/New_York:20231006T190000
DTEND;TZID=America/New_York:20231006T220000
DTSTAMP:20260420T035838
CREATED:20230912T194958Z
LAST-MODIFIED:20230912T194958Z
UID:2557-1696618800-1696629600@bluemarlinami.com
SUMMARY:SYCAMORE SHADE
DESCRIPTION:BLUEGRASS
URL:https://bluemarlinami.com/live-music/sycamore-shade-22/
CATEGORIES:Live Music
ATTACH;FMTTYPE=image/jpeg:https://bluemarlinami.com/wp-content/uploads/2022/12/20230106_180839.jpg
END:VEVENT
BEGIN:VEVENT
DTSTART;TZID=America/New_York:20231007T190000
DTEND;TZID=America/New_York:20231007T220000
DTSTAMP:20260420T035838
CREATED:20230912T195430Z
LAST-MODIFIED:20230912T195430Z
UID:2559-1696705200-1696716000@bluemarlinami.com
SUMMARY:TAYLOR OPIE
DESCRIPTION:
URL:https://bluemarlinami.com/live-music/taylor-opie-26/
CATEGORIES:Live Music
ATTACH;FMTTYPE=image/webp:https://bluemarlinami.com/wp-content/uploads/2022/11/opie.webp
END:VEVENT
BEGIN:VEVENT
DTSTART;TZID=America/New_York:20231013T190000
DTEND;TZID=America/New_York:20231013T220000
DTSTAMP:20260420T035838
CREATED:20230923T201655Z
LAST-MODIFIED:20230923T201655Z
UID:2564-1697223600-1697234400@bluemarlinami.com
SUMMARY:PANAMA DRIVE
DESCRIPTION:JAZZ
URL:https://bluemarlinami.com/live-music/panama-drive-18/
CATEGORIES:Live Music
ATTACH;FMTTYPE=image/jpeg:https://bluemarlinami.com/wp-content/uploads/2021/12/panama.jpg
END:VEVENT
BEGIN:VEVENT
DTSTART;TZID=America/New_York:20231014T190000
DTEND;TZID=America/New_York:20231014T220000
DTSTAMP:20260420T035838
CREATED:20230923T201617Z
LAST-MODIFIED:20230923T201617Z
UID:2565-1697310000-1697320800@bluemarlinami.com
SUMMARY:TREVOR BYSTROM
DESCRIPTION:
URL:https://bluemarlinami.com/live-music/trevor-bystrom-31/
CATEGORIES:Live Music
ATTACH;FMTTYPE=image/jpeg:https://bluemarlinami.com/wp-content/uploads/2019/08/TREVOR.jpg
END:VEVENT
BEGIN:VEVENT
DTSTART;TZID=America/New_York:20231020T190000
DTEND;TZID=America/New_York:20231020T220000
DTSTAMP:20260420T035838
CREATED:20230923T201735Z
LAST-MODIFIED:20230923T201735Z
UID:2568-1697828400-1697839200@bluemarlinami.com
SUMMARY:STEVE PARADIS
DESCRIPTION:
URL:https://bluemarlinami.com/live-music/steve-paradis-3/
CATEGORIES:Live Music
ATTACH;FMTTYPE=image/jpeg:https://bluemarlinami.com/wp-content/uploads/2023/07/PARADIS.jpg
END:VEVENT
BEGIN:VEVENT
DTSTART;TZID=America/New_York:20231021T190000
DTEND;TZID=America/New_York:20231021T220000
DTSTAMP:20260420T035838
CREATED:20230923T201904Z
LAST-MODIFIED:20230923T201904Z
UID:2572-1697914800-1697925600@bluemarlinami.com
SUMMARY:LUKE ANDREWS
DESCRIPTION:
URL:https://bluemarlinami.com/live-music/luke-andrews-3/
CATEGORIES:Live Music
ATTACH;FMTTYPE=image/jpeg:https://bluemarlinami.com/wp-content/uploads/2023/08/luke.jpg
END:VEVENT
BEGIN:VEVENT
DTSTART;TZID=America/New_York:20231026T150000
DTEND;TZID=America/New_York:20231026T180000
DTSTAMP:20260420T035838
CREATED:20231020T005650Z
LAST-MODIFIED:20231020T005652Z
UID:2598-1698332400-1698343200@bluemarlinami.com
SUMMARY:DEAN JOHANESEN
DESCRIPTION:
URL:https://bluemarlinami.com/live-music/dean-johanesen/
END:VEVENT
BEGIN:VEVENT
DTSTART;TZID=America/New_York:20231027T190000
DTEND;TZID=America/New_York:20231027T220000
DTSTAMP:20260420T035838
CREATED:20230923T201816Z
LAST-MODIFIED:20230923T201816Z
UID:2569-1698433200-1698444000@bluemarlinami.com
SUMMARY:STEVE PARADIS
DESCRIPTION:
URL:https://bluemarlinami.com/live-music/steve-paradis-6/
CATEGORIES:Live Music
ATTACH;FMTTYPE=image/jpeg:https://bluemarlinami.com/wp-content/uploads/2023/07/PARADIS.jpg
END:VEVENT
BEGIN:VEVENT
DTSTART;TZID=America/New_York:20231028T190000
DTEND;TZID=America/New_York:20231028T220000
DTSTAMP:20260420T035838
CREATED:20230927T200531Z
LAST-MODIFIED:20230927T200531Z
UID:2575-1698519600-1698530400@bluemarlinami.com
SUMMARY:TOMARDO
DESCRIPTION:
URL:https://bluemarlinami.com/live-music/tomardo/
CATEGORIES:Live Music
ATTACH;FMTTYPE=image/webp:https://bluemarlinami.com/wp-content/uploads/2022/12/tomardo.webp
END:VEVENT
BEGIN:VEVENT
DTSTART;TZID=America/New_York:20231102T190000
DTEND;TZID=America/New_York:20231102T220000
DTSTAMP:20260420T035838
CREATED:20231020T005821Z
LAST-MODIFIED:20231020T005821Z
UID:2600-1698951600-1698962400@bluemarlinami.com
SUMMARY:TAYLOR OPIE
DESCRIPTION:
URL:https://bluemarlinami.com/live-music/taylor-opie-31/
CATEGORIES:Live Music
ATTACH;FMTTYPE=image/webp:https://bluemarlinami.com/wp-content/uploads/2022/11/opie.webp
END:VEVENT
BEGIN:VEVENT
DTSTART;TZID=America/New_York:20231103T190000
DTEND;TZID=America/New_York:20231103T220000
DTSTAMP:20260420T035838
CREATED:20231103T183115Z
LAST-MODIFIED:20231103T183115Z
UID:2624-1699038000-1699048800@bluemarlinami.com
SUMMARY:TREVOR BYSTROM
DESCRIPTION:
URL:https://bluemarlinami.com/live-music/trevor-bystrom-34/
CATEGORIES:Live Music
ATTACH;FMTTYPE=image/jpeg:https://bluemarlinami.com/wp-content/uploads/2019/08/TREVOR.jpg
END:VEVENT
BEGIN:VEVENT
DTSTART;TZID=America/New_York:20231104T190000
DTEND;TZID=America/New_York:20231104T220000
DTSTAMP:20260420T035838
CREATED:20230927T200956Z
LAST-MODIFIED:20230927T200956Z
UID:2589-1699124400-1699135200@bluemarlinami.com
SUMMARY:PAUL & IEVA CATALDO
DESCRIPTION:
URL:https://bluemarlinami.com/live-music/paul-ieva-cataldo-4/
CATEGORIES:Live Music
ATTACH;FMTTYPE=image/jpeg:https://bluemarlinami.com/wp-content/uploads/2022/01/PAUL.jpg
END:VEVENT
BEGIN:VEVENT
DTSTART;TZID=America/New_York:20231110T190000
DTEND;TZID=America/New_York:20231110T220000
DTSTAMP:20260420T035838
CREATED:20230927T200742Z
LAST-MODIFIED:20230927T200742Z
UID:2579-1699642800-1699653600@bluemarlinami.com
SUMMARY:TAYLOR OPIE
DESCRIPTION:
URL:https://bluemarlinami.com/live-music/taylor-opie-28/
CATEGORIES:Live Music
ATTACH;FMTTYPE=image/webp:https://bluemarlinami.com/wp-content/uploads/2022/11/opie.webp
END:VEVENT
BEGIN:VEVENT
DTSTART;TZID=America/New_York:20231111T190000
DTEND;TZID=America/New_York:20231111T220000
DTSTAMP:20260420T035838
CREATED:20230927T200654Z
LAST-MODIFIED:20230927T200654Z
UID:2581-1699729200-1699740000@bluemarlinami.com
SUMMARY:TREVOR BYSTROM
DESCRIPTION:
URL:https://bluemarlinami.com/live-music/trevor-bystrom-32/
CATEGORIES:Live Music
ATTACH;FMTTYPE=image/jpeg:https://bluemarlinami.com/wp-content/uploads/2019/08/TREVOR.jpg
END:VEVENT
BEGIN:VEVENT
DTSTART;TZID=America/New_York:20231117T190000
DTEND;TZID=America/New_York:20231117T220000
DTSTAMP:20260420T035838
CREATED:20230927T201212Z
LAST-MODIFIED:20230927T201212Z
UID:2593-1700247600-1700258400@bluemarlinami.com
SUMMARY:ALBERT DONADI
DESCRIPTION:ROCK
URL:https://bluemarlinami.com/live-music/albert-donadi-28/
CATEGORIES:Live Music
ATTACH;FMTTYPE=image/jpeg:https://bluemarlinami.com/wp-content/uploads/2019/08/donati.jpg
END:VEVENT
BEGIN:VEVENT
DTSTART;TZID=America/New_York:20231122T140000
DTEND;TZID=America/New_York:20231122T170000
DTSTAMP:20260420T035838
CREATED:20231121T202528Z
LAST-MODIFIED:20231121T202531Z
UID:2632-1700661600-1700672400@bluemarlinami.com
SUMMARY:SOPHIA TURNER
DESCRIPTION:
URL:https://bluemarlinami.com/live-music/sophia-turner/
CATEGORIES:Live Music
END:VEVENT
BEGIN:VEVENT
DTSTART;TZID=America/New_York:20231124T190000
DTEND;TZID=America/New_York:20231124T220000
DTSTAMP:20260420T035838
CREATED:20231102T204721Z
LAST-MODIFIED:20231102T204721Z
UID:2622-1700852400-1700863200@bluemarlinami.com
SUMMARY:ALBERT DONADI
DESCRIPTION:ROCK
URL:https://bluemarlinami.com/live-music/albert-donadi-30/
CATEGORIES:Live Music
ATTACH;FMTTYPE=image/jpeg:https://bluemarlinami.com/wp-content/uploads/2019/08/donati.jpg
END:VEVENT
BEGIN:VEVENT
DTSTART;TZID=America/New_York:20231125T190000
DTEND;TZID=America/New_York:20231125T220000
DTSTAMP:20260420T035838
CREATED:20230927T200717Z
LAST-MODIFIED:20230927T200717Z
UID:2582-1700938800-1700949600@bluemarlinami.com
SUMMARY:TREVOR BYSTROM
DESCRIPTION:
URL:https://bluemarlinami.com/live-music/trevor-bystrom-33/
CATEGORIES:Live Music
ATTACH;FMTTYPE=image/jpeg:https://bluemarlinami.com/wp-content/uploads/2019/08/TREVOR.jpg
END:VEVENT
BEGIN:VEVENT
DTSTART;TZID=America/New_York:20231201T190000
DTEND;TZID=America/New_York:20231201T220000
DTSTAMP:20260420T035838
CREATED:20231030T193536Z
LAST-MODIFIED:20231113T204501Z
UID:2615-1701457200-1701468000@bluemarlinami.com
SUMMARY:EMILY ROSS
DESCRIPTION:
URL:https://bluemarlinami.com/live-music/emily-ross-5/
CATEGORIES:Live Music
ATTACH;FMTTYPE=image/jpeg:https://bluemarlinami.com/wp-content/uploads/2021/11/EMILY.jpg
END:VEVENT
BEGIN:VEVENT
DTSTART;TZID=America/New_York:20231202T190000
DTEND;TZID=America/New_York:20231202T220000
DTSTAMP:20260420T035838
CREATED:20230927T201032Z
LAST-MODIFIED:20230927T201032Z
UID:2588-1701543600-1701554400@bluemarlinami.com
SUMMARY:PAUL & IEVA CATALDO
DESCRIPTION:
URL:https://bluemarlinami.com/live-music/paul-ieva-cataldo-5/
CATEGORIES:Live Music
ATTACH;FMTTYPE=image/jpeg:https://bluemarlinami.com/wp-content/uploads/2022/01/PAUL.jpg
END:VEVENT
BEGIN:VEVENT
DTSTART;TZID=America/New_York:20231208T190000
DTEND;TZID=America/New_York:20231208T220000
DTSTAMP:20260420T035838
CREATED:20231030T192932Z
LAST-MODIFIED:20231030T192932Z
UID:2603-1702062000-1702072800@bluemarlinami.com
SUMMARY:TAYLOR OPIE
DESCRIPTION:
URL:https://bluemarlinami.com/live-music/taylor-opie-32/
CATEGORIES:Live Music
ATTACH;FMTTYPE=image/webp:https://bluemarlinami.com/wp-content/uploads/2022/11/opie.webp
END:VEVENT
BEGIN:VEVENT
DTSTART;TZID=America/New_York:20231209T190000
DTEND;TZID=America/New_York:20231209T220000
DTSTAMP:20260420T035838
CREATED:20231030T193026Z
LAST-MODIFIED:20231030T193656Z
UID:2604-1702148400-1702159200@bluemarlinami.com
SUMMARY:ALBERT DONADI
DESCRIPTION:ROCK
URL:https://bluemarlinami.com/live-music/albert-donadi-29/
CATEGORIES:Live Music
ATTACH;FMTTYPE=image/jpeg:https://bluemarlinami.com/wp-content/uploads/2019/08/donati.jpg
END:VEVENT
END:VCALENDAR