BEGIN:VCALENDAR
VERSION:2.0
PRODID:-//Blue Marlin Seafood - ECPv6.15.11//NONSGML v1.0//EN
CALSCALE:GREGORIAN
METHOD:PUBLISH
X-WR-CALNAME:Blue Marlin Seafood
X-ORIGINAL-URL:https://bluemarlinami.com
X-WR-CALDESC:Events for Blue Marlin Seafood
REFRESH-INTERVAL;VALUE=DURATION:PT1H
X-Robots-Tag:noindex
X-PUBLISHED-TTL:PT1H
BEGIN:VTIMEZONE
TZID:America/New_York
BEGIN:DAYLIGHT
TZOFFSETFROM:-0500
TZOFFSETTO:-0400
TZNAME:EDT
DTSTART:20220313T070000
END:DAYLIGHT
BEGIN:STANDARD
TZOFFSETFROM:-0400
TZOFFSETTO:-0500
TZNAME:EST
DTSTART:20221106T060000
END:STANDARD
BEGIN:DAYLIGHT
TZOFFSETFROM:-0500
TZOFFSETTO:-0400
TZNAME:EDT
DTSTART:20230312T070000
END:DAYLIGHT
BEGIN:STANDARD
TZOFFSETFROM:-0400
TZOFFSETTO:-0500
TZNAME:EST
DTSTART:20231105T060000
END:STANDARD
BEGIN:DAYLIGHT
TZOFFSETFROM:-0500
TZOFFSETTO:-0400
TZNAME:EDT
DTSTART:20240310T070000
END:DAYLIGHT
BEGIN:STANDARD
TZOFFSETFROM:-0400
TZOFFSETTO:-0500
TZNAME:EST
DTSTART:20241103T060000
END:STANDARD
END:VTIMEZONE
BEGIN:VEVENT
DTSTART;TZID=America/New_York:20230901T190000
DTEND;TZID=America/New_York:20230901T220000
DTSTAMP:20260419T223746
CREATED:20230808T200102Z
LAST-MODIFIED:20230808T200102Z
UID:2526-1693594800-1693605600@bluemarlinami.com
SUMMARY:SYCAMORE SHADE
DESCRIPTION:BLUEGRASS
URL:https://bluemarlinami.com/live-music/sycamore-shade-21/
CATEGORIES:Live Music
ATTACH;FMTTYPE=image/jpeg:https://bluemarlinami.com/wp-content/uploads/2022/12/20230106_180839.jpg
END:VEVENT
BEGIN:VEVENT
DTSTART;TZID=America/New_York:20230902T190000
DTEND;TZID=America/New_York:20230902T220000
DTSTAMP:20260419T223746
CREATED:20230714T203039Z
LAST-MODIFIED:20230808T202355Z
UID:2501-1693681200-1693692000@bluemarlinami.com
SUMMARY:STEVE PARADIS
DESCRIPTION:
URL:https://bluemarlinami.com/live-music/steve-paradis-2/
CATEGORIES:Live Music
ATTACH;FMTTYPE=image/jpeg:https://bluemarlinami.com/wp-content/uploads/2023/07/PARADIS.jpg
END:VEVENT
BEGIN:VEVENT
DTSTART;TZID=America/New_York:20230908T190000
DTEND;TZID=America/New_York:20230908T220000
DTSTAMP:20260419T223746
CREATED:20230714T203230Z
LAST-MODIFIED:20230808T202613Z
UID:2502-1694199600-1694210400@bluemarlinami.com
SUMMARY:JAMES ALBRITTON
DESCRIPTION:
URL:https://bluemarlinami.com/live-music/james-albritton-4/
CATEGORIES:Live Music
ATTACH;FMTTYPE=image/jpeg:https://bluemarlinami.com/wp-content/uploads/2023/07/ALBRITTON-1.jpg
END:VEVENT
BEGIN:VEVENT
DTSTART;TZID=America/New_York:20230909T190000
DTEND;TZID=America/New_York:20230909T220000
DTSTAMP:20260419T223746
CREATED:20230808T201610Z
LAST-MODIFIED:20230808T201610Z
UID:2534-1694286000-1694296800@bluemarlinami.com
SUMMARY:TREVOR BYSTROM
DESCRIPTION:
URL:https://bluemarlinami.com/live-music/trevor-bystrom-29/
CATEGORIES:Live Music
ATTACH;FMTTYPE=image/jpeg:https://bluemarlinami.com/wp-content/uploads/2019/08/TREVOR.jpg
END:VEVENT
BEGIN:VEVENT
DTSTART;TZID=America/New_York:20230915T190000
DTEND;TZID=America/New_York:20230915T220000
DTSTAMP:20260419T223746
CREATED:20230811T215247Z
LAST-MODIFIED:20230913T200206Z
UID:2553-1694804400-1694815200@bluemarlinami.com
SUMMARY:LUKE ANDREWS
DESCRIPTION:
URL:https://bluemarlinami.com/live-music/luke-andrews-2/
CATEGORIES:Live Music
ATTACH;FMTTYPE=image/jpeg:https://bluemarlinami.com/wp-content/uploads/2023/08/luke.jpg
END:VEVENT
BEGIN:VEVENT
DTSTART;TZID=America/New_York:20230916T190000
DTEND;TZID=America/New_York:20230916T220000
DTSTAMP:20260419T223746
CREATED:20230912T214339Z
LAST-MODIFIED:20230912T214339Z
UID:2561-1694890800-1694901600@bluemarlinami.com
SUMMARY:TAYLOR OPIE
DESCRIPTION:
URL:https://bluemarlinami.com/live-music/taylor-opie-27/
CATEGORIES:Live Music
ATTACH;FMTTYPE=image/webp:https://bluemarlinami.com/wp-content/uploads/2022/11/opie.webp
END:VEVENT
BEGIN:VEVENT
DTSTART;TZID=America/New_York:20230922T190000
DTEND;TZID=America/New_York:20230922T220000
DTSTAMP:20260419T223746
CREATED:20230808T202233Z
LAST-MODIFIED:20230808T202233Z
UID:2539-1695409200-1695420000@bluemarlinami.com
SUMMARY:PANAMA DRIVE
DESCRIPTION:JAZZ
URL:https://bluemarlinami.com/live-music/panama-drive-19/
CATEGORIES:Live Music
ATTACH;FMTTYPE=image/jpeg:https://bluemarlinami.com/wp-content/uploads/2021/12/panama.jpg
END:VEVENT
BEGIN:VEVENT
DTSTART;TZID=America/New_York:20230923T190000
DTEND;TZID=America/New_York:20230923T220000
DTSTAMP:20260419T223746
CREATED:20230808T201716Z
LAST-MODIFIED:20230808T201716Z
UID:2535-1695495600-1695506400@bluemarlinami.com
SUMMARY:TREVOR BYSTROM
DESCRIPTION:
URL:https://bluemarlinami.com/live-music/trevor-bystrom-30/
CATEGORIES:Live Music
ATTACH;FMTTYPE=image/jpeg:https://bluemarlinami.com/wp-content/uploads/2019/08/TREVOR.jpg
END:VEVENT
BEGIN:VEVENT
DTSTART;TZID=America/New_York:20230929T190000
DTEND;TZID=America/New_York:20230929T220000
DTSTAMP:20260419T223746
CREATED:20230808T202724Z
LAST-MODIFIED:20230808T202724Z
UID:2542-1696014000-1696024800@bluemarlinami.com
SUMMARY:JAMES ALBRITTON
DESCRIPTION:
URL:https://bluemarlinami.com/live-music/james-albritton-5/
CATEGORIES:Live Music
ATTACH;FMTTYPE=image/jpeg:https://bluemarlinami.com/wp-content/uploads/2023/07/ALBRITTON-1.jpg
END:VEVENT
BEGIN:VEVENT
DTSTART;TZID=America/New_York:20230930T190000
DTEND;TZID=America/New_York:20230930T220000
DTSTAMP:20260419T223746
CREATED:20230808T203136Z
LAST-MODIFIED:20230808T203136Z
UID:2545-1696100400-1696111200@bluemarlinami.com
SUMMARY:STEVE PARADIS
DESCRIPTION:
URL:https://bluemarlinami.com/live-music/steve-paradis-4/
CATEGORIES:Live Music
ATTACH;FMTTYPE=image/jpeg:https://bluemarlinami.com/wp-content/uploads/2023/07/PARADIS.jpg
END:VEVENT
END:VCALENDAR